BEGIN:VCALENDAR
VERSION:2.0
PRODID:-//WBTA - ECPv6.14.0//NONSGML v1.0//EN
CALSCALE:GREGORIAN
METHOD:PUBLISH
X-ORIGINAL-URL:https://wbtai.com
X-WR-CALDESC:Events for WBTA
REFRESH-INTERVAL;VALUE=DURATION:PT1H
X-Robots-Tag:noindex
X-PUBLISHED-TTL:PT1H
BEGIN:VTIMEZONE
TZID:America/New_York
BEGIN:DAYLIGHT
TZOFFSETFROM:-0500
TZOFFSETTO:-0400
TZNAME:EDT
DTSTART:20220313T070000
END:DAYLIGHT
BEGIN:STANDARD
TZOFFSETFROM:-0400
TZOFFSETTO:-0500
TZNAME:EST
DTSTART:20221106T060000
END:STANDARD
END:VTIMEZONE
BEGIN:VEVENT
DTSTART;TZID=America/New_York:20220922T180000
DTEND;TZID=America/New_York:20220922T220000
DTSTAMP:20260421T122819
CREATED:20220915T171558Z
LAST-MODIFIED:20220915T171604Z
UID:31767-1663869600-1663884000@wbtai.com
SUMMARY:Reel Discussions
DESCRIPTION:Richmond Memorial Library\, 19 Ross Street\, Batavia\, will host reel discussions\, Thursday\, September 22\, starting at 6pm. Come view the movie\, ” Death on the Nile” and join the discussion afterwards. (Call 343-9550 for more information)
URL:https://wbtai.com/calendars/reel-discussions-36/
END:VEVENT
BEGIN:VEVENT
DTSTART;TZID=America/New_York:20220922T183000
DTEND;TZID=America/New_York:20220922T200000
DTSTAMP:20260421T122819
CREATED:20220808T181902Z
LAST-MODIFIED:20220808T182505Z
UID:31297-1663871400-1663876800@wbtai.com
SUMMARY:Validating End of Life Experiences
DESCRIPTION:The public is invited to register to attend a free seminar on Validating End of Life Experiences by Dr. Christopher Kerr\, of Hospice and Palliative Care Buffalo\, Thursday\, September 22\, 6:30pm at the Batavia First Presbyterian Church\, 300 East Main Street.  as there is limited seating.
URL:https://wbtai.com/calendars/validating-end-of-life-experiences/
END:VEVENT
END:VCALENDAR