BEGIN:VCALENDAR
VERSION:2.0
PRODID:-//WBTA - ECPv6.14.0//NONSGML v1.0//EN
CALSCALE:GREGORIAN
METHOD:PUBLISH
X-WR-CALNAME:WBTA
X-ORIGINAL-URL:https://wbtai.com
X-WR-CALDESC:Events for WBTA
REFRESH-INTERVAL;VALUE=DURATION:PT1H
X-Robots-Tag:noindex
X-PUBLISHED-TTL:PT1H
BEGIN:VTIMEZONE
TZID:America/New_York
BEGIN:DAYLIGHT
TZOFFSETFROM:-0500
TZOFFSETTO:-0400
TZNAME:EDT
DTSTART:20220313T070000
END:DAYLIGHT
BEGIN:STANDARD
TZOFFSETFROM:-0400
TZOFFSETTO:-0500
TZNAME:EST
DTSTART:20221106T060000
END:STANDARD
END:VTIMEZONE
BEGIN:VEVENT
DTSTART;TZID=America/New_York:20220930T190000
DTEND;TZID=America/New_York:20220930T200000
DTSTAMP:20260421T085253
CREATED:20220907T191334Z
LAST-MODIFIED:20220907T191354Z
UID:31664-1664564400-1664568000@wbtai.com
SUMMARY:HLOM West Side Ghosts
DESCRIPTION:Holland Land Office Museum will host Connie Boyd as she shares sinister and weird documented stories of Batavia’s West Side\, Friday\, September 30\, 7pm. Call 343-4727 for reservations.
URL:https://wbtai.com/calendars/hlom-west-side-ghosts/
END:VEVENT
BEGIN:VEVENT
DTSTART;TZID=America/New_York:20220930T190000
DTEND;TZID=America/New_York:20220930T220000
DTSTAMP:20260421T085253
CREATED:20220915T173118Z
LAST-MODIFIED:20220915T173127Z
UID:31777-1664564400-1664575200@wbtai.com
SUMMARY:Batavia High School Football
DESCRIPTION:Batavia takes on Pal-Mac Friday\, September 30\, 7pm\, at VanDetta Stadium. Listen live as WBTA broadcasts the game.
URL:https://wbtai.com/calendars/batavia-high-school-football-3/
END:VEVENT
END:VCALENDAR