BEGIN:VCALENDAR
VERSION:2.0
PRODID:-//WBTA - ECPv6.14.0//NONSGML v1.0//EN
CALSCALE:GREGORIAN
METHOD:PUBLISH
X-WR-CALNAME:WBTA
X-ORIGINAL-URL:https://wbtai.com
X-WR-CALDESC:Events for WBTA
REFRESH-INTERVAL;VALUE=DURATION:PT1H
X-Robots-Tag:noindex
X-PUBLISHED-TTL:PT1H
BEGIN:VTIMEZONE
TZID:America/New_York
BEGIN:DAYLIGHT
TZOFFSETFROM:-0500
TZOFFSETTO:-0400
TZNAME:EDT
DTSTART:20220313T070000
END:DAYLIGHT
BEGIN:STANDARD
TZOFFSETFROM:-0400
TZOFFSETTO:-0500
TZNAME:EST
DTSTART:20221106T060000
END:STANDARD
END:VTIMEZONE
BEGIN:VEVENT
DTSTART;TZID=America/New_York:20221002T080000
DTEND;TZID=America/New_York:20221002T120000
DTSTAMP:20260421T123749
CREATED:20220907T185902Z
LAST-MODIFIED:20220907T185909Z
UID:31658-1664697600-1664712000@wbtai.com
SUMMARY:Run for the ACORNS
DESCRIPTION:Register on line for the 5k or 10K run for the ACORNS to be held Sunday\, October 2\, at the Genesee County Park and Forest. Run check in starts at 8am. Race kicks off at 9am.
URL:https://wbtai.com/calendars/run-for-the-acorns/
END:VEVENT
END:VCALENDAR