BEGIN:VCALENDAR
VERSION:2.0
PRODID:-//WBTA - ECPv6.14.0//NONSGML v1.0//EN
CALSCALE:GREGORIAN
METHOD:PUBLISH
X-WR-CALNAME:WBTA
X-ORIGINAL-URL:https://wbtai.com
X-WR-CALDESC:Events for WBTA
REFRESH-INTERVAL;VALUE=DURATION:PT1H
X-Robots-Tag:noindex
X-PUBLISHED-TTL:PT1H
BEGIN:VTIMEZONE
TZID:America/New_York
BEGIN:DAYLIGHT
TZOFFSETFROM:-0500
TZOFFSETTO:-0400
TZNAME:EDT
DTSTART:20220313T070000
END:DAYLIGHT
BEGIN:STANDARD
TZOFFSETFROM:-0400
TZOFFSETTO:-0500
TZNAME:EST
DTSTART:20221106T060000
END:STANDARD
END:VTIMEZONE
BEGIN:VEVENT
DTSTART;TZID=America/New_York:20221011T100000
DTEND;TZID=America/New_York:20221011T130000
DTSTAMP:20260421T085241
CREATED:20220922T151907Z
LAST-MODIFIED:20220922T151928Z
UID:31874-1665482400-1665493200@wbtai.com
SUMMARY:Civil Service Job Fair
DESCRIPTION:Genesee County Career Center will host a civil service job fair\, Tuesday\, October 11\, 10am to 1pm at 587 East Main Street\, Batavia.
URL:https://wbtai.com/calendars/civil-service-job-fair/
END:VEVENT
BEGIN:VEVENT
DTSTART;TZID=America/New_York:20221011T190000
DTEND;TZID=America/New_York:20221011T200000
DTSTAMP:20260421T085241
CREATED:20220929T150513Z
LAST-MODIFIED:20220929T150518Z
UID:31955-1665514800-1665518400@wbtai.com
SUMMARY:Batavia Artists
DESCRIPTION:Batavia Society of Artists will host Julie Lambert\, Tuesday\, October 11\, 7pm\, at Go Art\, in a demonstration on how she creates handmade paper.
URL:https://wbtai.com/calendars/batavia-artists-3/
END:VEVENT
END:VCALENDAR