BEGIN:VCALENDAR
VERSION:2.0
PRODID:-//WBTA - ECPv6.14.0//NONSGML v1.0//EN
CALSCALE:GREGORIAN
METHOD:PUBLISH
X-WR-CALNAME:WBTA
X-ORIGINAL-URL:https://wbtai.com
X-WR-CALDESC:Events for WBTA
REFRESH-INTERVAL;VALUE=DURATION:PT1H
X-Robots-Tag:noindex
X-PUBLISHED-TTL:PT1H
BEGIN:VTIMEZONE
TZID:America/New_York
BEGIN:DAYLIGHT
TZOFFSETFROM:-0500
TZOFFSETTO:-0400
TZNAME:EDT
DTSTART:20220313T070000
END:DAYLIGHT
BEGIN:STANDARD
TZOFFSETFROM:-0400
TZOFFSETTO:-0500
TZNAME:EST
DTSTART:20221106T060000
END:STANDARD
END:VTIMEZONE
BEGIN:VEVENT
DTSTART;TZID=America/New_York:20221014T190000
DTEND;TZID=America/New_York:20221014T200000
DTSTAMP:20260421T085257
CREATED:20220907T191923Z
LAST-MODIFIED:20220907T192040Z
UID:31668-1665774000-1665777600@wbtai.com
SUMMARY:West Side Ghost Walks
DESCRIPTION:Holland Land Office Museum will host Connie Boyd as she walks you through Batavia’s West Side with tales of murders\, hangings\, robbery\, and eerie happenings\, Fridays in October\, 7pm. Call 343-4727 for reservations.
URL:https://wbtai.com/calendars/west-side-ghost-walks-3/
END:VEVENT
BEGIN:VEVENT
DTSTART;TZID=America/New_York:20221014T193000
DTEND;TZID=America/New_York:20221014T210000
DTSTAMP:20260421T085257
CREATED:20220915T173833Z
LAST-MODIFIED:20220915T173850Z
UID:31783-1665775800-1665781200@wbtai.com
SUMMARY:Batavia High School Football
DESCRIPTION:WBTA will carry live the Batavia High School away football game\, Friday\, October 14\, 7:30pm.
URL:https://wbtai.com/calendars/batavia-high-school-football-4/
END:VEVENT
END:VCALENDAR