BEGIN:VCALENDAR
VERSION:2.0
PRODID:-//WBTA - ECPv6.14.0//NONSGML v1.0//EN
CALSCALE:GREGORIAN
METHOD:PUBLISH
X-ORIGINAL-URL:https://wbtai.com
X-WR-CALDESC:Events for WBTA
REFRESH-INTERVAL;VALUE=DURATION:PT1H
X-Robots-Tag:noindex
X-PUBLISHED-TTL:PT1H
BEGIN:VTIMEZONE
TZID:America/New_York
BEGIN:DAYLIGHT
TZOFFSETFROM:-0500
TZOFFSETTO:-0400
TZNAME:EDT
DTSTART:20220313T070000
END:DAYLIGHT
BEGIN:STANDARD
TZOFFSETFROM:-0400
TZOFFSETTO:-0500
TZNAME:EST
DTSTART:20221106T060000
END:STANDARD
END:VTIMEZONE
BEGIN:VEVENT
DTSTART;TZID=America/New_York:20221021T193000
DTEND;TZID=America/New_York:20221021T220000
DTSTAMP:20260421T085934
CREATED:20220915T174411Z
LAST-MODIFIED:20220915T174420Z
UID:31787-1666380600-1666389600@wbtai.com
SUMMARY:LeRoy High School Football
DESCRIPTION:LeRoy High school Football takes on Letchworth\, Warsaw\, Perry\, Friday\, October 21\, 7:30pm. Listen to all the action live on WBTA or streaming on WBTAi.com.
URL:https://wbtai.com/calendars/leroy-high-school-football-5/
END:VEVENT
END:VCALENDAR