BEGIN:VCALENDAR
VERSION:2.0
PRODID:-//WBTA - ECPv6.14.0//NONSGML v1.0//EN
CALSCALE:GREGORIAN
METHOD:PUBLISH
X-WR-CALNAME:WBTA
X-ORIGINAL-URL:https://wbtai.com
X-WR-CALDESC:Events for WBTA
REFRESH-INTERVAL;VALUE=DURATION:PT1H
X-Robots-Tag:noindex
X-PUBLISHED-TTL:PT1H
BEGIN:VTIMEZONE
TZID:America/New_York
BEGIN:DAYLIGHT
TZOFFSETFROM:-0500
TZOFFSETTO:-0400
TZNAME:EDT
DTSTART:20220313T070000
END:DAYLIGHT
BEGIN:STANDARD
TZOFFSETFROM:-0400
TZOFFSETTO:-0500
TZNAME:EST
DTSTART:20221106T060000
END:STANDARD
END:VTIMEZONE
BEGIN:VEVENT
DTSTART;TZID=America/New_York:20221022T130000
DTEND;TZID=America/New_York:20221022T160000
DTSTAMP:20260421T085023
CREATED:20220915T174627Z
LAST-MODIFIED:20220915T174634Z
UID:31789-1666443600-1666454400@wbtai.com
SUMMARY:OAE at Notre Dame
DESCRIPTION:Regular season high school football coverage raps up with the live broadcast of Oakfield Alabama Elba at Notre Dame game Saturday\, October 22\, 1pm
URL:https://wbtai.com/calendars/oae-at-notre-dame/
END:VEVENT
BEGIN:VEVENT
DTSTART;TZID=America/New_York:20221022T160000
DTEND;TZID=America/New_York:20221022T183000
DTSTAMP:20260421T085023
CREATED:20220929T145908Z
LAST-MODIFIED:20220929T145918Z
UID:31951-1666454400-1666463400@wbtai.com
SUMMARY:Ham & Scalloped Potato Dinner
DESCRIPTION:Elba United Methodist Church\, Chapel Street\, will hold a ham and scalloped potato dinner\, Saturday\, October 22\, 4pm to 6:60pm. Eat in or take out.
URL:https://wbtai.com/calendars/ham-scalloped-potato-dinner-2/
END:VEVENT
BEGIN:VEVENT
DTSTART;TZID=America/New_York:20221022T190000
DTEND;TZID=America/New_York:20221022T203000
DTSTAMP:20260421T085023
CREATED:20220907T191024Z
LAST-MODIFIED:20220907T191030Z
UID:31662-1666465200-1666470600@wbtai.com
SUMMARY:Ghost Walk
DESCRIPTION:Batavia Cemetery Association will host their annual Halloween Candlelight Ghostwalk Saturday\, October 22\, on Harvester Avenue\, Batavia.  Tours begin at 7pm and run every 15minutes until 8:30pm. Reservations are required. Call 943-5662.
URL:https://wbtai.com/calendars/ghost-walk/
END:VEVENT
END:VCALENDAR