BEGIN:VCALENDAR
VERSION:2.0
PRODID:-//WBTA - ECPv6.14.0//NONSGML v1.0//EN
CALSCALE:GREGORIAN
METHOD:PUBLISH
X-WR-CALNAME:WBTA
X-ORIGINAL-URL:https://wbtai.com
X-WR-CALDESC:Events for WBTA
REFRESH-INTERVAL;VALUE=DURATION:PT1H
X-Robots-Tag:noindex
X-PUBLISHED-TTL:PT1H
BEGIN:VTIMEZONE
TZID:America/New_York
BEGIN:DAYLIGHT
TZOFFSETFROM:-0500
TZOFFSETTO:-0400
TZNAME:EDT
DTSTART:20220313T070000
END:DAYLIGHT
BEGIN:STANDARD
TZOFFSETFROM:-0400
TZOFFSETTO:-0500
TZNAME:EST
DTSTART:20221106T060000
END:STANDARD
END:VTIMEZONE
BEGIN:VEVENT
DTSTART;TZID=America/New_York:20221023T080000
DTEND;TZID=America/New_York:20221023T130000
DTSTAMP:20260421T085248
CREATED:20221012T195808Z
LAST-MODIFIED:20221012T195814Z
UID:32156-1666512000-1666530000@wbtai.com
SUMMARY:Pancake Breakfast
DESCRIPTION:Stafford Volunteer Fire Dept. will host an all you can eat pancake breakfast\, Sunday\, October 23\, 8am to 1pm\,. Kids 5 and under are free. Eat in or take out.
URL:https://wbtai.com/calendars/pancake-breakfast-7/
END:VEVENT
END:VCALENDAR