BEGIN:VCALENDAR
VERSION:2.0
PRODID:-//WBTA - ECPv6.14.0//NONSGML v1.0//EN
CALSCALE:GREGORIAN
METHOD:PUBLISH
X-WR-CALNAME:WBTA
X-ORIGINAL-URL:https://wbtai.com
X-WR-CALDESC:Events for WBTA
REFRESH-INTERVAL;VALUE=DURATION:PT1H
X-Robots-Tag:noindex
X-PUBLISHED-TTL:PT1H
BEGIN:VTIMEZONE
TZID:America/New_York
BEGIN:DAYLIGHT
TZOFFSETFROM:-0500
TZOFFSETTO:-0400
TZNAME:EDT
DTSTART:20220313T070000
END:DAYLIGHT
BEGIN:STANDARD
TZOFFSETFROM:-0400
TZOFFSETTO:-0500
TZNAME:EST
DTSTART:20221106T060000
END:STANDARD
END:VTIMEZONE
BEGIN:VEVENT
DTSTART;TZID=America/New_York:20221030T080000
DTEND;TZID=America/New_York:20221030T123000
DTSTAMP:20260421T085019
CREATED:20221013T174128Z
LAST-MODIFIED:20221013T174145Z
UID:32172-1667116800-1667133000@wbtai.com
SUMMARY:Pancake Breakfast
DESCRIPTION:Knights of Columbus Council # 2240 will host a buttermilk and Buckwheat pancake breakfast\, Sunday\, October 30\, 8am to 12:30pm in St. Vincent’s Auditorium\, 72 East Avenue\, Attica. No charge for children under 5 years of age.
URL:https://wbtai.com/calendars/pancake-breakfast-8/
END:VEVENT
END:VCALENDAR