BEGIN:VCALENDAR
VERSION:2.0
PRODID:-//WBTA - ECPv6.14.0//NONSGML v1.0//EN
CALSCALE:GREGORIAN
METHOD:PUBLISH
X-WR-CALNAME:WBTA
X-ORIGINAL-URL:https://wbtai.com
X-WR-CALDESC:Events for WBTA
REFRESH-INTERVAL;VALUE=DURATION:PT1H
X-Robots-Tag:noindex
X-PUBLISHED-TTL:PT1H
BEGIN:VTIMEZONE
TZID:America/New_York
BEGIN:DAYLIGHT
TZOFFSETFROM:-0500
TZOFFSETTO:-0400
TZNAME:EDT
DTSTART:20220313T070000
END:DAYLIGHT
BEGIN:STANDARD
TZOFFSETFROM:-0400
TZOFFSETTO:-0500
TZNAME:EST
DTSTART:20221106T060000
END:STANDARD
END:VTIMEZONE
BEGIN:VEVENT
DTSTART;TZID=America/New_York:20221105T090000
DTEND;TZID=America/New_York:20221105T150000
DTSTAMP:20260421T085241
CREATED:20221103T150058Z
LAST-MODIFIED:20221103T150105Z
UID:32423-1667638800-1667660400@wbtai.com
SUMMARY:Craft & Vendor Show
DESCRIPTION:East Bethany Presbyterian Church\, 5735 Ellicott Street Road\, will hold a holiday happenings craft and vendor show Saturday\, November 5\, 9am to 3pm. Bake sale and food also available.
URL:https://wbtai.com/calendars/craft-vendor-show/
END:VEVENT
BEGIN:VEVENT
DTSTART;TZID=America/New_York:20221105T120000
DTEND;TZID=America/New_York:20221105T150000
DTSTAMP:20260421T085241
CREATED:20221010T155523Z
LAST-MODIFIED:20221010T155530Z
UID:32122-1667649600-1667660400@wbtai.com
SUMMARY:Crossroads House Fundraiser
DESCRIPTION:Crossroads House annual Fall Fundraiser will be held Saturday\, November 5\, noon to 3pm at the First Presbyterian Church\, 300 East Main Street\, Batavia. Lunch available.
URL:https://wbtai.com/calendars/crossroads-house-fundraiser/
END:VEVENT
END:VCALENDAR