BEGIN:VCALENDAR
VERSION:2.0
PRODID:-//WBTA - ECPv6.14.0//NONSGML v1.0//EN
CALSCALE:GREGORIAN
METHOD:PUBLISH
X-WR-CALNAME:WBTA
X-ORIGINAL-URL:https://wbtai.com
X-WR-CALDESC:Events for WBTA
REFRESH-INTERVAL;VALUE=DURATION:PT1H
X-Robots-Tag:noindex
X-PUBLISHED-TTL:PT1H
BEGIN:VTIMEZONE
TZID:America/New_York
BEGIN:DAYLIGHT
TZOFFSETFROM:-0500
TZOFFSETTO:-0400
TZNAME:EDT
DTSTART:20220313T070000
END:DAYLIGHT
BEGIN:STANDARD
TZOFFSETFROM:-0400
TZOFFSETTO:-0500
TZNAME:EST
DTSTART:20221106T060000
END:STANDARD
END:VTIMEZONE
BEGIN:VEVENT
DTSTART;TZID=America/New_York:20221107T080000
DTEND;TZID=America/New_York:20221107T170000
DTSTAMP:20260421T123513
CREATED:20221018T163720Z
LAST-MODIFIED:20221018T163737Z
UID:32210-1667808000-1667840400@wbtai.com
SUMMARY:GCA Volunteer Appreciation
DESCRIPTION:Genesee Cancer Assistance wants to celebrate its volunteers! Tickets available thru Monday\, November 7\, for the dinner to be held at Batavia Downs\, Saturday\, November 19. Order tickets online or call  345-0417.
URL:https://wbtai.com/calendars/gca-volunteer-appreciation/
END:VEVENT
END:VCALENDAR