BEGIN:VCALENDAR
VERSION:2.0
PRODID:-//WBTA - ECPv6.14.0//NONSGML v1.0//EN
CALSCALE:GREGORIAN
METHOD:PUBLISH
X-ORIGINAL-URL:https://wbtai.com
X-WR-CALDESC:Events for WBTA
REFRESH-INTERVAL;VALUE=DURATION:PT1H
X-Robots-Tag:noindex
X-PUBLISHED-TTL:PT1H
BEGIN:VTIMEZONE
TZID:America/New_York
BEGIN:DAYLIGHT
TZOFFSETFROM:-0500
TZOFFSETTO:-0400
TZNAME:EDT
DTSTART:20220313T070000
END:DAYLIGHT
BEGIN:STANDARD
TZOFFSETFROM:-0400
TZOFFSETTO:-0500
TZNAME:EST
DTSTART:20221106T060000
END:STANDARD
END:VTIMEZONE
BEGIN:VEVENT
DTSTART;TZID=America/New_York:20221118T090000
DTEND;TZID=America/New_York:20221119T180000
DTSTAMP:20260421T124541
CREATED:20221026T155043Z
LAST-MODIFIED:20221026T155050Z
UID:32316-1668762000-1668880800@wbtai.com
SUMMARY:Crossroads House Sale
DESCRIPTION:Crossroads House annual Christmas sale will be held Friday and Saturday\, November 18\, and 19th\, at the Batavia First Presbyterian Church Hall\, 300 East Main Street\, Batavia. Friday hours are 9am to 6pm and Saturday hours are from 9am to 1pm.
URL:https://wbtai.com/calendars/crossroads-house-sale/
END:VEVENT
BEGIN:VEVENT
DTSTART;TZID=America/New_York:20221118T160000
DTEND;TZID=America/New_York:20221119T133000
DTSTAMP:20260421T124541
CREATED:20221003T170325Z
LAST-MODIFIED:20221116T193351Z
UID:32014-1668787200-1668864600@wbtai.com
SUMMARY:PostPoned ! Arc Glow Chili & Chowder Fest
DESCRIPTION:Due to weather forecasted\, event has been postponed to December 16 and 17 – same time and place. Arc Glow\, 38 Woodrow Road\, Batavia\, will host their annual Chili and Chowder Fest\, Friday\, xxxxxxxDecember 16\,  4pm to 6pm and on Saturday\, xxxxDecember 17\,  10am to 1:30pm. Call Tracey Jones at 343-1123 ex. 1735 for more information or sponsorships.
URL:https://wbtai.com/calendars/arc-glow-chili-chowder-fest-2/
END:VEVENT
BEGIN:VEVENT
DTSTART;TZID=America/New_York:20221118T160000
DTEND;TZID=America/New_York:20221119T160000
DTSTAMP:20260421T124541
CREATED:20221103T151353Z
LAST-MODIFIED:20221103T151642Z
UID:32429-1668787200-1668873600@wbtai.com
SUMMARY:Thanksgiving pie sale
DESCRIPTION:Pumpkin and apple pies may be pre-ordered for the Thanksgiving pie sale at St. James Episcopal Church\, Batavia. Pies will be available from 4pm to 6pm on Friday\, November 18 or from 10am to noon on Saturday\, November 19th. Call 343-6802.
URL:https://wbtai.com/calendars/thanksgiving-pie-sale/
END:VEVENT
BEGIN:VEVENT
DTSTART;TZID=America/New_York:20221119T160000
DTEND;TZID=America/New_York:20221119T170000
DTSTAMP:20260421T124541
CREATED:20221111T170702Z
LAST-MODIFIED:20221111T170708Z
UID:32548-1668873600-1668877200@wbtai.com
SUMMARY:Genesee Valley Wind Ensemble
DESCRIPTION:Genesee Valley Wind Ensemble will perform Saturday\, November 19\, 4pm\, at the Oakfield Alabama auditorium. Children 5 and younger are free. Tickets available at the door.
URL:https://wbtai.com/calendars/genesee-valley-wind-ensemble-2/
END:VEVENT
BEGIN:VEVENT
DTSTART;TZID=America/New_York:20221119T170000
DTEND;TZID=America/New_York:20221119T210000
DTSTAMP:20260421T124541
CREATED:20220802T182220Z
LAST-MODIFIED:20220802T182226Z
UID:31216-1668877200-1668891600@wbtai.com
SUMMARY:Encore
DESCRIPTION:Encore\, A Night in Casablanca\, festuring Hanna PK and the Blue Hearts\, will be held Saturday\, November 19\, 5pm to 9pm\, in the William W. Stuart Forum\, GCC\, Batavia Campus. On line tickets available now.
URL:https://wbtai.com/calendars/encore-3/
END:VEVENT
END:VCALENDAR