BEGIN:VCALENDAR
VERSION:2.0
PRODID:-//WBTA - ECPv6.14.0//NONSGML v1.0//EN
CALSCALE:GREGORIAN
METHOD:PUBLISH
X-ORIGINAL-URL:https://wbtai.com
X-WR-CALDESC:Events for WBTA
REFRESH-INTERVAL;VALUE=DURATION:PT1H
X-Robots-Tag:noindex
X-PUBLISHED-TTL:PT1H
BEGIN:VTIMEZONE
TZID:America/New_York
BEGIN:DAYLIGHT
TZOFFSETFROM:-0500
TZOFFSETTO:-0400
TZNAME:EDT
DTSTART:20220313T070000
END:DAYLIGHT
BEGIN:STANDARD
TZOFFSETFROM:-0400
TZOFFSETTO:-0500
TZNAME:EST
DTSTART:20221106T060000
END:STANDARD
END:VTIMEZONE
BEGIN:VEVENT
DTSTART;TZID=America/New_York:20221216T160000
DTEND;TZID=America/New_York:20221217T160000
DTSTAMP:20260421T161041
CREATED:20221128T162358Z
LAST-MODIFIED:20221128T162410Z
UID:32726-1671206400-1671292800@wbtai.com
SUMMARY:ArcGlow Chili and Chowder Fest
DESCRIPTION:The rescheduled ArcGlow Chili and Chowder Fest will be held Friday and Saturday\, December 16 and 17\, at the Woodrow Road Community Center. Friday from 4pm to 6pm and Saturday from 10am to 1pm.
URL:https://wbtai.com/calendars/arcglow-chili-and-chowder-fest/
END:VEVENT
END:VCALENDAR