BEGIN:VCALENDAR
VERSION:2.0
PRODID:-//WBTA - ECPv6.14.0//NONSGML v1.0//EN
CALSCALE:GREGORIAN
METHOD:PUBLISH
X-WR-CALNAME:WBTA
X-ORIGINAL-URL:https://wbtai.com
X-WR-CALDESC:Events for WBTA
REFRESH-INTERVAL;VALUE=DURATION:PT1H
X-Robots-Tag:noindex
X-PUBLISHED-TTL:PT1H
BEGIN:VTIMEZONE
TZID:America/New_York
BEGIN:DAYLIGHT
TZOFFSETFROM:-0500
TZOFFSETTO:-0400
TZNAME:EDT
DTSTART:20230312T070000
END:DAYLIGHT
BEGIN:STANDARD
TZOFFSETFROM:-0400
TZOFFSETTO:-0500
TZNAME:EST
DTSTART:20231105T060000
END:STANDARD
END:VTIMEZONE
BEGIN:VEVENT
DTSTART;TZID=America/New_York:20230126T180000
DTEND;TZID=America/New_York:20230126T220000
DTSTAMP:20260421T235233
CREATED:20230110T193719Z
LAST-MODIFIED:20230110T193750Z
UID:33317-1674756000-1674770400@wbtai.com
SUMMARY:Reel Discussions
DESCRIPTION:Come view the movie\, ” I am Woman”\, and join in discussions afterward\, Thursday\, January 26\, 6pm. at the Richmond Memorial Library.
URL:https://wbtai.com/calendars/reel-discussions-37/
END:VEVENT
END:VCALENDAR