BEGIN:VCALENDAR
VERSION:2.0
PRODID:-//WBTA - ECPv6.14.0//NONSGML v1.0//EN
CALSCALE:GREGORIAN
METHOD:PUBLISH
X-WR-CALNAME:WBTA
X-ORIGINAL-URL:https://wbtai.com
X-WR-CALDESC:Events for WBTA
REFRESH-INTERVAL;VALUE=DURATION:PT1H
X-Robots-Tag:noindex
X-PUBLISHED-TTL:PT1H
BEGIN:VTIMEZONE
TZID:America/New_York
BEGIN:DAYLIGHT
TZOFFSETFROM:-0500
TZOFFSETTO:-0400
TZNAME:EDT
DTSTART:20230312T070000
END:DAYLIGHT
BEGIN:STANDARD
TZOFFSETFROM:-0400
TZOFFSETTO:-0500
TZNAME:EST
DTSTART:20231105T060000
END:STANDARD
END:VTIMEZONE
BEGIN:VEVENT
DTSTART;TZID=America/New_York:20230324T090000
DTEND;TZID=America/New_York:20230324T120000
DTSTAMP:20260422T111854
CREATED:20230316T174224Z
LAST-MODIFIED:20230316T181621Z
UID:34338-1679648400-1679659200@wbtai.com
SUMMARY:Tree an Berry Pruning
DESCRIPTION:Wyoming County Cornell Cooperative extension will due a program on backyard tree fruit and berry pruning demonstration and discussion\, Saturday\, March 25\, 9am to noon. Pre-registration is required for this outdoor workshop. Register online or call Don at 786-2251 ext. 113.
URL:https://wbtai.com/calendars/tree-an-berry-pruning/
END:VEVENT
END:VCALENDAR