BEGIN:VCALENDAR
VERSION:2.0
PRODID:-//WBTA - ECPv6.14.0//NONSGML v1.0//EN
CALSCALE:GREGORIAN
METHOD:PUBLISH
X-ORIGINAL-URL:https://wbtai.com
X-WR-CALDESC:Events for WBTA
REFRESH-INTERVAL;VALUE=DURATION:PT1H
X-Robots-Tag:noindex
X-PUBLISHED-TTL:PT1H
BEGIN:VTIMEZONE
TZID:America/New_York
BEGIN:DAYLIGHT
TZOFFSETFROM:-0500
TZOFFSETTO:-0400
TZNAME:EDT
DTSTART:20230312T070000
END:DAYLIGHT
BEGIN:STANDARD
TZOFFSETFROM:-0400
TZOFFSETTO:-0500
TZNAME:EST
DTSTART:20231105T060000
END:STANDARD
END:VTIMEZONE
BEGIN:VEVENT
DTSTART;TZID=America/New_York:20230401T110000
DTEND;TZID=America/New_York:20230401T130000
DTSTAMP:20260422T073104
CREATED:20230328T145437Z
LAST-MODIFIED:20230331T155321Z
UID:34514-1680346800-1680354000@wbtai.com
SUMMARY:Easter Egg Hunt
DESCRIPTION:Batavia First United Methodist Church\, Lewiston Road\, will host an Easter Egg Hunt\, on Saturday April 1. Due to weather forecast this event has been moved to 11am to 1pm.
URL:https://wbtai.com/calendars/easter-egg-hunt-3/
END:VEVENT
BEGIN:VEVENT
DTSTART;TZID=America/New_York:20230401T130000
DTEND;TZID=America/New_York:20230401T140000
DTSTAMP:20260422T073104
CREATED:20230316T173217Z
LAST-MODIFIED:20230316T173224Z
UID:34332-1680354000-1680357600@wbtai.com
SUMMARY:The Royal Pitches
DESCRIPTION:Richmond Memorial Library\, Ross Street\, Batavia\, will host a free concert featuring\, “The Royal Pitches”\, an all female University at Buffalo acapella group\, on Saturday\, April 1\, 1pm.
URL:https://wbtai.com/calendars/the-royal-pitches/
END:VEVENT
BEGIN:VEVENT
DTSTART;TZID=America/New_York:20230401T190000
DTEND;TZID=America/New_York:20230401T210000
DTSTAMP:20260422T073104
CREATED:20230307T170225Z
LAST-MODIFIED:20230307T170243Z
UID:34175-1680375600-1680382800@wbtai.com
SUMMARY:GSO Concert
DESCRIPTION:The Genesee Symphony Orchestra will perform a Brahms Journey\, Part 2\, in concert Saturday\, April 1\, in the Elba Central School Auditorium\, 7pm. Tickets available locally or at the door.
URL:https://wbtai.com/calendars/gso-concert-10/
END:VEVENT
END:VCALENDAR