BEGIN:VCALENDAR
VERSION:2.0
PRODID:-//WBTA - ECPv6.14.0//NONSGML v1.0//EN
CALSCALE:GREGORIAN
METHOD:PUBLISH
X-WR-CALNAME:WBTA
X-ORIGINAL-URL:https://wbtai.com
X-WR-CALDESC:Events for WBTA
REFRESH-INTERVAL;VALUE=DURATION:PT1H
X-Robots-Tag:noindex
X-PUBLISHED-TTL:PT1H
BEGIN:VTIMEZONE
TZID:America/New_York
BEGIN:DAYLIGHT
TZOFFSETFROM:-0500
TZOFFSETTO:-0400
TZNAME:EDT
DTSTART:20230312T070000
END:DAYLIGHT
BEGIN:STANDARD
TZOFFSETFROM:-0400
TZOFFSETTO:-0500
TZNAME:EST
DTSTART:20231105T060000
END:STANDARD
END:VTIMEZONE
BEGIN:VEVENT
DTSTART;TZID=America/New_York:20230422T160000
DTEND;TZID=America/New_York:20230422T180000
DTSTAMP:20260422T072434
CREATED:20230316T172726Z
LAST-MODIFIED:20230316T172733Z
UID:34328-1682179200-1682186400@wbtai.com
SUMMARY:Chicken BBQ
DESCRIPTION:Covington Methodist Church\, Simmons Road\, Perry\, will host a chicken bbq with homemade pie\, Saturday\, April 22\, starting at 4pm.
URL:https://wbtai.com/calendars/chicken-bbq-45/
END:VEVENT
END:VCALENDAR