BEGIN:VCALENDAR
VERSION:2.0
PRODID:-//WBTA - ECPv6.14.0//NONSGML v1.0//EN
CALSCALE:GREGORIAN
METHOD:PUBLISH
X-ORIGINAL-URL:https://wbtai.com
X-WR-CALDESC:Events for WBTA
REFRESH-INTERVAL;VALUE=DURATION:PT1H
X-Robots-Tag:noindex
X-PUBLISHED-TTL:PT1H
BEGIN:VTIMEZONE
TZID:America/New_York
BEGIN:DAYLIGHT
TZOFFSETFROM:-0500
TZOFFSETTO:-0400
TZNAME:EDT
DTSTART:20230312T070000
END:DAYLIGHT
BEGIN:STANDARD
TZOFFSETFROM:-0400
TZOFFSETTO:-0500
TZNAME:EST
DTSTART:20231105T060000
END:STANDARD
END:VTIMEZONE
BEGIN:VEVENT
DTSTART;TZID=America/New_York:20230429T110000
DTEND;TZID=America/New_York:20230429T130000
DTSTAMP:20260422T073017
CREATED:20230425T181128Z
LAST-MODIFIED:20230425T181139Z
UID:34922-1682766000-1682773200@wbtai.com
SUMMARY:Healthy Kids Day
DESCRIPTION:Saturday\, April 29th\, 11am to 1pm\, Healthy Kids Day at the GLOW YMCA. Register by calling 344-1664.
URL:https://wbtai.com/calendars/healthy-kids-day/
END:VEVENT
BEGIN:VEVENT
DTSTART;TZID=America/New_York:20230429T160000
DTEND;TZID=America/New_York:20230429T170000
DTSTAMP:20260422T073017
CREATED:20230413T131803Z
LAST-MODIFIED:20230413T131810Z
UID:34734-1682784000-1682787600@wbtai.com
SUMMARY:Gen. Valley Wind Ensemble
DESCRIPTION:Genesee Valley Wind Ensemble will perform Saturday\, April 29\, 4pm\, in the Alexander Middle-High School. Children age 5 and under are free. Tickets available at the door.
URL:https://wbtai.com/calendars/gen-valley-wind-ensemble-3/
END:VEVENT
END:VCALENDAR