BEGIN:VCALENDAR
VERSION:2.0
PRODID:-//WBTA - ECPv6.14.0//NONSGML v1.0//EN
CALSCALE:GREGORIAN
METHOD:PUBLISH
X-WR-CALNAME:WBTA
X-ORIGINAL-URL:https://wbtai.com
X-WR-CALDESC:Events for WBTA
REFRESH-INTERVAL;VALUE=DURATION:PT1H
X-Robots-Tag:noindex
X-PUBLISHED-TTL:PT1H
BEGIN:VTIMEZONE
TZID:America/New_York
BEGIN:DAYLIGHT
TZOFFSETFROM:-0500
TZOFFSETTO:-0400
TZNAME:EDT
DTSTART:20230312T070000
END:DAYLIGHT
BEGIN:STANDARD
TZOFFSETFROM:-0400
TZOFFSETTO:-0500
TZNAME:EST
DTSTART:20231105T060000
END:STANDARD
END:VTIMEZONE
BEGIN:VEVENT
DTSTART;TZID=America/New_York:20230720T110000
DTEND;TZID=America/New_York:20230720T190000
DTSTAMP:20260421T194228
CREATED:20230515T180608Z
LAST-MODIFIED:20230515T180614Z
UID:35343-1689850800-1689879600@wbtai.com
SUMMARY:Gen. Co. Chamber of Commerce Golf & Bocce
DESCRIPTION:The 51st annual Genesee County Chamber of Commerce Golf and Bocce Tournament will be held Thursday\, July 20\, at the Stafford Country Club\, starting at 11am. Contact the Chamber for more information and registration.
URL:https://wbtai.com/calendars/gen-co-chamber-of-commerce-golf-bocce/
END:VEVENT
END:VCALENDAR