BEGIN:VCALENDAR
VERSION:2.0
PRODID:-//WBTA - ECPv6.14.0//NONSGML v1.0//EN
CALSCALE:GREGORIAN
METHOD:PUBLISH
X-ORIGINAL-URL:https://wbtai.com
X-WR-CALDESC:Events for WBTA
REFRESH-INTERVAL;VALUE=DURATION:PT1H
X-Robots-Tag:noindex
X-PUBLISHED-TTL:PT1H
BEGIN:VTIMEZONE
TZID:America/New_York
BEGIN:DAYLIGHT
TZOFFSETFROM:-0500
TZOFFSETTO:-0400
TZNAME:EDT
DTSTART:20230312T070000
END:DAYLIGHT
BEGIN:STANDARD
TZOFFSETFROM:-0400
TZOFFSETTO:-0500
TZNAME:EST
DTSTART:20231105T060000
END:STANDARD
END:VTIMEZONE
BEGIN:VEVENT
DTSTART;TZID=America/New_York:20230812T110000
DTEND;TZID=America/New_York:20230812T230000
DTSTAMP:20260421T152537
CREATED:20230731T155155Z
LAST-MODIFIED:20230731T155155Z
UID:37364-1691838000-1691881200@wbtai.com
SUMMARY:Walk of Hope
DESCRIPTION:Saturday\, August 12\, 2023 11am-11pm at the LeRoy High School track come  to celebrate\, honor and remember with the Genesee Cancer Assistance for a night of themed laps\, games\, snacks\, and music.  Tent set up at 10am.  Opening ceremony 11am.  Luminaria lighting with “silent lap” 9:30pm.  Closing ceremony 11pm.  Visit runsignup.com/Race/NY/LeRoy/WalkofHope18.com
URL:https://wbtai.com/calendars/walk-of-hope-3/
END:VEVENT
END:VCALENDAR