BEGIN:VCALENDAR
VERSION:2.0
PRODID:-//WBTA - ECPv6.14.0//NONSGML v1.0//EN
CALSCALE:GREGORIAN
METHOD:PUBLISH
X-WR-CALNAME:WBTA
X-ORIGINAL-URL:https://wbtai.com
X-WR-CALDESC:Events for WBTA
REFRESH-INTERVAL;VALUE=DURATION:PT1H
X-Robots-Tag:noindex
X-PUBLISHED-TTL:PT1H
BEGIN:VTIMEZONE
TZID:America/New_York
BEGIN:DAYLIGHT
TZOFFSETFROM:-0500
TZOFFSETTO:-0400
TZNAME:EDT
DTSTART:20230312T070000
END:DAYLIGHT
BEGIN:STANDARD
TZOFFSETFROM:-0400
TZOFFSETTO:-0500
TZNAME:EST
DTSTART:20231105T060000
END:STANDARD
END:VTIMEZONE
BEGIN:VEVENT
DTSTART;TZID=America/New_York:20230822T170000
DTEND;TZID=America/New_York:20230822T200000
DTSTAMP:20260421T152105
CREATED:20230731T155608Z
LAST-MODIFIED:20230731T155608Z
UID:37370-1692723600-1692734400@wbtai.com
SUMMARY:LeRoy Rotary Back to School
DESCRIPTION:Backpack food collection and Knights Closet personal care items event in the Sav-A-Lot parting lot in LeRoy Tuesday\, August 22nd 5pm-8pm.  Donated items that can go home in a backpack and moneys are appreciated to help.  Go to www.leroyrotary.org for more info.
URL:https://wbtai.com/calendars/leroy-rotary-back-to-school/
END:VEVENT
END:VCALENDAR