BEGIN:VCALENDAR
VERSION:2.0
PRODID:-//WBTA - ECPv6.14.0//NONSGML v1.0//EN
CALSCALE:GREGORIAN
METHOD:PUBLISH
X-ORIGINAL-URL:https://wbtai.com
X-WR-CALDESC:Events for WBTA
REFRESH-INTERVAL;VALUE=DURATION:PT1H
X-Robots-Tag:noindex
X-PUBLISHED-TTL:PT1H
BEGIN:VTIMEZONE
TZID:America/New_York
BEGIN:DAYLIGHT
TZOFFSETFROM:-0500
TZOFFSETTO:-0400
TZNAME:EDT
DTSTART:20230312T070000
END:DAYLIGHT
BEGIN:STANDARD
TZOFFSETFROM:-0400
TZOFFSETTO:-0500
TZNAME:EST
DTSTART:20231105T060000
END:STANDARD
END:VTIMEZONE
BEGIN:VEVENT
DTSTART;TZID=America/New_York:20231019T190000
DTEND;TZID=America/New_York:20231019T210000
DTSTAMP:20260421T040112
CREATED:20230911T142745Z
LAST-MODIFIED:20230911T142745Z
UID:38545-1697742000-1697749200@wbtai.com
SUMMARY:West Side Stories
DESCRIPTION:Join Connie Boyd on Thursday\, October 19th at 7pm for spooky\, sinister\, and weird documented stories from the West Side of Batavia’s past.  Tickets are $5 or $3 for museum members.  Contact the museum at 585-343-4727 to attend.
URL:https://wbtai.com/calendars/west-side-stories-2/
END:VEVENT
END:VCALENDAR