BEGIN:VCALENDAR
VERSION:2.0
PRODID:-//WBTA - ECPv6.14.0//NONSGML v1.0//EN
CALSCALE:GREGORIAN
METHOD:PUBLISH
X-WR-CALNAME:WBTA
X-ORIGINAL-URL:https://wbtai.com
X-WR-CALDESC:Events for WBTA
REFRESH-INTERVAL;VALUE=DURATION:PT1H
X-Robots-Tag:noindex
X-PUBLISHED-TTL:PT1H
BEGIN:VTIMEZONE
TZID:America/New_York
BEGIN:DAYLIGHT
TZOFFSETFROM:-0500
TZOFFSETTO:-0400
TZNAME:EDT
DTSTART:20230312T070000
END:DAYLIGHT
BEGIN:STANDARD
TZOFFSETFROM:-0400
TZOFFSETTO:-0500
TZNAME:EST
DTSTART:20231105T060000
END:STANDARD
END:VTIMEZONE
BEGIN:VEVENT
DTSTART;TZID=America/New_York:20231107T190000
DTEND;TZID=America/New_York:20231107T190000
DTSTAMP:20260421T004006
CREATED:20231023T142652Z
LAST-MODIFIED:20231023T142652Z
UID:39687-1699383600-1699383600@wbtai.com
SUMMARY:HLOM Guest Speaker Series
DESCRIPTION:The Holland Land Office Museum is proud to announce the next presenter for the Guest Speaker Series on Tuesday\, November 7\, at 7pm\, with Steven Huff who will be presenting his newest work “Resting Among Us: Authors’ Grave sites in Upstate New York” Admission is $5 or $3 for museum members. Call 585-343-4727 for more information.
URL:https://wbtai.com/calendars/hlom-guest-speaker-series-7/
END:VEVENT
END:VCALENDAR