BEGIN:VCALENDAR
VERSION:2.0
PRODID:-//WBTA - ECPv6.14.0//NONSGML v1.0//EN
CALSCALE:GREGORIAN
METHOD:PUBLISH
X-WR-CALNAME:WBTA
X-ORIGINAL-URL:https://wbtai.com
X-WR-CALDESC:Events for WBTA
REFRESH-INTERVAL;VALUE=DURATION:PT1H
X-Robots-Tag:noindex
X-PUBLISHED-TTL:PT1H
BEGIN:VTIMEZONE
TZID:America/New_York
BEGIN:DAYLIGHT
TZOFFSETFROM:-0500
TZOFFSETTO:-0400
TZNAME:EDT
DTSTART:20240310T070000
END:DAYLIGHT
BEGIN:STANDARD
TZOFFSETFROM:-0400
TZOFFSETTO:-0500
TZNAME:EST
DTSTART:20241103T060000
END:STANDARD
END:VTIMEZONE
BEGIN:VEVENT
DTSTART;TZID=America/New_York:20240427T133000
DTEND;TZID=America/New_York:20240427T133000
DTSTAMP:20260420T071703
CREATED:20240411T163057Z
LAST-MODIFIED:20240411T163057Z
UID:42569-1714224600-1714224600@wbtai.com
SUMMARY:History by the Hearth Spring
DESCRIPTION:On Saturday\, April 27 1:30pm at the Richmond Memorial Library in the Reading Room come spend the afternoon with the Genesee County Historian\, Michael Eula as he debuts his latest book\, Historical Chronicles of Genesee County.  Book purchases prior to and day of event.  Book signing to follow.  No registration required.  For more information contact the library at (585) 343-9550 or visit: www.batavialibrary.org. \n 
URL:https://wbtai.com/calendars/history-by-the-hearth-spring/
END:VEVENT
BEGIN:VEVENT
DTSTART;TZID=America/New_York:20240427T160000
DTEND;TZID=America/New_York:20240427T160000
DTSTAMP:20260420T071703
CREATED:20240402T141755Z
LAST-MODIFIED:20240402T141755Z
UID:42489-1714233600-1714233600@wbtai.com
SUMMARY:Chicken Barbecue
DESCRIPTION:The Covington Methodist Church is having their Annual Chicken Barbecue with Bazaar and Bake-Sale on Saturday\, April 27th \, from 4:00 till gone. The church is located at 1557 Simmons Road\, between Perry and Pavilion.  Barbecued chicken\, potatoes\, salad\, beans\, roll\, and home-made pie\, donation is $15.00 for adults and $7.50 for children. Take-out or eat in.
URL:https://wbtai.com/calendars/chicken-barbecue/
END:VEVENT
BEGIN:VEVENT
DTSTART;TZID=America/New_York:20240427T170000
DTEND;TZID=America/New_York:20240427T203000
DTSTAMP:20260420T071703
CREATED:20240319T172917Z
LAST-MODIFIED:20240319T173730Z
UID:42341-1714237200-1714249800@wbtai.com
SUMMARY:Chicken BBQ
DESCRIPTION:Ascension Parish & Rosary Society Present Chicken BBQ\, Live music\, dancing\, food & drink. Doors open at 5pm with “Rustic Ramblers” playing live music from 5:30-8:30pm. Menu: BBQ chicken\, salt potatoes\, baked beans\, dinner roll\, dessert\, coffee\, tea. TICKETS PRESALE ONLY by 4/17 Eat-in $20 Takeout $15. Beer & Wine Cash Bar. @ Ascension Parish Hall 19 Sumner St. Batavia\, NY. Call (585)343-1796
URL:https://wbtai.com/calendars/chicken-bbq-49/
END:VEVENT
BEGIN:VEVENT
DTSTART;TZID=America/New_York:20240427T173000
DTEND;TZID=America/New_York:20240427T173000
DTSTAMP:20260420T071703
CREATED:20240408T145157Z
LAST-MODIFIED:20240408T145157Z
UID:42528-1714239000-1714239000@wbtai.com
SUMMARY:Meat Raffle
DESCRIPTION:Come join the Batavia Business and Professional Women’s Club INC. on Saturday April 27th at the Notre Dame High School in Batavia NY.  Doors open at 5:30\, tickets are $10.  For more information contact Jennifer White at jlurtel@hotmail.com
URL:https://wbtai.com/calendars/meat-raffle/
END:VEVENT
END:VCALENDAR