BEGIN:VCALENDAR
VERSION:2.0
PRODID:-//WBTA - ECPv6.14.0//NONSGML v1.0//EN
CALSCALE:GREGORIAN
METHOD:PUBLISH
X-ORIGINAL-URL:https://wbtai.com
X-WR-CALDESC:Events for WBTA
REFRESH-INTERVAL;VALUE=DURATION:PT1H
X-Robots-Tag:noindex
X-PUBLISHED-TTL:PT1H
BEGIN:VTIMEZONE
TZID:America/New_York
BEGIN:DAYLIGHT
TZOFFSETFROM:-0500
TZOFFSETTO:-0400
TZNAME:EDT
DTSTART:20240310T070000
END:DAYLIGHT
BEGIN:STANDARD
TZOFFSETFROM:-0400
TZOFFSETTO:-0500
TZNAME:EST
DTSTART:20241103T060000
END:STANDARD
END:VTIMEZONE
BEGIN:VEVENT
DTSTART;TZID=America/New_York:20240501T190000
DTEND;TZID=America/New_York:20240501T190000
DTSTAMP:20260420T040054
CREATED:20240422T152013Z
LAST-MODIFIED:20240422T152100Z
UID:42652-1714590000-1714590000@wbtai.com
SUMMARY:HLOM Guest Speaker Series
DESCRIPTION:On Wednesday\, May 1st at 7am\, The HLOM Buffalo author John Zach shares his latest book “Built to Burn: The Cleveland Hill School Fire.”  Admission is $5 or $3 for museum members.  Please call 585-343-4727 for more information.
URL:https://wbtai.com/calendars/guest-speaker-series/
END:VEVENT
END:VCALENDAR