BEGIN:VCALENDAR
VERSION:2.0
PRODID:-//WBTA - ECPv6.14.0//NONSGML v1.0//EN
CALSCALE:GREGORIAN
METHOD:PUBLISH
X-WR-CALNAME:WBTA
X-ORIGINAL-URL:https://wbtai.com
X-WR-CALDESC:Events for WBTA
REFRESH-INTERVAL;VALUE=DURATION:PT1H
X-Robots-Tag:noindex
X-PUBLISHED-TTL:PT1H
BEGIN:VTIMEZONE
TZID:America/New_York
BEGIN:DAYLIGHT
TZOFFSETFROM:-0500
TZOFFSETTO:-0400
TZNAME:EDT
DTSTART:20240310T070000
END:DAYLIGHT
BEGIN:STANDARD
TZOFFSETFROM:-0400
TZOFFSETTO:-0500
TZNAME:EST
DTSTART:20241103T060000
END:STANDARD
END:VTIMEZONE
BEGIN:VEVENT
DTSTART;TZID=America/New_York:20240502T120000
DTEND;TZID=America/New_York:20240502T140000
DTSTAMP:20260420T040101
CREATED:20240109T173103Z
LAST-MODIFIED:20240109T173103Z
UID:41387-1714651200-1714658400@wbtai.com
SUMMARY:Free Garden Talk Series
DESCRIPTION:Join the Genesee County Master Gardeners for their monthly Garden Talk  May 2\, at Noon.  “Hardscape in the Garden” with Master Gardener Roberta T.  Not every part of a garden has to have plants.  Hardscape is any of the non-living elements in your landscape design.  Garden Talk programs can be 30 to 60 minutes long and are free and open to all\, but registration is required.  Call 343-3040-ext 101 for in person or go to http://genesee.cce.cornell.edu/events for a zoom link.
URL:https://wbtai.com/calendars/free-garden-talk-series-3/
END:VEVENT
END:VCALENDAR