BEGIN:VCALENDAR
VERSION:2.0
PRODID:-//WBTA - ECPv6.14.0//NONSGML v1.0//EN
CALSCALE:GREGORIAN
METHOD:PUBLISH
X-WR-CALNAME:WBTA
X-ORIGINAL-URL:https://wbtai.com
X-WR-CALDESC:Events for WBTA
REFRESH-INTERVAL;VALUE=DURATION:PT1H
X-Robots-Tag:noindex
X-PUBLISHED-TTL:PT1H
BEGIN:VTIMEZONE
TZID:America/New_York
BEGIN:DAYLIGHT
TZOFFSETFROM:-0500
TZOFFSETTO:-0400
TZNAME:EDT
DTSTART:20240310T070000
END:DAYLIGHT
BEGIN:STANDARD
TZOFFSETFROM:-0400
TZOFFSETTO:-0500
TZNAME:EST
DTSTART:20241103T060000
END:STANDARD
END:VTIMEZONE
BEGIN:VEVENT
DTSTART;TZID=America/New_York:20240518T100000
DTEND;TZID=America/New_York:20240518T130000
DTSTAMP:20260420T040040
CREATED:20240423T145313Z
LAST-MODIFIED:20240423T145313Z
UID:42682-1716026400-1716037200@wbtai.com
SUMMARY:Master Gardener Spring Garden Gala
DESCRIPTION:Rain or shine\, the Genesee County Master Gardeners will be hosting their annual Spring Garden Gala on Saturday\, May 18\, from 10:00 am to 1:00 pm at Cornell Cooperative Extension of Genesee County\, 420 East Main Street in Batavia.  For information contact Cornell Cooperative Extension of Genesee County\, (585) 343-3040\, ext. 101\, or stop by the Extension office at 420 East Main Street in Batavia.  Visit our website at: http://genesee.cce.cornell.edu/events for more information.
URL:https://wbtai.com/calendars/master-gardener-spring-garden-gala/
END:VEVENT
BEGIN:VEVENT
DTSTART;TZID=America/New_York:20240518T110000
DTEND;TZID=America/New_York:20240518T160000
DTSTAMP:20260420T040040
CREATED:20240509T164427Z
LAST-MODIFIED:20240509T164427Z
UID:42849-1716030000-1716048000@wbtai.com
SUMMARY:Batavia Veterans Car Show
DESCRIPTION:Saturday May 18th\, is the 2nd annual Batavia Veterans Home American Car Show.  Go to the parking lot area of Bldg 4 and 5 from 11-4.  Rain Date is May 19th.
URL:https://wbtai.com/calendars/batavia-veterans-car-show/
END:VEVENT
BEGIN:VEVENT
DTSTART;TZID=America/New_York:20240518T150000
DTEND;TZID=America/New_York:20240518T180000
DTSTAMP:20260420T040040
CREATED:20240506T145818Z
LAST-MODIFIED:20240506T145818Z
UID:42799-1716044400-1716055200@wbtai.com
SUMMARY:Chicken & Bisquit Dinner
DESCRIPTION:Saturday May 18th from 3-6pm at York Baptist Church 2738 Main St\, York is a Chicken and Bisquit Dinner.  Drive thru only\, $12 for Adults\, $8 for Students (school and college)\, and children 5 and under are free.
URL:https://wbtai.com/calendars/chicken-bisquit-dinner/
END:VEVENT
BEGIN:VEVENT
DTSTART;TZID=America/New_York:20240518T180000
DTEND;TZID=America/New_York:20240518T203000
DTSTAMP:20260420T040040
CREATED:20240507T143100Z
LAST-MODIFIED:20240507T163610Z
UID:42811-1716055200-1716064200@wbtai.com
SUMMARY:P.O.N.D - Parents of Notre Dame
DESCRIPTION:“In Good Taste” is an event you can join for a night of local beer\, wine\, and food tastings\, Saturday\, May 18th from 6-8:30pm.  $25 per person or $15 for a Designated Driver.  Come out for a Patriotic night of food\, drinks\, and fun!  This fundraiser supports the operations of Notre Dame Jr/Sr High School.
URL:https://wbtai.com/calendars/p-o-n-d-parents-of-notre-dame/
END:VEVENT
END:VCALENDAR