BEGIN:VCALENDAR
VERSION:2.0
PRODID:-//WBTA - ECPv6.14.0//NONSGML v1.0//EN
CALSCALE:GREGORIAN
METHOD:PUBLISH
X-WR-CALNAME:WBTA
X-ORIGINAL-URL:https://wbtai.com
X-WR-CALDESC:Events for WBTA
REFRESH-INTERVAL;VALUE=DURATION:PT1H
X-Robots-Tag:noindex
X-PUBLISHED-TTL:PT1H
BEGIN:VTIMEZONE
TZID:America/New_York
BEGIN:DAYLIGHT
TZOFFSETFROM:-0500
TZOFFSETTO:-0400
TZNAME:EDT
DTSTART:20240310T070000
END:DAYLIGHT
BEGIN:STANDARD
TZOFFSETFROM:-0400
TZOFFSETTO:-0500
TZNAME:EST
DTSTART:20241103T060000
END:STANDARD
END:VTIMEZONE
BEGIN:VEVENT
DTSTART;TZID=America/New_York:20240523T090000
DTEND;TZID=America/New_York:20240523T090000
DTSTAMP:20260420T040039
CREATED:20240422T154846Z
LAST-MODIFIED:20240422T154846Z
UID:42673-1716454800-1716454800@wbtai.com
SUMMARY:HLOM Java with Joe Series
DESCRIPTION:The HLOM next edition of Java with Joe E. Series will be on Thursday\, May 23rd at 9am.  Genesee County Historian Michael Eula comes back with snippets from his new book on the history of the Genesee County “Historic Chronicles of Genesee County.”  Copies of the book will be available and he will also be signing copies as well.  Admission is free with coffee and pastries.  Java with Joe E. is sponsored by Pub Hub Coffee for 2024.
URL:https://wbtai.com/calendars/hlom-java-with-joe-series/
END:VEVENT
END:VCALENDAR