BEGIN:VCALENDAR
VERSION:2.0
PRODID:-//WBTA - ECPv6.14.0//NONSGML v1.0//EN
CALSCALE:GREGORIAN
METHOD:PUBLISH
X-ORIGINAL-URL:https://wbtai.com
X-WR-CALDESC:Events for WBTA
REFRESH-INTERVAL;VALUE=DURATION:PT1H
X-Robots-Tag:noindex
X-PUBLISHED-TTL:PT1H
BEGIN:VTIMEZONE
TZID:America/New_York
BEGIN:DAYLIGHT
TZOFFSETFROM:-0500
TZOFFSETTO:-0400
TZNAME:EDT
DTSTART:20240310T070000
END:DAYLIGHT
BEGIN:STANDARD
TZOFFSETFROM:-0400
TZOFFSETTO:-0500
TZNAME:EST
DTSTART:20241103T060000
END:STANDARD
END:VTIMEZONE
BEGIN:VEVENT
DTSTART;TZID=America/New_York:20240527T100000
DTEND;TZID=America/New_York:20240527T100000
DTSTAMP:20260420T004840
CREATED:20240506T144119Z
LAST-MODIFIED:20240506T144119Z
UID:42793-1716804000-1716804000@wbtai.com
SUMMARY:Hot Dog and Drink Stand
DESCRIPTION:The Corfu United Presbyterian Church\, 63 Alleghany St.\, Corfu\, NY 14036\, presents the Annual Memorial Day hot dog and drink stand to thank the community for all its support of our fundraisers and mission activities – will be held during and following the Memorial Day parade in Corfu on Monday\, May 27.  There is no charge\, but free-will donations will be gratefully excepted.
URL:https://wbtai.com/calendars/hot-dog-and-drink-stand/
END:VEVENT
BEGIN:VEVENT
DTSTART;TZID=America/New_York:20240527T110000
DTEND;TZID=America/New_York:20240527T110000
DTSTAMP:20260420T004840
CREATED:20240509T153335Z
LAST-MODIFIED:20240509T153335Z
UID:42837-1716807600-1716807600@wbtai.com
SUMMARY:Chicken Barbecue and Basket Raffle
DESCRIPTION:The Byron Fire Department Ladies Auxiliary is hosting their annual Chicken Barbecue and Basket Raffle Fundraiser on Monday\, May 27\, 2024 following the 11:00am Memorial Day parade\, until sold out. The meal is $15.00 and is eat-in or take-out. The meal comes with macaroni salad\, coleslaw & dinner roll.
URL:https://wbtai.com/calendars/chicken-barbecue-and-basket-raffle/
END:VEVENT
BEGIN:VEVENT
DTSTART;TZID=America/New_York:20240527T113000
DTEND;TZID=America/New_York:20240527T113000
DTSTAMP:20260420T004840
CREATED:20240509T161729Z
LAST-MODIFIED:20240509T161729Z
UID:42843-1716809400-1716809400@wbtai.com
SUMMARY:Annual Memorial Day hot dog and drink stand
DESCRIPTION:Annual Memorial Day hot dog and drink stand to thank the community for all its support of our fundraisers and mission activities – will be held from 11:30 a.m. during and following the Memorial Day parade in Corfu on Monday\, May 27\, until the veterans memorial service concludes.  There is no charge\, but free-will donations will be gratefully excepted.
URL:https://wbtai.com/calendars/annual-memorial-day-hot-dog-and-drink-stand/
END:VEVENT
END:VCALENDAR