BEGIN:VCALENDAR
VERSION:2.0
PRODID:-//WBTA - ECPv6.14.0//NONSGML v1.0//EN
CALSCALE:GREGORIAN
METHOD:PUBLISH
X-ORIGINAL-URL:https://wbtai.com
X-WR-CALDESC:Events for WBTA
REFRESH-INTERVAL;VALUE=DURATION:PT1H
X-Robots-Tag:noindex
X-PUBLISHED-TTL:PT1H
BEGIN:VTIMEZONE
TZID:America/New_York
BEGIN:DAYLIGHT
TZOFFSETFROM:-0500
TZOFFSETTO:-0400
TZNAME:EDT
DTSTART:20240310T070000
END:DAYLIGHT
BEGIN:STANDARD
TZOFFSETFROM:-0400
TZOFFSETTO:-0500
TZNAME:EST
DTSTART:20241103T060000
END:STANDARD
END:VTIMEZONE
BEGIN:VEVENT
DTSTART;TZID=America/New_York:20240712T080000
DTEND;TZID=America/New_York:20240714T170000
DTSTAMP:20260419T210154
CREATED:20240627T145910Z
LAST-MODIFIED:20240627T145910Z
UID:42974-1720771200-1720976400@wbtai.com
SUMMARY:LeRoy Oatka-Fest Weekend
DESCRIPTION:Come to MooseCreek LeRoy for the Oatka-Fest Weekend of July 12-14th\, 2024 at 21 Bank St. Trigon Park\, LeRoy.  Live Music Friday July 12th by Bad Luck\, Saturday July 13th by Groove\, and Sunday July 14th by Brick Band.  Food and beverages available all weekend.  Proceeds will benefit Wings (Flight of Hope)\, The YMCA\, and Glow YMCA.
URL:https://wbtai.com/calendars/leroy-oatka-fest-weekend/
END:VEVENT
END:VCALENDAR