BEGIN:VCALENDAR
VERSION:2.0
PRODID:-//WBTA - ECPv6.14.0//NONSGML v1.0//EN
CALSCALE:GREGORIAN
METHOD:PUBLISH
X-ORIGINAL-URL:https://wbtai.com
X-WR-CALDESC:Events for WBTA
REFRESH-INTERVAL;VALUE=DURATION:PT1H
X-Robots-Tag:noindex
X-PUBLISHED-TTL:PT1H
BEGIN:VTIMEZONE
TZID:America/New_York
BEGIN:DAYLIGHT
TZOFFSETFROM:-0500
TZOFFSETTO:-0400
TZNAME:EDT
DTSTART:20240310T070000
END:DAYLIGHT
BEGIN:STANDARD
TZOFFSETFROM:-0400
TZOFFSETTO:-0500
TZNAME:EST
DTSTART:20241103T060000
END:STANDARD
END:VTIMEZONE
BEGIN:VEVENT
DTSTART;TZID=America/New_York:20240717T170000
DTEND;TZID=America/New_York:20240717T170000
DTSTAMP:20260419T204428
CREATED:20240712T165943Z
LAST-MODIFIED:20240712T165943Z
UID:43087-1721235600-1721235600@wbtai.com
SUMMARY:RTS Information Session
DESCRIPTION:RTS Genesee’s New route service representatives will be on hand to answer you questions Wednesday\, July 17th at 5:00pm at the Genesee County Office for the Aging\, Multipurpose Room\, on 2 Bank st.\, Batavia NY\, 14020.
URL:https://wbtai.com/calendars/rts-information-session/
END:VEVENT
END:VCALENDAR