BEGIN:VCALENDAR
VERSION:2.0
PRODID:-//WBTA - ECPv6.14.0//NONSGML v1.0//EN
CALSCALE:GREGORIAN
METHOD:PUBLISH
X-WR-CALNAME:WBTA
X-ORIGINAL-URL:https://wbtai.com
X-WR-CALDESC:Events for WBTA
REFRESH-INTERVAL;VALUE=DURATION:PT1H
X-Robots-Tag:noindex
X-PUBLISHED-TTL:PT1H
BEGIN:VTIMEZONE
TZID:America/New_York
BEGIN:DAYLIGHT
TZOFFSETFROM:-0500
TZOFFSETTO:-0400
TZNAME:EDT
DTSTART:20240310T070000
END:DAYLIGHT
BEGIN:STANDARD
TZOFFSETFROM:-0400
TZOFFSETTO:-0500
TZNAME:EST
DTSTART:20241103T060000
END:STANDARD
END:VTIMEZONE
BEGIN:VEVENT
DTSTART;TZID=America/New_York:20240718T180000
DTEND;TZID=America/New_York:20240718T210000
DTSTAMP:20260419T204422
CREATED:20240620T143132Z
LAST-MODIFIED:20240620T143132Z
UID:42944-1721325600-1721336400@wbtai.com
SUMMARY:2024 Elba Onion Queen
DESCRIPTION:Join the Elba Central School and the Elba Betterment Committee is pleased to announce the crowning of the 2024 Elba Onion Queen at our second concert in the Elba Village Park.  Thursday\, July 18 – crowning at 6:00; Concert at 6:30 with music by It’s My Party.  Food and beverages by More Than A Mouthful\, Agatina’s Italian Restaurant\, Ice Cream and Chill\, Blue Groove Coffee \, and Circle B Winery will only make the experience more enjoyable.
URL:https://wbtai.com/calendars/2024-elba-onion-queen/
END:VEVENT
END:VCALENDAR