BEGIN:VCALENDAR
VERSION:2.0
PRODID:-//WBTA - ECPv6.14.0//NONSGML v1.0//EN
CALSCALE:GREGORIAN
METHOD:PUBLISH
X-WR-CALNAME:WBTA
X-ORIGINAL-URL:https://wbtai.com
X-WR-CALDESC:Events for WBTA
REFRESH-INTERVAL;VALUE=DURATION:PT1H
X-Robots-Tag:noindex
X-PUBLISHED-TTL:PT1H
BEGIN:VTIMEZONE
TZID:America/New_York
BEGIN:DAYLIGHT
TZOFFSETFROM:-0500
TZOFFSETTO:-0400
TZNAME:EDT
DTSTART:20240310T070000
END:DAYLIGHT
BEGIN:STANDARD
TZOFFSETFROM:-0400
TZOFFSETTO:-0500
TZNAME:EST
DTSTART:20241103T060000
END:STANDARD
END:VTIMEZONE
BEGIN:VEVENT
DTSTART;TZID=America/New_York:20240810T090000
DTEND;TZID=America/New_York:20240811T160000
DTSTAMP:20260419T171245
CREATED:20240510T170207Z
LAST-MODIFIED:20240510T170207Z
UID:42856-1723280400-1723392000@wbtai.com
SUMMARY:Purple Pony Treasure Sale
DESCRIPTION:Join in this years Treasure Sale\, Sponsored by Batavia Downs\, on August 10th and the 11th from 9am to 4pm at 8321 Lake Street Road\, LeRoy\, NY 14482.  Donations will be accepted at the barn after July 1\, 2024.  For information please go to purplepony.org.
URL:https://wbtai.com/calendars/purple-pony-treasure-sale/
END:VEVENT
BEGIN:VEVENT
DTSTART;TZID=America/New_York:20240810T090000
DTEND;TZID=America/New_York:20240811T160000
DTSTAMP:20260419T171245
CREATED:20240627T150356Z
LAST-MODIFIED:20240627T150356Z
UID:42976-1723280400-1723392000@wbtai.com
SUMMARY:Purple Pony Therapeutic Horsemanship
DESCRIPTION:There will be a Treasure Sale\, Saturday and Sunday\, August 10th and 11th from 9am to 4pm at 8321 Lake Street Road (Route 19)\, LeRoy NY 14482.  This event will be an indoor sale with all proceeds benefiting Purple Pony Therapeutic Horsemanship.  Go to purplepony.org/ for more details.
URL:https://wbtai.com/calendars/purple-pony-therapeutic-horsemanship/
END:VEVENT
BEGIN:VEVENT
DTSTART;TZID=America/New_York:20240811T120000
DTEND;TZID=America/New_York:20240811T160000
DTSTAMP:20260419T171245
CREATED:20240729T164224Z
LAST-MODIFIED:20240729T164224Z
UID:43140-1723377600-1723392000@wbtai.com
SUMMARY:Cornhole Tournament and Basket Raffle Fundraiser
DESCRIPTION:Cornhole Tournament and Basket Raffle Fundraiser to Benefit Cherry Hill Farm Sanctuary on August 11th\, 12-4pm\, at Lancaster Elk Lodge3 #1478 33 Legion Pkwy\, Lancaster\, NY 14086.  The cost is $25 per person\, free for spectators and basket raffle.  Register or for information call or text 716-901-3445.
URL:https://wbtai.com/calendars/cornhole-tournament-and-basket-raffle-fundraiser/
END:VEVENT
END:VCALENDAR