BEGIN:VCALENDAR
VERSION:2.0
PRODID:-//WBTA - ECPv6.14.0//NONSGML v1.0//EN
CALSCALE:GREGORIAN
METHOD:PUBLISH
X-WR-CALNAME:WBTA
X-ORIGINAL-URL:https://wbtai.com
X-WR-CALDESC:Events for WBTA
REFRESH-INTERVAL;VALUE=DURATION:PT1H
X-Robots-Tag:noindex
X-PUBLISHED-TTL:PT1H
BEGIN:VTIMEZONE
TZID:America/New_York
BEGIN:DAYLIGHT
TZOFFSETFROM:-0500
TZOFFSETTO:-0400
TZNAME:EDT
DTSTART:20180311T070000
END:DAYLIGHT
BEGIN:STANDARD
TZOFFSETFROM:-0400
TZOFFSETTO:-0500
TZNAME:EST
DTSTART:20181104T060000
END:STANDARD
END:VTIMEZONE
BEGIN:VEVENT
DTSTART;TZID=America/New_York:20180331T100000
DTEND;TZID=America/New_York:20180331T110000
DTSTAMP:20260419T234016
CREATED:20180330T113137Z
LAST-MODIFIED:20180330T113153Z
UID:8154-1522490400-1522494000@wbtai.com
SUMMARY:Kiwanis Easter Egg Hunt
DESCRIPTION:The Kiwanis Easter Egg Hunt is Saturday\, March 31\, in Centennial Park\, City of Batavia\, at 9am sharp. This annual free event will be held rain or shine and has a golden egg prize for children in three age groups: Three and under; 4 to 7; and 8 – 10 years old.
URL:https://wbtai.com/calendars/kiwanis-easter-egg-hunt/
END:VEVENT
BEGIN:VEVENT
DTSTART;TZID=America/New_York:20180325T103000
DTEND;TZID=America/New_York:20180325T163000
DTSTAMP:20260419T234016
CREATED:20180207T213024Z
LAST-MODIFIED:20180207T213036Z
UID:6787-1521973800-1521995400@wbtai.com
SUMMARY:Great Batavia Train Show
DESCRIPTION:The Genesee Society of Model Engineers will host the Great Batavia Train Show\, Sunday\, March 25\, 9:30am to 3:30pm at the Richard C. Call Arena at GCC Batavia Campus. Children under age 13 are free.
URL:https://wbtai.com/calendars/great-batavia-train-show/
END:VEVENT
BEGIN:VEVENT
DTSTART;TZID=America/New_York:20180325T090000
DTEND;TZID=America/New_York:20180325T130000
DTSTAMP:20260419T234016
CREATED:20180212T194123Z
LAST-MODIFIED:20180212T194135Z
UID:7015-1521968400-1521982800@wbtai.com
SUMMARY:Alexander Breakfast
DESCRIPTION:Alexander Fire Department will host an all you can eat breakfast with the Easter Bunny\, Sunday\, March 25\, 8am to noon at the fire hall. (for more information contact Barbara Eddy at 507-9930)
URL:https://wbtai.com/calendars/alexander-breakfast-2/
END:VEVENT
BEGIN:VEVENT
DTSTART;TZID=America/New_York:20180324T170000
DTEND;TZID=America/New_York:20180324T193000
DTSTAMP:20260419T234016
CREATED:20180321T145533Z
LAST-MODIFIED:20180321T145552Z
UID:7959-1521910800-1521919800@wbtai.com
SUMMARY:Prime Rib Dinner
DESCRIPTION:Elba United Methodist Church\, Chapel Street\, Elba\, will hold a prime rib dinner Saturday\, March 24\, 4pm to 6:30pm. Children under age 5 are free. Take outs available. Reservations recommended. Call 757-2224.
URL:https://wbtai.com/calendars/prime-rib-dinner/
END:VEVENT
BEGIN:VEVENT
DTSTART;TZID=America/New_York:20180324T100000
DTEND;TZID=America/New_York:20180324T130000
DTSTAMP:20260419T234016
CREATED:20180322T123819Z
LAST-MODIFIED:20180322T124638Z
UID:7987-1521885600-1521896400@wbtai.com
SUMMARY:Fly fishing Seminar/ Sunday Easter Egg Hunt
DESCRIPTION:Fly fishing Seminar/ Sunday Easter Egg Hunt @ Godfrey’s pond this Saturday 9am. \nThe Easter Bunny will be on Site to take a photo at Noon.
URL:https://wbtai.com/calendars/fly-fishing-seminar-sunday-easter-egg-hunt/
END:VEVENT
BEGIN:VEVENT
DTSTART;TZID=America/New_York:20180318T160000
DTEND;TZID=America/New_York:20180318T180000
DTSTAMP:20260419T234016
CREATED:20180305T162519Z
LAST-MODIFIED:20180305T162519Z
UID:7573-1521388800-1521396000@wbtai.com
SUMMARY:St. Joseph’s Table at Ascension Parish
DESCRIPTION:St. Joseph’s Table at Ascension Parish\, 17 Sumner Street. Batavia\, NY \nOn Sunday\, March 18th 2018 at 3:00pm DFC will cater a wonderful 7-course Italian Buffet dinner in honor of St. Joseph in our newly renovated Slomba Hall. \nThis family event includes an authentic St. Joseph’s Table with music\, hors d’oeuvres\, 50/50 split club\, dinner\, vino and desserts. \nPre-sale tickets and day of event sales; some proceeds to benefit parish outreach in the Batavia area and the St. Vincent de Paul Society. \nFor information\, call the parish office at 585-343-1796 for reservations at 716-998-4007. \nTicket donations are $20.00/pp adult and $5.00/pp child. Special children’s meal will be prepared. \nTickets may also be purchased online at ascensionrcc.weshareonline.org at a slightly higher rate due to transaction fees.
URL:https://wbtai.com/calendars/st-josephs-table-at-ascension-parish/
END:VEVENT
BEGIN:VEVENT
DTSTART;TZID=America/New_York:20180318T160000
DTEND;TZID=America/New_York:20180318T180000
DTSTAMP:20260419T234016
CREATED:20180213T162242Z
LAST-MODIFIED:20180213T162253Z
UID:7029-1521388800-1521396000@wbtai.com
SUMMARY:St. Joseph's Table
DESCRIPTION:Ascension Parish will sponsor the St. Joseph’s Table\, Sunday\, March 18\, 3pm\, in Slomba Hall\, 17 Sumner Street\, Batavia. Contact the Parish Office for tickets at 343-1796 . Reservations needed by Monday\, March 12\, however\, walk ins welcome.
URL:https://wbtai.com/calendars/st-josephs-table/
END:VEVENT
BEGIN:VEVENT
DTSTART;TZID=America/New_York:20180318T130000
DTEND;TZID=America/New_York:20180318T160000
DTSTAMP:20260419T234016
CREATED:20180221T180306Z
LAST-MODIFIED:20180221T180318Z
UID:7268-1521378000-1521388800@wbtai.com
SUMMARY:Kiwanis Spaghetti
DESCRIPTION:Batavia Kiwanis Club will hold their annual Spaghetti Dinner\, Sunday\, March 18\, noon to 3pm at St. Joseph’s School\, Summit Street\, Batavia. Tickets available from any Kiwanis member or at the door.
URL:https://wbtai.com/calendars/kiwanis-spaghetti/
END:VEVENT
BEGIN:VEVENT
DTSTART;TZID=America/New_York:20180317T190000
DTEND;TZID=America/New_York:20180317T230000
DTSTAMP:20260419T234016
CREATED:20180208T160946Z
LAST-MODIFIED:20180208T160959Z
UID:6844-1521313200-1521327600@wbtai.com
SUMMARY:Celebrate Agriculture Dinner
DESCRIPTION:16th annual Celebrate Agriculture Dinner\, will be held Saturday\, March 17\, at the Alexander Fire Hall\, 6pm. Tickets available at the Genesee County Chamber of Commerce\, 585-343-7440. Tickets NOT available at the door.
URL:https://wbtai.com/calendars/celebrate-agriculture-dinner/
LOCATION:Genesee Co. Chamber of Commerce\, 8276 Park Road\, Batavia
END:VEVENT
BEGIN:VEVENT
DTSTART;TZID=America/New_York:20180317T183000
DTEND;TZID=America/New_York:20180317T220000
DTSTAMP:20260419T234016
CREATED:20180307T160115Z
LAST-MODIFIED:20180307T160129Z
UID:7633-1521311400-1521324000@wbtai.com
SUMMARY:Country Gospel Concert
DESCRIPTION:The Community Fellowship at Johnson Creek\, off Rt. 104\, will host a  free Country and Gospel Concert\, Saturday\, March 17\, 5:30pm.
URL:https://wbtai.com/calendars/country-gospel-concert/
END:VEVENT
BEGIN:VEVENT
DTSTART;TZID=America/New_York:20180317T133000
DTEND;TZID=America/New_York:20180317T160000
DTSTAMP:20260419T234016
CREATED:20180130T184500Z
LAST-MODIFIED:20180130T184513Z
UID:6572-1521293400-1521302400@wbtai.com
SUMMARY:Sprout Film Festival & Art Display
DESCRIPTION:The Arc of Genesee Orleans invites the public to the Sprout Film Festival and Art work display\, Saturday\, March 17\, starting at 12:30pm in the Stuart Steiner Theater on the GCC Batavia Campus. In Celebration of Developmental Disabilities Awarness month\, come enjoy art & films created by individuals with disabilities. For more information call Shelley Falitico at 585-343-4203.
URL:https://wbtai.com/calendars/sprout-film-festival-art-display/
END:VEVENT
BEGIN:VEVENT
DTSTART;TZID=America/New_York:20180316T200000
DTEND;TZID=America/New_York:20180316T220000
DTSTAMP:20260419T234016
CREATED:20180307T160449Z
LAST-MODIFIED:20180307T160508Z
UID:7635-1521230400-1521237600@wbtai.com
SUMMARY:Farmers for America
DESCRIPTION:Attica Partners for Agriculture will present a movie documentary narrated by Mike Rowe to celebrate and support young farmers on Friday\, March 16\, 7pm\, at the Attica High School Auditorium. All proceeds benefit the Attica FFA.
URL:https://wbtai.com/calendars/farmers-for-america/
END:VEVENT
BEGIN:VEVENT
DTSTART;TZID=America/New_York:20180316T110000
DTEND;TZID=America/New_York:20180316T150000
DTSTAMP:20260419T234016
CREATED:20180212T195838Z
LAST-MODIFIED:20180212T195849Z
UID:7017-1521198000-1521212400@wbtai.com
SUMMARY:Wyoming County Job Fair
DESCRIPTION:7th annual Wyoming County Job Fair\, Friday\, March 16\, 10am to 2pm\, taking place at the Wyoming County YMCA and Warsaw Campus of Genesee Community Collage. The Job Fair is free and open to all those seeking employment opportunities. (for more information contract the Wyoming Co. Chamber of Commerce at 786-0307)
URL:https://wbtai.com/calendars/wyoming-county-job-fair/
END:VEVENT
BEGIN:VEVENT
DTSTART;TZID=America/New_York:20180316T090000
DTEND;TZID=America/New_York:20180316T180000
DTSTAMP:20260419T234016
CREATED:20180208T211540Z
LAST-MODIFIED:20180208T211551Z
UID:6870-1521190800-1521223200@wbtai.com
SUMMARY:Gen. Co. & Batavia Youth Recognition Awards
DESCRIPTION:Batavia and Genesee County Youth Boards annual awards banquet will be held Thursday\, March 22. Contact Chelsea Elliott at 344-3960 for more information.
URL:https://wbtai.com/calendars/gen-co-batavia-youth-recognition-awards/
END:VEVENT
BEGIN:VEVENT
DTSTART;TZID=America/New_York:20180315T190000
DTEND;TZID=America/New_York:20180315T230000
DTSTAMP:20260419T234016
CREATED:20180221T184043Z
LAST-MODIFIED:20180221T184058Z
UID:7272-1521140400-1521154800@wbtai.com
SUMMARY:Reel Discussions
DESCRIPTION:Come view the movie\, “Marshall”\, Thursday\, March 15\, 6pm\, at the Richmond Memorial Library\, 19 Ross Street\, Batavia.
URL:https://wbtai.com/calendars/reel-discussions-4/
END:VEVENT
BEGIN:VEVENT
DTSTART;TZID=America/New_York:20180314T193000
DTEND;TZID=America/New_York:20180314T213000
DTSTAMP:20260419T234016
CREATED:20180221T191325Z
LAST-MODIFIED:20180221T191337Z
UID:7288-1521055800-1521063000@wbtai.com
SUMMARY:Writer's Group
DESCRIPTION:Richmond Memorial Library\, 19 Ross Street\, Batavia\, hosts a writer’s group on the second Wednesday of each month. Adults interested in meeting other writers\, sharing ideas\, and practicing their writing are invited to attend\, Wednesday\, March 14\, 6:30pm.
URL:https://wbtai.com/calendars/writers-group-2/
END:VEVENT
BEGIN:VEVENT
DTSTART;TZID=America/New_York:20180314T090000
DTEND;TZID=America/New_York:20180314T100000
DTSTAMP:20260419T234016
CREATED:20180221T190737Z
LAST-MODIFIED:20180221T190748Z
UID:7284-1521018000-1521021600@wbtai.com
SUMMARY:Adult book Discussion
DESCRIPTION:The Richmond Memorial Library\, 19 Ross Street\, Batavia\, adult book discussion group will meet Wednesday\, March 14\, 8am to discuss\, ” A Gentleman in Moscow”\, by Amor Towles.
URL:https://wbtai.com/calendars/adult-book-discussion/
LOCATION:Richmond Memorial Library\, 19 Ross St.\, Batavia NY
END:VEVENT
BEGIN:VEVENT
DTSTART;TZID=America/New_York:20180314T084500
DTEND;TZID=America/New_York:20180314T101500
DTSTAMP:20260419T234016
CREATED:20180105T165758Z
LAST-MODIFIED:20180105T165817Z
UID:5792-1521017100-1521022500@wbtai.com
SUMMARY:Chamber Workshop Series
DESCRIPTION:Using Facebook to market your business or services will be the topic of the Genesee County Chamber of Commerce workshop series on Wednesday\, March 14\, 7:45am \, in their offices on Park Road\, Batavia. Call Kelly Bermingham at 343-7440 to register. Seminar is free to chamber and BID members\, otherwise there is a small fee. \n 
URL:https://wbtai.com/calendars/chamber-workshop-series-2/
LOCATION:Genesee Co. Chamber of Commerce\, 8276 Park Road\, Batavia
END:VEVENT
BEGIN:VEVENT
DTSTART;TZID=America/New_York:20180311T170000
DTEND;TZID=America/New_York:20180311T190000
DTSTAMP:20260419T234016
CREATED:20180226T193727Z
LAST-MODIFIED:20180226T193740Z
UID:7385-1520787600-1520794800@wbtai.com
SUMMARY:Genesee Symphony Concert
DESCRIPTION:An Evening with David Kim\, will be the highlight of the next Genesee Symphony Orchestra concert\, Sunday\, March 11\, 4pm\, in the Elba Central School auditorium. David Kim\, is the concertmaster of the Philadelphia Orchestra and will be joining the GSO for an evening of Tchaikovsky. Tickets available at the door.
URL:https://wbtai.com/calendars/genesee-symphony-concert/
END:VEVENT
BEGIN:VEVENT
DTSTART;TZID=America/New_York:20180311T140000
DTEND;TZID=America/New_York:20180311T160000
DTSTAMP:20260419T234016
CREATED:20180307T160727Z
LAST-MODIFIED:20180307T160740Z
UID:7637-1520776800-1520784000@wbtai.com
SUMMARY:Fund Raiser
DESCRIPTION:Attica Presbyterian Church\, at the corners of Main and Prospect Streets\, Attica\,  will hold a fund raiser\, Sunday\, March 11\, 1pm to 3pm.
URL:https://wbtai.com/calendars/fund-raiser/
END:VEVENT
BEGIN:VEVENT
DTSTART;TZID=America/New_York:20180311T090000
DTEND;TZID=America/New_York:20180311T130000
DTSTAMP:20260419T234016
CREATED:20180305T162113Z
LAST-MODIFIED:20180305T162113Z
UID:7571-1520758800-1520773200@wbtai.com
SUMMARY:Pancake Breakfast @ Godfrey's Pond
DESCRIPTION:Genesee County Fish & Game Protective Association Inc. \n“Godfrey’s Pond” – 1/2 mile off Byron Road\, East on Griswald Road\, Right into Godfrey’s Pond Road \nSUNDAY March 11th\, 8 a.m. till 12 p.m. \nIncluding: Beverage\, Eggs\, Bacon or Sausage. \nAdults – $8 \nSeniors\, Children – $4 \nOur very own REAL MAPLE SYRUP – weather permitting we may be boiling our yummy stuff \ngodfreyspond.org or godfreyspond.com \nLike us on Facebook
URL:https://wbtai.com/calendars/pancake-breakfast-godfreys-pond/
END:VEVENT
BEGIN:VEVENT
DTSTART;TZID=America/New_York:20180310T160000
DTEND;TZID=America/New_York:20180310T190000
DTSTAMP:20260419T234016
CREATED:20180213T194536Z
LAST-MODIFIED:20180213T194548Z
UID:7032-1520697600-1520708400@wbtai.com
SUMMARY:Corned Beef or Ham Dinner
DESCRIPTION:VFW post 1602 Auxiliary. 25 Edwards Street\, Batavia\, will host a corned beef and ham dinner\, Saturday\, March 10\, 4pm to 7pm.
URL:https://wbtai.com/calendars/corned-beef-or-ham-dinner/
END:VEVENT
BEGIN:VEVENT
DTSTART;TZID=America/New_York:20180309T193000
DTEND;TZID=America/New_York:20180311T223000
DTSTAMP:20260419T234016
CREATED:20180208T151105Z
LAST-MODIFIED:20180208T151119Z
UID:6819-1520623800-1520807400@wbtai.com
SUMMARY:Harvester 56 Theatre
DESCRIPTION:Harvester 56 Theater presents\, ” Six Characters in Search of an Author”\, Friday\, March 9 and Saturday\, March 10\, at 7:30pm and on Sunday\, March 11\, at 2:30pm. This play is rated PG13 and not recommended for young viewers. Tickets available at the box office.
URL:https://wbtai.com/calendars/harvester-56-theatre/
END:VEVENT
BEGIN:VEVENT
DTSTART;TZID=America/New_York:20180309T193000
DTEND;TZID=America/New_York:20180311T203000
DTSTAMP:20260419T234016
CREATED:20180207T191039Z
LAST-MODIFIED:20180207T191053Z
UID:6782-1520623800-1520800200@wbtai.com
SUMMARY:
DESCRIPTION:Harvester 56 Theater presents\, ” Six Characters in Search of an Author”\, Friday\, March 9\, to Saturday\, March 10 at 7:30pm and on Sunday\, March 11 at 230pm . Tickets available at the box office or online.
URL:https://wbtai.com/calendars/6782/
END:VEVENT
BEGIN:VEVENT
DTSTART;TZID=America/New_York:20180308T190000
DTEND;TZID=America/New_York:20180308T200000
DTSTAMP:20260419T234016
CREATED:20180221T190513Z
LAST-MODIFIED:20180221T190523Z
UID:7282-1520535600-1520539200@wbtai.com
SUMMARY:Green Grows the Shamrock
DESCRIPTION:Richmond Memorial Library\, 19 Ross Street\, Batavia\, will host a series\, StoriesGalorious\, Thursday\, March 8\, 7pm\, with “Green Grows the Shamrock”.
URL:https://wbtai.com/calendars/green-grows-the-shamrock/
LOCATION:Richmond Memorial Library\, 19 Ross St.\, Batavia NY
END:VEVENT
BEGIN:VEVENT
DTSTART;TZID=America/New_York:20180306T130000
DTEND;TZID=America/New_York:20180306T160000
DTSTAMP:20260419T234016
CREATED:20180221T184329Z
LAST-MODIFIED:20180221T184341Z
UID:7274-1520341200-1520352000@wbtai.com
SUMMARY:Gadgets & Gear
DESCRIPTION:Bring your questions and e-readers\, phones\, laptops\, and tablets to this hands on class at the Richmond Memorial Library\, Tuesday\, March 6\, 1pm to 4pm. Call 343-9550 to register.
URL:https://wbtai.com/calendars/gadgets-gear-2/
END:VEVENT
BEGIN:VEVENT
DTSTART;TZID=America/New_York:20180306T120000
DTEND;TZID=America/New_York:20180306T130000
DTSTAMP:20260419T234016
CREATED:20180208T161557Z
LAST-MODIFIED:20180208T161609Z
UID:6846-1520337600-1520341200@wbtai.com
SUMMARY:Garden Talk
DESCRIPTION:Genesee County Master Gardeners will host a program on creating cutting gardens\, Tuesday\, March 6\, 12:15\, at the Cornell Cooperative Extension office\, 420 East Main Street\, Batavia. Bring your Lunch.  No registration necessary.
URL:https://wbtai.com/calendars/garden-talk/
END:VEVENT
BEGIN:VEVENT
DTSTART;TZID=America/New_York:20180306T100000
DTEND;TZID=America/New_York:20180306T130000
DTSTAMP:20260419T234016
CREATED:20180221T190136Z
LAST-MODIFIED:20180221T190147Z
UID:7280-1520330400-1520341200@wbtai.com
SUMMARY:Internet Safely
DESCRIPTION:Learn how to safely navigate YouTube\, Twitter\, Wikipedia\, and your Library Catalog\, in this hands on class at the Richmond Memorial Library\, Tuesday\, March 6\, 10am to 1pm. Call 343-9550 to register.
URL:https://wbtai.com/calendars/internet-safely/
END:VEVENT
BEGIN:VEVENT
DTSTART;TZID=America/New_York:20180305T183000
DTEND;TZID=America/New_York:20180305T203000
DTSTAMP:20260419T234016
CREATED:20180221T191008Z
LAST-MODIFIED:20180221T191018Z
UID:7286-1520274600-1520281800@wbtai.com
SUMMARY:Adult book Discussions
DESCRIPTION:The evening adult book discussion group at the Richmond Memorial Library\, 19 Ross Street\, Batavia\, will meet on Monday\, March 5\, 6:30pm\, to discuss\, ” A Gentleman in Moscow”\, by Amor Towles.
URL:https://wbtai.com/calendars/adult-book-discussions/
LOCATION:Richmond Memorial Library\, 19 Ross St.\, Batavia NY
END:VEVENT
BEGIN:VEVENT
DTSTART;TZID=America/New_York:20180305T130000
DTEND;TZID=America/New_York:20180305T160000
DTSTAMP:20260419T234016
CREATED:20180221T185819Z
LAST-MODIFIED:20180221T185830Z
UID:7278-1520254800-1520265600@wbtai.com
SUMMARY:Facebook
DESCRIPTION:Learn about Facebook and sign up for an account\, Monday\, March 5\, 1pm to 4pm\, at the Richmond Memorial Library\, 19 Ross Street\, Batavia. Call 343-9550 to register.
URL:https://wbtai.com/calendars/facebook/
END:VEVENT
END:VCALENDAR