BEGIN:VCALENDAR
VERSION:2.0
PRODID:-//WBTA - ECPv6.14.0//NONSGML v1.0//EN
CALSCALE:GREGORIAN
METHOD:PUBLISH
X-WR-CALNAME:WBTA
X-ORIGINAL-URL:https://wbtai.com
X-WR-CALDESC:Events for WBTA
REFRESH-INTERVAL;VALUE=DURATION:PT1H
X-Robots-Tag:noindex
X-PUBLISHED-TTL:PT1H
BEGIN:VTIMEZONE
TZID:America/New_York
BEGIN:DAYLIGHT
TZOFFSETFROM:-0500
TZOFFSETTO:-0400
TZNAME:EDT
DTSTART:20200308T070000
END:DAYLIGHT
BEGIN:STANDARD
TZOFFSETFROM:-0400
TZOFFSETTO:-0500
TZNAME:EST
DTSTART:20201101T060000
END:STANDARD
END:VTIMEZONE
BEGIN:VEVENT
DTSTART;TZID=America/New_York:20200305T120000
DTEND;TZID=America/New_York:20200305T130000
DTSTAMP:20260425T191515
CREATED:20200207T195216Z
LAST-MODIFIED:20200207T195234Z
UID:20848-1583409600-1583413200@wbtai.com
SUMMARY:Garden Talk Series
DESCRIPTION:Soil Blocking for seed starting will be the Master Gardeners garden talk series topic Thursday\, March 5\, 12:15\, at Cornell Cooperative Extension office\, 420 East Main Street\, Batavia. Bring your lunch.
URL:https://wbtai.com/calendars/garden-talk-series-6/
END:VEVENT
BEGIN:VEVENT
DTSTART;TZID=America/New_York:20200305T190000
DTEND;TZID=America/New_York:20200307T210000
DTSTAMP:20260425T191515
CREATED:20200130T210744Z
LAST-MODIFIED:20200130T210801Z
UID:20607-1583434800-1583614800@wbtai.com
SUMMARY:Disney's The Little Mermaid
DESCRIPTION:Oakfield Alabama Central High School presents\, ” Disney’s The Little Mermaid”\, Thursday\, and Friday\, March 5th and 6th at 7pm and on Saturday\, March 7th\, at 2pm. Tickets available at the door or any cast member.
URL:https://wbtai.com/calendars/disneys-the-little-mermaid/
END:VEVENT
BEGIN:VEVENT
DTSTART;TZID=America/New_York:20200306T190000
DTEND;TZID=America/New_York:20200307T220000
DTSTAMP:20260425T191515
CREATED:20200211T155106Z
LAST-MODIFIED:20200211T155153Z
UID:20899-1583521200-1583618400@wbtai.com
SUMMARY:Wizard of OZ
DESCRIPTION:Pembroke Jr.\, Sr. High School presents\, “Wizard of OZ”\, Friday and Saturday\, March 6\, at 7pm and March 7th\, at 2pm and 7pm. Tickets available at the door.
URL:https://wbtai.com/calendars/wizard-of-oz/
END:VEVENT
BEGIN:VEVENT
DTSTART;TZID=America/New_York:20200307T100000
DTEND;TZID=America/New_York:20200307T120000
DTSTAMP:20260425T191515
CREATED:20200303T152019Z
LAST-MODIFIED:20200303T152104Z
UID:21148-1583575200-1583582400@wbtai.com
SUMMARY:Brave
DESCRIPTION:Saturday\, March 7\, 10am\, in the Gallery Room of the Richmond Memorial Library\, 19 Ross Street\, Batavia\, the movie\, “Brave” will be shown.
URL:https://wbtai.com/calendars/brave/
END:VEVENT
BEGIN:VEVENT
DTSTART;TZID=America/New_York:20200307T100000
DTEND;TZID=America/New_York:20200307T160000
DTSTAMP:20260425T191515
CREATED:20200305T183900Z
LAST-MODIFIED:20200305T183915Z
UID:21210-1583575200-1583596800@wbtai.com
SUMMARY:GLOW Women Rise
DESCRIPTION:GLOW Women Rise presents a women’s empowerment forum\, Saturday\, March 7\, 10am to 4pm\, at the First Presbyterian Church\, 300 East Main Street\, Batavia. Registration to this free event is required.
URL:https://wbtai.com/calendars/glow-women-rise/
END:VEVENT
BEGIN:VEVENT
DTSTART;TZID=America/New_York:20200307T100000
DTEND;TZID=America/New_York:20200308T160000
DTSTAMP:20260425T191515
CREATED:20200207T183344Z
LAST-MODIFIED:20200207T183359Z
UID:20825-1583575200-1583683200@wbtai.com
SUMMARY:Cat show
DESCRIPTION:Genesee Cat Fanciers present the 68th annual cat show\, Saturday and Sunday\, March 7 and 8\, 10am to 4pm\, at the Sweden Clarkson Community Center\, Brockport. (for more information contact Carmen at 329-1325)
URL:https://wbtai.com/calendars/cat-show/
END:VEVENT
BEGIN:VEVENT
DTSTART;TZID=America/New_York:20200307T123000
DTEND;TZID=America/New_York:20200307T150000
DTSTAMP:20260425T191515
CREATED:20200109T154408Z
LAST-MODIFIED:20200109T154445Z
UID:20302-1583584200-1583593200@wbtai.com
SUMMARY:Arc Art & Sprout Film Festival
DESCRIPTION:Arc of Genesee Orleans presents the Art & Sprout Film Festival Saturday\, March 7\, in the Steiner Theatre\, GCC Batavia Campus. Doors Open at 12:30. The Festival showcases the talents of local and other artists with developmental disabilities. Come and celebrate the abilities of these talented artists.  Admission is free!
URL:https://wbtai.com/calendars/arc-art-sprout-film-festival/
END:VEVENT
BEGIN:VEVENT
DTSTART;TZID=America/New_York:20200310T190000
DTEND;TZID=America/New_York:20200310T200000
DTSTAMP:20260425T191515
CREATED:20200213T145737Z
LAST-MODIFIED:20200213T145753Z
UID:20938-1583866800-1583870400@wbtai.com
SUMMARY:Speak Up Toastmasters
DESCRIPTION:Speak Up Toastmasters will meet on Tuesday\, March 10\, 7pm\, at the Emmanuel Baptist Church\, 190 Oak Street\, Batavia. RSVP to 993-0515.
URL:https://wbtai.com/calendars/speak-up-toastmasters-3/
END:VEVENT
BEGIN:VEVENT
DTSTART;TZID=America/New_York:20200310T190000
DTEND;TZID=America/New_York:20200310T200000
DTSTAMP:20260425T191515
CREATED:20200303T153342Z
LAST-MODIFIED:20200303T153507Z
UID:21156-1583866800-1583870400@wbtai.com
SUMMARY:No Blarney
DESCRIPTION:The Richmond Memorial Library\, 19 Ross Street\, Batavia\, presents the traditional Irish music of No Blarney\, Tuesday\, March 10\, 7pm\, in the reading room.
URL:https://wbtai.com/calendars/no-blarney-2/
END:VEVENT
BEGIN:VEVENT
DTSTART;TZID=America/New_York:20200310T190000
DTEND;TZID=America/New_York:20200310T210000
DTSTAMP:20260425T191515
CREATED:20200220T141127Z
LAST-MODIFIED:20200220T141138Z
UID:21028-1583866800-1583874000@wbtai.com
SUMMARY:Batavia Society of Artists
DESCRIPTION:The Batavia Society of Artists will host Laura Kemler\, Tuesday\, March 10\, 7pm\, at Go Art!\, 201 East Main Street\, Batavia. Laura will do a demonstration on Gouache\, an opaque water color. (More information call Teresa at 506-2465)
URL:https://wbtai.com/calendars/batavia-society-of-artists-6/
END:VEVENT
BEGIN:VEVENT
DTSTART;TZID=America/New_York:20200311T130000
DTEND;TZID=America/New_York:20200311T150000
DTSTAMP:20260425T191515
CREATED:20200213T195608Z
LAST-MODIFIED:20200213T195748Z
UID:20948-1583931600-1583938800@wbtai.com
SUMMARY:LifeSpan Volunteers Needed
DESCRIPTION:Volunteers to be advocates for residents living in long term care are needed. Genesee County Office for the Aging\, Bank Street\, Batavia\, will hold and informational seminar on Wednesday\, March 11\, 1pm.\, for interested people willing to volunteer flexible time to this service. Call Deb Frank at 585-287-6378 for more information.
URL:https://wbtai.com/calendars/lifespan-volunteers-needed/
END:VEVENT
BEGIN:VEVENT
DTSTART;TZID=America/New_York:20200312T180000
DTEND;TZID=America/New_York:20200312T210000
DTSTAMP:20260425T191515
CREATED:20200303T152316Z
LAST-MODIFIED:20200303T152328Z
UID:21150-1584036000-1584046800@wbtai.com
SUMMARY:Reel Discussions
DESCRIPTION:Come view the movie\, ” The Secret of Kells” and join in discussion afterwards\, Thursday\, March 12\, 6pm\, at the Richmond Memorial Library\, 19 Ross Street\, Batavia.
URL:https://wbtai.com/calendars/reel-discussions-23/
END:VEVENT
BEGIN:VEVENT
DTSTART;TZID=America/New_York:20200312T190000
DTEND;TZID=America/New_York:20200312T200000
DTSTAMP:20260425T191515
CREATED:20200219T175128Z
LAST-MODIFIED:20200219T175142Z
UID:21014-1584039600-1584043200@wbtai.com
SUMMARY:Community for Understanding
DESCRIPTION:St. Mark’s Episcopal Church\, LeRoy\, next Community for Understanding discussion series will meet on Thursday\, March 12\, 7pm. “The Moment of Lift: How Empowering Women Changes the World”\, by Melinda Gates will be reviewed. (for more information call 768-7200 or go online)
URL:https://wbtai.com/calendars/community-for-understanding-6/
END:VEVENT
BEGIN:VEVENT
DTSTART;TZID=America/New_York:20200314T100000
DTEND;TZID=America/New_York:20200314T120000
DTSTAMP:20260425T191515
CREATED:20200108T164729Z
LAST-MODIFIED:20200108T164746Z
UID:20271-1584180000-1584187200@wbtai.com
SUMMARY:HLOM Children's Craft
DESCRIPTION:The Holland Land Office Museum will host a children’s craft morning\, Saturday\, March 14\, 10am to noon\, at the Museum\, Main Street\, Batavia. Children ages 5 to 12 are invited to make no sew pouches. To register call 343-4727.
URL:https://wbtai.com/calendars/hlom-childrens-craft/
END:VEVENT
BEGIN:VEVENT
DTSTART;TZID=America/New_York:20200314T163000
DTEND;TZID=America/New_York:20200314T193000
DTSTAMP:20260425T191515
CREATED:20200218T161715Z
LAST-MODIFIED:20200313T174217Z
UID:20993-1584203400-1584214200@wbtai.com
SUMMARY:Spay-ghetti Dinner CANCELLED
DESCRIPTION:CANCELLED Volunteers for Animals will host a ” Spay” ghetti dinner\, Saturday\, March 14\, 4:30pm to 7:30pm in the Notre Dame Cafeteria\, Woodrow Road Entrance\, Batavia. Spaghetti with homemade sauce\, meatballs\, salad\, bread\, cookies\, and beverage. Eat in or take out. All proceeds benefit the animals.
URL:https://wbtai.com/calendars/spay-ghetti-dinner/
END:VEVENT
BEGIN:VEVENT
DTSTART;TZID=America/New_York:20200315T080000
DTEND;TZID=America/New_York:20200315T120000
DTSTAMP:20260425T191515
CREATED:20200213T193540Z
LAST-MODIFIED:20200313T173249Z
UID:20946-1584259200-1584273600@wbtai.com
SUMMARY:Kiwanis Pancake Breakfast
DESCRIPTION:CANCELLED Byron Kiwanis pancake breakfast\, Sunday\, March 15\, 8am to noon at the Byron Fire Hall\, Rt. 262. Children under the age of 6 are free.
URL:https://wbtai.com/calendars/kiwanis-pancake-breakfast/
END:VEVENT
BEGIN:VEVENT
DTSTART;TZID=America/New_York:20200317T100000
DTEND;TZID=America/New_York:20200317T120000
DTSTAMP:20260425T191515
CREATED:20200303T153013Z
LAST-MODIFIED:20200303T153027Z
UID:21154-1584439200-1584446400@wbtai.com
SUMMARY:Gaga for Google
DESCRIPTION:Learn about the power of Google\, in a hands on class at the Richmond Memorial Library Tuesday\, March 17th\, 10am to noon. To register call 343-9050.
URL:https://wbtai.com/calendars/gaga-for-google-2/
END:VEVENT
BEGIN:VEVENT
DTSTART;TZID=America/New_York:20200317T130000
DTEND;TZID=America/New_York:20200317T150000
DTSTAMP:20260425T191515
CREATED:20200303T152705Z
LAST-MODIFIED:20200303T152742Z
UID:21152-1584450000-1584457200@wbtai.com
SUMMARY:Manage your digital Life
DESCRIPTION:Take control of your digital information in a seminar offered by the Richmond Memorial Library\, 19 Ross Street\, Batavia\, Tuesday\, March 17\, 1pm. For more information and registration call 343-9550.
URL:https://wbtai.com/calendars/manage-your-digital-life/
END:VEVENT
BEGIN:VEVENT
DTSTART;TZID=America/New_York:20200318T080000
DTEND;TZID=America/New_York:20200318T170000
DTSTAMP:20260425T191515
CREATED:20200303T155627Z
LAST-MODIFIED:20200303T155658Z
UID:21165-1584518400-1584550800@wbtai.com
SUMMARY:Public Speaking for Business People
DESCRIPTION:Contact the Genesee County Chamber of Commerce to register for their seminar on Public Speaking for Business People to be held Wednesday\, March 18\, 8am\, at the Chamber Office\, 8276 Park Road\, Batavia.
URL:https://wbtai.com/calendars/public-speaking-for-business-people/
END:VEVENT
BEGIN:VEVENT
DTSTART;TZID=America/New_York:20200318T170000
DTEND;TZID=America/New_York:20200318T190000
DTSTAMP:20260425T191515
CREATED:20200312T175810Z
LAST-MODIFIED:20200312T175820Z
UID:21287-1584550800-1584558000@wbtai.com
SUMMARY:St. Joseph's Table
DESCRIPTION:The public is invited to celebrate St. Joseph’s Table\, Wednesday\, March 18\, 5pm to 7pm at Ascension Parish Hall\, 17 Sumner Street\, Batavia. Children age 10 and under are free.
URL:https://wbtai.com/calendars/st-josephs-table-2/
END:VEVENT
BEGIN:VEVENT
DTSTART;TZID=America/New_York:20200321T080000
DTEND;TZID=America/New_York:20200321T110000
DTSTAMP:20260425T191515
CREATED:20200305T184119Z
LAST-MODIFIED:20200305T184154Z
UID:21212-1584777600-1584788400@wbtai.com
SUMMARY:WBTA Auction
DESCRIPTION:The Spring Edition of the WBTA Really Big Radio Auction will be held on Saturday\, March 21\, starting at 8am. Be sure to check out the auction page on our website for items going up for bid.
URL:https://wbtai.com/calendars/wbta-auction-16/
END:VEVENT
BEGIN:VEVENT
DTSTART;TZID=America/New_York:20200321T170000
DTEND;TZID=America/New_York:20200321T190000
DTSTAMP:20260425T191515
CREATED:20200305T171838Z
LAST-MODIFIED:20200305T171901Z
UID:21208-1584810000-1584817200@wbtai.com
SUMMARY:Prime Rib Dinner
DESCRIPTION:Elba United Methodist Church\, Chapel Street\, will host a prime rib dinner\, Saturday\, March 21. Take outs available. Children under 5 are free. Call 757-2224 for reservations.
URL:https://wbtai.com/calendars/prime-rib-dinner-5/
END:VEVENT
BEGIN:VEVENT
DTSTART;TZID=America/New_York:20200321T180000
DTEND;TZID=America/New_York:20200321T210000
DTSTAMP:20260425T191515
CREATED:20200303T154618Z
LAST-MODIFIED:20200303T154638Z
UID:21161-1584813600-1584824400@wbtai.com
SUMMARY:Coffee House
DESCRIPTION:Community Fellowship Church\, 3146 Johnson Creek Road\, Middleport\, will host their free monthly coffee house\, Saturday\, March 21\, 6pm to 9pm.  (for more information contact Pastor Joe at 716-628-1275)
URL:https://wbtai.com/calendars/coffee-house/
END:VEVENT
BEGIN:VEVENT
DTSTART;TZID=America/New_York:20200321T190000
DTEND;TZID=America/New_York:20200321T220000
DTSTAMP:20260425T191515
CREATED:20200306T191526Z
LAST-MODIFIED:20200306T191545Z
UID:21223-1584817200-1584828000@wbtai.com
SUMMARY:Taste of Notre Dame
DESCRIPTION:Taste of Notre Dame\, Saturday\, March 21\, 7pm to 10pm\, at the school\, 73 Union Street\, Batavia. Event open to those 21 and over. For tickets call 343-2783 ext. 106. \n 
URL:https://wbtai.com/calendars/taste-of-notre-dame/
END:VEVENT
BEGIN:VEVENT
DTSTART;TZID=America/New_York:20200324T190000
DTEND;TZID=America/New_York:20200324T200000
DTSTAMP:20260425T191515
CREATED:20200213T150016Z
LAST-MODIFIED:20200213T150032Z
UID:20940-1585076400-1585080000@wbtai.com
SUMMARY:Speak Up Toastmasters
DESCRIPTION:Speak Up Toastmasters will meet on Tuesday\, March 24\, 7pm\, at the Emmanuel Baptist Church\, 190 Oak Street\, Batavia. Public Welcome\, call to reserve your seat at 993-0515.
URL:https://wbtai.com/calendars/speak-up-toastmasters-4/
END:VEVENT
BEGIN:VEVENT
DTSTART;TZID=America/New_York:20200324T190000
DTEND;TZID=America/New_York:20200324T200000
DTSTAMP:20260425T191515
CREATED:20200303T145259Z
LAST-MODIFIED:20200317T191844Z
UID:21133-1585076400-1585080000@wbtai.com
SUMMARY:Postponed Stafford Founder's Day
DESCRIPTION:Postponed to a later date . The public is invited to the Stafford Founder’s Day 200th Birthday Celebration\, Tuesday\, March 24\, 7pm in the Stafford Town Hall.
URL:https://wbtai.com/calendars/stafford-founders-day/
END:VEVENT
BEGIN:VEVENT
DTSTART;TZID=America/New_York:20200326T170000
DTEND;TZID=America/New_York:20200326T200000
DTSTAMP:20260425T191515
CREATED:20200109T153613Z
LAST-MODIFIED:20200109T153823Z
UID:20300-1585242000-1585252800@wbtai.com
SUMMARY:Youth Bureau Awards Banquet
DESCRIPTION:Genesee County and Batavia Youth Bureau Board Recognition Awards Banquet will be held Thursday\, March 26. For tickets and more information contact the Youth Bureau at 344-3960.
URL:https://wbtai.com/calendars/youth-bureau-awards-banquet/
END:VEVENT
BEGIN:VEVENT
DTSTART;TZID=America/New_York:20200327T193000
DTEND;TZID=America/New_York:20200327T210000
DTSTAMP:20260425T191515
CREATED:20191230T143409Z
LAST-MODIFIED:20191230T143430Z
UID:20141-1585337400-1585342800@wbtai.com
SUMMARY:Steve Grills & the Roadmasters
DESCRIPTION:Singer guitarist Steve Grills will play in the GCC Batavia Campus Stuart Steiner Theatre\, Friday\, March 21\, 7:30pm. Tickets available at the GCC Box Office or call 345-6814.
URL:https://wbtai.com/calendars/steve-grills-the-roadmasters/
END:VEVENT
BEGIN:VEVENT
DTSTART;TZID=America/New_York:20200328T080000
DTEND;TZID=America/New_York:20200328T100000
DTSTAMP:20260425T191515
CREATED:20200312T175524Z
LAST-MODIFIED:20200312T175538Z
UID:21283-1585382400-1585389600@wbtai.com
SUMMARY:Easter Bunny Pancake Breakfast
DESCRIPTION:St. Paul Lutheran School will host a pancake breakfast with the Easter Bunny\, Saturday\, March 28\, 8am to 10am at Applebee’s.  Event is pre-sale tickets ONLY. Call 343-0488 for tickets and reservations.
URL:https://wbtai.com/calendars/easter-bunny-pancake-breakfast/
END:VEVENT
BEGIN:VEVENT
DTSTART;TZID=America/New_York:20200328T180000
DTEND;TZID=America/New_York:20200328T210000
DTSTAMP:20260425T191515
CREATED:20200303T155031Z
LAST-MODIFIED:20200323T163655Z
UID:21163-1585418400-1585429200@wbtai.com
SUMMARY:Cancelled Round & Square Dance
DESCRIPTION:Community Fellowship Church\, 3146 Johnson Creek Road\, Middleport\, will host an old fashioned round and square barn dance\, Saturday\, March 28\, 6pm. ( Call Pastor Joe at 716-628-1275 for more information )  CANCELLED \n 
URL:https://wbtai.com/calendars/round-square-dance/
END:VEVENT
END:VCALENDAR