BEGIN:VCALENDAR
VERSION:2.0
PRODID:-//WBTA - ECPv6.14.0//NONSGML v1.0//EN
CALSCALE:GREGORIAN
METHOD:PUBLISH
X-WR-CALNAME:WBTA
X-ORIGINAL-URL:https://wbtai.com
X-WR-CALDESC:Events for WBTA
REFRESH-INTERVAL;VALUE=DURATION:PT1H
X-Robots-Tag:noindex
X-PUBLISHED-TTL:PT1H
BEGIN:VTIMEZONE
TZID:America/New_York
BEGIN:DAYLIGHT
TZOFFSETFROM:-0500
TZOFFSETTO:-0400
TZNAME:EDT
DTSTART:20230312T070000
END:DAYLIGHT
BEGIN:STANDARD
TZOFFSETFROM:-0400
TZOFFSETTO:-0500
TZNAME:EST
DTSTART:20231105T060000
END:STANDARD
END:VTIMEZONE
BEGIN:VEVENT
DTSTART;TZID=America/New_York:20230318T090000
DTEND;TZID=America/New_York:20230318T130000
DTSTAMP:20260422T185050
CREATED:20230206T194437Z
LAST-MODIFIED:20230206T194558Z
UID:33784-1679130000-1679144400@wbtai.com
SUMMARY:Fishermen's Flea Market
DESCRIPTION:There will be a fishermen’s flea market at the Alexander Firemen’s Rec Hall\, Rt. 98 \, Alexander\, Saturday\, March 18\, from 9am to 1pm. Children under age 12 are free.
URL:https://wbtai.com/calendars/fishermens-flea-market/
END:VEVENT
BEGIN:VEVENT
DTSTART;TZID=America/New_York:20230318T120000
DTEND;TZID=America/New_York:20230318T140000
DTSTAMP:20260422T185050
CREATED:20230316T181955Z
LAST-MODIFIED:20230316T182001Z
UID:34340-1679140800-1679148000@wbtai.com
SUMMARY:Chicken BBQ
DESCRIPTION:The Corfu United Presbyterian Church\, 63 Alleghany Street\, Corfu\, will host a drive thru chicken BBQ\, noon until sold out\, Saturday\, March 18.
URL:https://wbtai.com/calendars/chicken-bbq-46/
END:VEVENT
BEGIN:VEVENT
DTSTART;TZID=America/New_York:20230322T170000
DTEND;TZID=America/New_York:20230322T190000
DTSTAMP:20260422T185050
CREATED:20230222T155139Z
LAST-MODIFIED:20230222T155146Z
UID:33974-1679504400-1679511600@wbtai.com
SUMMARY:Spaghetti Western Dinner
DESCRIPTION:Crossroads House invites the public to their newly scheduled Spaghetti Western Dinner\, Wednesday\, March 22\, 5pm to 7pm  at the Batavia First Presbyterian Church\, 300 East Main Street. Take outs available starting at 4pm. Free will offering at the door.
URL:https://wbtai.com/calendars/spaghetti-western-dinner/
END:VEVENT
BEGIN:VEVENT
DTSTART;TZID=America/New_York:20230323T180000
DTEND;TZID=America/New_York:20230323T220000
DTSTAMP:20260422T185050
CREATED:20230316T172935Z
LAST-MODIFIED:20230316T172941Z
UID:34330-1679594400-1679608800@wbtai.com
SUMMARY:Reel Discussions
DESCRIPTION:Richmond Memorial Library\, Ross Street\, Batavia\, will host reel discussions\, featuring the movie\, ” I Am Woman”\, Thursday\, March 23\, at 6pm.
URL:https://wbtai.com/calendars/reel-discussions-38/
END:VEVENT
BEGIN:VEVENT
DTSTART;TZID=America/New_York:20230324T090000
DTEND;TZID=America/New_York:20230324T120000
DTSTAMP:20260422T185050
CREATED:20230316T174224Z
LAST-MODIFIED:20230316T181621Z
UID:34338-1679648400-1679659200@wbtai.com
SUMMARY:Tree an Berry Pruning
DESCRIPTION:Wyoming County Cornell Cooperative extension will due a program on backyard tree fruit and berry pruning demonstration and discussion\, Saturday\, March 25\, 9am to noon. Pre-registration is required for this outdoor workshop. Register online or call Don at 786-2251 ext. 113.
URL:https://wbtai.com/calendars/tree-an-berry-pruning/
END:VEVENT
BEGIN:VEVENT
DTSTART;TZID=America/New_York:20230325T080000
DTEND;TZID=America/New_York:20230325T110000
DTSTAMP:20260422T185050
CREATED:20230222T182647Z
LAST-MODIFIED:20230222T182654Z
UID:33991-1679731200-1679742000@wbtai.com
SUMMARY:WBTA Auction
DESCRIPTION:The Next WBTA Really BIG Radio Auction will be held Saturday\, March 25\, starting at 8am. Check out the website at wbtai.com for items going up for bid.
URL:https://wbtai.com/calendars/wbta-auction-29/
END:VEVENT
BEGIN:VEVENT
DTSTART;TZID=America/New_York:20230325T160000
DTEND;TZID=America/New_York:20230325T180000
DTSTAMP:20260422T185050
CREATED:20230214T182438Z
LAST-MODIFIED:20230214T182450Z
UID:33878-1679760000-1679767200@wbtai.com
SUMMARY:Scalloped Potatoes & Ham
DESCRIPTION:Morganville United Church of Christ\, Stafford\, will host a ham and scalloped potatoes dinner Saturday\, March 25\, 4pm to 6pm. Free for children under age 5. Tickets available by calling 585-757-2257 – limited number available at the door.
URL:https://wbtai.com/calendars/scalloped-potatoes-ham/
END:VEVENT
BEGIN:VEVENT
DTSTART;TZID=America/New_York:20230325T170000
DTEND;TZID=America/New_York:20230325T210000
DTSTAMP:20260422T185050
CREATED:20230110T190949Z
LAST-MODIFIED:20230110T190959Z
UID:33302-1679763600-1679778000@wbtai.com
SUMMARY:Celebrate Agriculture Dinner
DESCRIPTION:Genesee County Chamber will celebrate Agriculture with the annual dinner to be held Saturday\, March 25\, at the Alexander Fire Hall. This event sells out every year\, get your tickets now.
URL:https://wbtai.com/calendars/celebrate-agriculture-dinner-3/
END:VEVENT
BEGIN:VEVENT
DTSTART;TZID=America/New_York:20230326T080000
DTEND;TZID=America/New_York:20230326T130000
DTSTAMP:20260422T185050
CREATED:20230223T151537Z
LAST-MODIFIED:20230223T151545Z
UID:34004-1679817600-1679835600@wbtai.com
SUMMARY:Pancake Breakfast
DESCRIPTION:Pancake breakfast at the Alden Fire Dept. Substation # 2\, 11856 Broadway\, to benefit Gateway Home\, Sunday\, March 26\, 8am to 1pm. Free will offering at the door. ( more information contact Carolyn Gadd at 716-863-0513)
URL:https://wbtai.com/calendars/pancake-breakfast-9/
END:VEVENT
BEGIN:VEVENT
DTSTART;TZID=America/New_York:20230329T100000
DTEND;TZID=America/New_York:20230329T120000
DTSTAMP:20260422T185050
CREATED:20230316T173439Z
LAST-MODIFIED:20230316T173448Z
UID:34334-1680084000-1680091200@wbtai.com
SUMMARY:Reel Discussions
DESCRIPTION:Come view the free movie\, ” Riverdance: The Animated Adventure”\, Wednesday\, March 29\, 10am\, at the Richmond Memorial Library\, Ross Street\, Batavia.
URL:https://wbtai.com/calendars/reel-discussions-39/
END:VEVENT
BEGIN:VEVENT
DTSTART;TZID=America/New_York:20230330T180000
DTEND;TZID=America/New_York:20230330T200000
DTSTAMP:20260422T185050
CREATED:20230316T171332Z
LAST-MODIFIED:20230316T171341Z
UID:34321-1680199200-1680206400@wbtai.com
SUMMARY:Catch the Gardening Bug
DESCRIPTION:Genesee County Master Gardeners will host three programs themed\, “Catch the Gardening Bug”\, March 30\, April 10\, and April 25th. Create a Habitat in Your Yard will be the first on Thursday\, March 30\, from 6pm to 8pm at Cornell Cooperative Extension office\, Batavia. pre-registration is required. Call Jan at 343-3040 ext. 132 or online.
URL:https://wbtai.com/calendars/catch-the-gardening-bug-5/
END:VEVENT
BEGIN:VEVENT
DTSTART;TZID=America/New_York:20230401T110000
DTEND;TZID=America/New_York:20230401T130000
DTSTAMP:20260422T185050
CREATED:20230328T145437Z
LAST-MODIFIED:20230331T155321Z
UID:34514-1680346800-1680354000@wbtai.com
SUMMARY:Easter Egg Hunt
DESCRIPTION:Batavia First United Methodist Church\, Lewiston Road\, will host an Easter Egg Hunt\, on Saturday April 1. Due to weather forecast this event has been moved to 11am to 1pm.
URL:https://wbtai.com/calendars/easter-egg-hunt-3/
END:VEVENT
BEGIN:VEVENT
DTSTART;TZID=America/New_York:20230401T130000
DTEND;TZID=America/New_York:20230401T140000
DTSTAMP:20260422T185050
CREATED:20230316T173217Z
LAST-MODIFIED:20230316T173224Z
UID:34332-1680354000-1680357600@wbtai.com
SUMMARY:The Royal Pitches
DESCRIPTION:Richmond Memorial Library\, Ross Street\, Batavia\, will host a free concert featuring\, “The Royal Pitches”\, an all female University at Buffalo acapella group\, on Saturday\, April 1\, 1pm.
URL:https://wbtai.com/calendars/the-royal-pitches/
END:VEVENT
BEGIN:VEVENT
DTSTART;TZID=America/New_York:20230401T190000
DTEND;TZID=America/New_York:20230401T210000
DTSTAMP:20260422T185050
CREATED:20230307T170225Z
LAST-MODIFIED:20230307T170243Z
UID:34175-1680375600-1680382800@wbtai.com
SUMMARY:GSO Concert
DESCRIPTION:The Genesee Symphony Orchestra will perform a Brahms Journey\, Part 2\, in concert Saturday\, April 1\, in the Elba Central School Auditorium\, 7pm. Tickets available locally or at the door.
URL:https://wbtai.com/calendars/gso-concert-10/
END:VEVENT
BEGIN:VEVENT
DTSTART;TZID=America/New_York:20230402T110000
DTEND;TZID=America/New_York:20230402T140000
DTSTAMP:20260422T185050
CREATED:20230302T160431Z
LAST-MODIFIED:20230302T160512Z
UID:34107-1680433200-1680444000@wbtai.com
SUMMARY:chicken BBQ
DESCRIPTION:St. Paul Lutheran Church and School\, 31 Washington Avenue\, Batavia\, will host a chicken bbq\, Sunday\, April 2\, 11am to 2pm. Drive Thru ONLY!. Tickets available pre-sale at the church office or call Diane at 356-8789.
URL:https://wbtai.com/calendars/chicken-bbq-44/
END:VEVENT
BEGIN:VEVENT
DTSTART;TZID=America/New_York:20230406T120000
DTEND;TZID=America/New_York:20230406T130000
DTSTAMP:20260422T185050
CREATED:20230110T192651Z
LAST-MODIFIED:20230110T192658Z
UID:33311-1680782400-1680786000@wbtai.com
SUMMARY:Garden Talk Series
DESCRIPTION:Starting a compost pile will be the topic for Genesee County Master Gardeners Garden Talk Thursday\, April 6\, at noon. Call Mandy at 343-3040 to register to attend in person or receive a zoom link.
URL:https://wbtai.com/calendars/garden-talk-series-12/
END:VEVENT
BEGIN:VEVENT
DTSTART;TZID=America/New_York:20230408T090000
DTEND;TZID=America/New_York:20230408T100000
DTSTAMP:20260422T185050
CREATED:20230322T164236Z
LAST-MODIFIED:20230322T164244Z
UID:34428-1680944400-1680948000@wbtai.com
SUMMARY:Kiwanis Egg Hunt
DESCRIPTION:Batavia Kiwanis Club will host the annual Easter Egg Hunt in Centennial Park\, Saturday\, April 8\, at 9am. Children ages birth to 3\, 4 to 7\, and 8 to 10 are invited to participate.  Golden eggs will be hidden in the park from April 1 to April 6. Golden eggs found must be turned in at the Egg Hunt on the 8th to receive an Oliver’s Chocolate bunny.
URL:https://wbtai.com/calendars/kiwanis-egg-hunt-2/
END:VEVENT
BEGIN:VEVENT
DTSTART;TZID=America/New_York:20230408T130000
DTEND;TZID=America/New_York:20230408T140000
DTSTAMP:20260422T185050
CREATED:20230316T173743Z
LAST-MODIFIED:20230316T173751Z
UID:34336-1680958800-1680962400@wbtai.com
SUMMARY:Indigo Flow
DESCRIPTION:The Richmond Memorial Library\, Ross Street\, Batavia\, welcomes\, Indigo Flow\, for a free concert Saturday\, April 8\, 1pm. For more information call the Library at 343-9550.
URL:https://wbtai.com/calendars/indigo-flow/
END:VEVENT
BEGIN:VEVENT
DTSTART;TZID=America/New_York:20230410T180000
DTEND;TZID=America/New_York:20230410T200000
DTSTAMP:20260422T185050
CREATED:20230316T171712Z
LAST-MODIFIED:20230316T172521Z
UID:34323-1681149600-1681156800@wbtai.com
SUMMARY:Catch the Gardening Bug
DESCRIPTION:The second program in the Genesee Master Gardener’s  Catch the Gardening bug series will be held Monday\, April 10 from 6pm to 8pm at Cornell Cooperative Extension\, East Main Street\, Batavia. Succulents will be the program. Pre-registration is required. Call Jan at 343-3040 or online.
URL:https://wbtai.com/calendars/catch-the-gardening-bug-6/
END:VEVENT
BEGIN:VEVENT
DTSTART;TZID=America/New_York:20230413T170000
DTEND;TZID=America/New_York:20230413T210000
DTSTAMP:20260422T185050
CREATED:20230110T185800Z
LAST-MODIFIED:20230110T185810Z
UID:33296-1681405200-1681419600@wbtai.com
SUMMARY:Youth Recognition Banquet
DESCRIPTION:Genesee County Youth Board will host the annual awards banquet for youth and adults\, Thursday\, April 13. Call 344-3960 for reservations and more information.
URL:https://wbtai.com/calendars/youth-recognition-banquet-2/
END:VEVENT
BEGIN:VEVENT
DTSTART;TZID=America/New_York:20230414T170000
DTEND;TZID=America/New_York:20230416T170000
DTSTAMP:20260422T185050
CREATED:20230110T191508Z
LAST-MODIFIED:20230110T191528Z
UID:33304-1681491600-1681664400@wbtai.com
SUMMARY:Chamber Home Show
DESCRIPTION:The annual Genesee County Chamber Home Show will be held April 14\, 15\, and 16th at the David McCarthy Memorial Ice Arena. Contact Kelly B for more information.
URL:https://wbtai.com/calendars/chamber-home-show-2/
END:VEVENT
BEGIN:VEVENT
DTSTART;TZID=America/New_York:20230422T160000
DTEND;TZID=America/New_York:20230422T180000
DTSTAMP:20260422T185050
CREATED:20230316T172726Z
LAST-MODIFIED:20230316T172733Z
UID:34328-1682179200-1682186400@wbtai.com
SUMMARY:Chicken BBQ
DESCRIPTION:Covington Methodist Church\, Simmons Road\, Perry\, will host a chicken bbq with homemade pie\, Saturday\, April 22\, starting at 4pm.
URL:https://wbtai.com/calendars/chicken-bbq-45/
END:VEVENT
BEGIN:VEVENT
DTSTART;TZID=America/New_York:20230425T180000
DTEND;TZID=America/New_York:20230425T200000
DTSTAMP:20260422T185050
CREATED:20230316T172027Z
LAST-MODIFIED:20230316T172033Z
UID:34325-1682445600-1682452800@wbtai.com
SUMMARY:Catch the Gardening Bug
DESCRIPTION:The last program in the Genesee County Master Gardener’s series Catch the Gardening Bug series will be held Tuesday\, April 25\, 6pm to 8pm at Cornell Cooperative Extension office\, East Main Street\, Batavia. Wonder sunflowers will be the topic. Pre-registration is required. On-line registration or call Jan at 343-3040 ext. 132.
URL:https://wbtai.com/calendars/catch-the-gardening-bug-7/
END:VEVENT
BEGIN:VEVENT
DTSTART;TZID=America/New_York:20230427T160000
DTEND;TZID=America/New_York:20230427T190000
DTSTAMP:20260422T185050
CREATED:20230322T162645Z
LAST-MODIFIED:20230322T162654Z
UID:34426-1682611200-1682622000@wbtai.com
SUMMARY:GCA Spaghetti Dinner
DESCRIPTION:Genesee Cancer Assistance Joe Gerace annual spaghetti dinner will be held at the Stafford Fire Hall\, Thursday\, April 27th\, 4pm to 7pm. Get your presale tickets by calling 345-0417.
URL:https://wbtai.com/calendars/gca-spaghetti-dinner-4/
END:VEVENT
BEGIN:VEVENT
DTSTART;TZID=America/New_York:20230427T180000
DTEND;TZID=America/New_York:20230427T210000
DTSTAMP:20260422T185050
CREATED:20230307T165943Z
LAST-MODIFIED:20230307T165952Z
UID:34173-1682618400-1682629200@wbtai.com
SUMMARY:Polka Night
DESCRIPTION:Batavia Downs\, Park Road\, will host Jimmy Sturr and His Orchestra\, for Polka BuzzNight\, Thursday\, April 27. Doors open at 6pm. Tickets available on line at BataviaConcerts.com.
URL:https://wbtai.com/calendars/polka-night/
END:VEVENT
BEGIN:VEVENT
DTSTART;TZID=America/New_York:20230429T110000
DTEND;TZID=America/New_York:20230429T130000
DTSTAMP:20260422T185050
CREATED:20230425T181128Z
LAST-MODIFIED:20230425T181139Z
UID:34922-1682766000-1682773200@wbtai.com
SUMMARY:Healthy Kids Day
DESCRIPTION:Saturday\, April 29th\, 11am to 1pm\, Healthy Kids Day at the GLOW YMCA. Register by calling 344-1664.
URL:https://wbtai.com/calendars/healthy-kids-day/
END:VEVENT
BEGIN:VEVENT
DTSTART;TZID=America/New_York:20230429T160000
DTEND;TZID=America/New_York:20230429T170000
DTSTAMP:20260422T185050
CREATED:20230413T131803Z
LAST-MODIFIED:20230413T131810Z
UID:34734-1682784000-1682787600@wbtai.com
SUMMARY:Gen. Valley Wind Ensemble
DESCRIPTION:Genesee Valley Wind Ensemble will perform Saturday\, April 29\, 4pm\, in the Alexander Middle-High School. Children age 5 and under are free. Tickets available at the door.
URL:https://wbtai.com/calendars/gen-valley-wind-ensemble-3/
END:VEVENT
BEGIN:VEVENT
DTSTART;TZID=America/New_York:20230430T080000
DTEND;TZID=America/New_York:20230430T170000
DTSTAMP:20260422T185050
CREATED:20230501T042202Z
LAST-MODIFIED:20230501T042202Z
UID:35006-1682841600-1682874000@wbtai.com
SUMMARY:Morning News Brief
DESCRIPTION:A conceptual agreement may be in place but it’s still a month past the deadline and the legislatures haven’t looked at budget bills yet. The New York State Budget was supposed to be done by April 1st but there hasn’t been a full decision made on it yet. The housing debate will happen outside the budget\, as Governor Hochul confirmed they could not come to an agreement on the New York Housing Compact\, which had the goal of building 800\,000 homes over the next decade. The Governor included the ability to override zoning restrictions along with some funding in her proposal\, while the legislature proposed more funding to incentivize growth. The Governor says they have an agreement to ban natural gas in new construction in small buildings by 2025 and in large buildings in 2028. Opponents have questioned the affordability of the transition\, and some lawmakers want the State to set the standard. The next extender needs to be passed by Tuesday for state workers’ checks to go out. Lawmakers expect an extender vote this afternoon. \nIn a little more than two weeks\, the 2023 PGA Championship will start at Oak Hill Country Club. Thousands of people will be coming to Rochester\, and though the tournament will only run a week\, leaders say they have been planning for much longer. During the week the PGA Championship is in town\, May 15-21\, an estimated 200\,000 people will join in on the fun. All those people in one spot might have some worried about security. Monroe County Sheriff Todd Baxter says you can expect to see a lot of police. Apart from local and county law enforcement\, the state Division of Homeland Security has also been part of the planning process since the beginning. Paul Di Lella\, the state’s assistant commissioner of emergency management\, said his department is there to assist. Law enforcement says that safety is their top priority for the tournament. \nTerry Smith is the proud owner of the newest Habitat for Humanity home. He put in 500 hours and 3 years helping to build the home on Oak Street. Smith walked into a Restore location a few years ago and filled out an application to be a homeowner. Smith works for a concrete company and has plans to build a patio and have friends over. City Manager Rachael Tableski\, and many other volunteers were in attendance to welcome Terry Smith and his family into his new home. Genesee County Habitat for Humanity is currently working on another home on S. Main Street and potentially a second home soon. \nNew York Attorney General Letitia James has announced that 505 guns were turned in the Niagara Falls Gun buyback last week. 9 buybacks were held on the same day with over 3000 guns turned in across the state. The guns turned in included 185 assault rifles\, 1\,656 handguns\, and 823 long guns. These figures include the 505 guns collected from the Niagara Falls event\, which included 19 assault rifles\, 280 handguns\, and 106 long guns. Since 2019 gun buybacks have bought over 7000 guns from New Yorkers. \nThe Buffalo Bills have selected their draft picks for the year. They finished with 6 new players. In the first round they got Tight End Dalton Kincaid. In the second Offensive Guard O’Cyrus Torrence. Third round gave them Dorian Williams\, a Linebacker. In the 5th the Bills picked up Wide Receiver Justin Shorter. In the 7th Offensive Lineman Nick Broeker and CornerBack Alex Austin. \nEmmanuel Baptist Church still has lots available at their brand new community garden. The fence is almost completed. The raised planters are built and ready to be laid down. The fertilizer and fill is on the way along with water barrels\, tools and everything else for a successful growing season. Plots are 4 foot by 3 foot and can be used for planting vegetables\, flowers\, herbs and more. They are 20 dollars a plot but if you come out and help set up once the pieces are all in place on a day to be announced later the plots are free. If you are interested in a plot call the church at 585 343 4905.
URL:https://wbtai.com/calendars/morning-news-brief/
END:VEVENT
BEGIN:VEVENT
DTSTART;TZID=America/New_York:20230504T120000
DTEND;TZID=America/New_York:20230504T130000
DTSTAMP:20260422T185050
CREATED:20230110T193040Z
LAST-MODIFIED:20230110T193046Z
UID:33313-1683201600-1683205200@wbtai.com
SUMMARY:Garden Talk Series
DESCRIPTION:Genesee County Master Gardeners Garden Talk Series Thursday\, May 4\, will feature everything you want to know about Houseplants. Call Mandy at 343-3040 to register to attend in  person or receive a zoom link.
URL:https://wbtai.com/calendars/garden-talk-series-13/
END:VEVENT
BEGIN:VEVENT
DTSTART;TZID=America/New_York:20230510T080000
DTEND;TZID=America/New_York:20230510T170000
DTSTAMP:20260422T185050
CREATED:20230510T091924Z
LAST-MODIFIED:20230510T091924Z
UID:35218-1683705600-1683738000@wbtai.com
SUMMARY:Morning News Brief
DESCRIPTION:Former Buffalo Bills kicker\, Matt Araiza\, who was accused of participating in a gang rape at a San Diego State party has been cleared of criminal charges.  Investigators said that the accuser had been recorded during the party and during the alleged rape but that everything appeared consensual and most importantly\, Araiza was not present.  He had attended the party but had left a significant time before the sexual encounter between the girl and multiple men.  Araiza was picked by the Buffalo Bills in 2022 and selected as punter after training camp.  He was kicked off the team when the charges were made in August.  Bills General Manager Brandon Beane said at the time that “this is bigger than Football.” \nSunday\, May 14 marks one year since a white supremacist came to Buffalo and killed 10 people and injured three others in a racist attack at the Tops Friendly Markets on Jefferson Avenue.  The City of Buffalo announced that “5/14 Remembrance Weekend: Reflection\, Healing & Hope” events will begin Friday to honor the lives lost and impacted by the mass shooting.  The events will include a panel discussion focused on combating white supremacy and social media radicalization; a luncheon for faith-based leaders; an educational program for school-aged children; a community gathering featuring food\, music\, and family-friendly activities; a moment of remembrance at the Tops on Jefferson and a memorial church service featuring Reverend Dr. Jamal Harrison Bryant of the New Birth Missionary Baptist Church in Atlanta\, GA. \nThe Batavia School District sent out a message to families after a bomb threat on Tuesday.  The Genesee County 911 Center received a call reporting there was a “bomb on a school bus” and placed the location of that bus in the City of Batavia. The Batavia Police Department and New York State Troopers immediately responded to locate the bus. The bus was found on State Street\, and there were no longer any students on the bus after completing the afternoon route. Out of an abundance of caution\, the New York State Police and their K9 unit performed a sweep of the bus in question and found no evidence of a credible threat.  The Batavia Police patrol officers and detectives investigated the call and determined it came from the home of a John Kennedy Intermediate student. The student confessed the call was a prank\, and the BPD determined there was no additional threat to the district. The case has been turned over to the Batavia Police Department’s Juvenile Detective. Wednesday pickup will proceed as normal. \nOver 120 cubic yards of concrete was poured at the South Lyons Street bridge project.  Union Concrete is wet curing the newly poured concrete with burlap sacks and sprinklers for the next 2 weeks.  The next step is to set slabs between the roadway and the bridge to keep the project on schedule.  The bridge is set to be completed in June. \nHighland Park in Rochester is gearing up for the 125th Lilac Festival\, set to kick off Friday. Thousands of people are expected to attend the festival\, and safety measures are being taken behind the scenes to keep the crowds safe.  Ed Schram\, security manager for The Springut Group\, the festival producer\, said in a statement “The safety and security for the Rochester Lilac Festival is an effort overseen and managed in partnership with Monroe County\, the City of Rochester\, and first responders.” Schram said law enforcement officers will patrol the fenced perimeter with a minimum of two New York state-licensed security personnel monitoring each of the festival’s five entrances. Within the festival grounds\, both uniformed and plain-clothed security personnel will patrol and conduct necessary inspections. There will be a visible police presence in the area during the 10-day event. And given the recent increase in car thefts and break-ins\, he said officers will do everything they can to prevent cars from being stolen and broken into during the event. \nTwo Rochester colleges are getting into the swing of things as excitement builds for next week’s PGA Championship at Oak Hill Country Club. The mascots of St. John Fisher University and Nazareth College teamed up for the Birds of a Feather Drive Together event Tuesday at Oak Hill.  Swoop and Cardinal took turns hitting drives\, totaling 2\,250 yards on three shots each. That total will be translated into a donation challenge for alumni from both schools to donate to PGA Reach\, which aims to grow the game of golf in underrepresented and underserved communities.
URL:https://wbtai.com/calendars/morning-news-brief-2/
END:VEVENT
END:VCALENDAR