BEGIN:VCALENDAR
VERSION:2.0
PRODID:-//WBTA - ECPv6.14.0//NONSGML v1.0//EN
CALSCALE:GREGORIAN
METHOD:PUBLISH
X-WR-CALNAME:WBTA
X-ORIGINAL-URL:https://wbtai.com
X-WR-CALDESC:Events for WBTA
REFRESH-INTERVAL;VALUE=DURATION:PT1H
X-Robots-Tag:noindex
X-PUBLISHED-TTL:PT1H
BEGIN:VTIMEZONE
TZID:America/New_York
BEGIN:DAYLIGHT
TZOFFSETFROM:-0500
TZOFFSETTO:-0400
TZNAME:EDT
DTSTART:20230312T070000
END:DAYLIGHT
BEGIN:STANDARD
TZOFFSETFROM:-0400
TZOFFSETTO:-0500
TZNAME:EST
DTSTART:20231105T060000
END:STANDARD
END:VTIMEZONE
BEGIN:VEVENT
DTSTART;TZID=America/New_York:20230510T080000
DTEND;TZID=America/New_York:20230510T170000
DTSTAMP:20260422T183543
CREATED:20230510T091924Z
LAST-MODIFIED:20230510T091924Z
UID:35218-1683705600-1683738000@wbtai.com
SUMMARY:Morning News Brief
DESCRIPTION:Former Buffalo Bills kicker\, Matt Araiza\, who was accused of participating in a gang rape at a San Diego State party has been cleared of criminal charges.  Investigators said that the accuser had been recorded during the party and during the alleged rape but that everything appeared consensual and most importantly\, Araiza was not present.  He had attended the party but had left a significant time before the sexual encounter between the girl and multiple men.  Araiza was picked by the Buffalo Bills in 2022 and selected as punter after training camp.  He was kicked off the team when the charges were made in August.  Bills General Manager Brandon Beane said at the time that “this is bigger than Football.” \nSunday\, May 14 marks one year since a white supremacist came to Buffalo and killed 10 people and injured three others in a racist attack at the Tops Friendly Markets on Jefferson Avenue.  The City of Buffalo announced that “5/14 Remembrance Weekend: Reflection\, Healing & Hope” events will begin Friday to honor the lives lost and impacted by the mass shooting.  The events will include a panel discussion focused on combating white supremacy and social media radicalization; a luncheon for faith-based leaders; an educational program for school-aged children; a community gathering featuring food\, music\, and family-friendly activities; a moment of remembrance at the Tops on Jefferson and a memorial church service featuring Reverend Dr. Jamal Harrison Bryant of the New Birth Missionary Baptist Church in Atlanta\, GA. \nThe Batavia School District sent out a message to families after a bomb threat on Tuesday.  The Genesee County 911 Center received a call reporting there was a “bomb on a school bus” and placed the location of that bus in the City of Batavia. The Batavia Police Department and New York State Troopers immediately responded to locate the bus. The bus was found on State Street\, and there were no longer any students on the bus after completing the afternoon route. Out of an abundance of caution\, the New York State Police and their K9 unit performed a sweep of the bus in question and found no evidence of a credible threat.  The Batavia Police patrol officers and detectives investigated the call and determined it came from the home of a John Kennedy Intermediate student. The student confessed the call was a prank\, and the BPD determined there was no additional threat to the district. The case has been turned over to the Batavia Police Department’s Juvenile Detective. Wednesday pickup will proceed as normal. \nOver 120 cubic yards of concrete was poured at the South Lyons Street bridge project.  Union Concrete is wet curing the newly poured concrete with burlap sacks and sprinklers for the next 2 weeks.  The next step is to set slabs between the roadway and the bridge to keep the project on schedule.  The bridge is set to be completed in June. \nHighland Park in Rochester is gearing up for the 125th Lilac Festival\, set to kick off Friday. Thousands of people are expected to attend the festival\, and safety measures are being taken behind the scenes to keep the crowds safe.  Ed Schram\, security manager for The Springut Group\, the festival producer\, said in a statement “The safety and security for the Rochester Lilac Festival is an effort overseen and managed in partnership with Monroe County\, the City of Rochester\, and first responders.” Schram said law enforcement officers will patrol the fenced perimeter with a minimum of two New York state-licensed security personnel monitoring each of the festival’s five entrances. Within the festival grounds\, both uniformed and plain-clothed security personnel will patrol and conduct necessary inspections. There will be a visible police presence in the area during the 10-day event. And given the recent increase in car thefts and break-ins\, he said officers will do everything they can to prevent cars from being stolen and broken into during the event. \nTwo Rochester colleges are getting into the swing of things as excitement builds for next week’s PGA Championship at Oak Hill Country Club. The mascots of St. John Fisher University and Nazareth College teamed up for the Birds of a Feather Drive Together event Tuesday at Oak Hill.  Swoop and Cardinal took turns hitting drives\, totaling 2\,250 yards on three shots each. That total will be translated into a donation challenge for alumni from both schools to donate to PGA Reach\, which aims to grow the game of golf in underrepresented and underserved communities.
URL:https://wbtai.com/calendars/morning-news-brief-2/
END:VEVENT
BEGIN:VEVENT
DTSTART;TZID=America/New_York:20230511T090000
DTEND;TZID=America/New_York:20230511T170000
DTSTAMP:20260422T183543
CREATED:20230222T181658Z
LAST-MODIFIED:20230222T181705Z
UID:33987-1683795600-1683824400@wbtai.com
SUMMARY:United Way Day of Caring
DESCRIPTION:Genesee County Day of Caring with the United Way will be held May 11th.
URL:https://wbtai.com/calendars/united-way-day-of-caring-4/
END:VEVENT
BEGIN:VEVENT
DTSTART;TZID=America/New_York:20230512T120000
DTEND;TZID=America/New_York:20230512T160000
DTSTAMP:20260422T183543
CREATED:20230425T181615Z
LAST-MODIFIED:20230425T181622Z
UID:34926-1683892800-1683907200@wbtai.com
SUMMARY:Crossroads House Spring Event
DESCRIPTION:Crossroads House annual spring auction will be held Saturday\, May 13\, noon to 4pm\, at the First Presbyterian Church\, 300 East Main Street\, Batavia.  Lunch will be available.
URL:https://wbtai.com/calendars/crossroads-house-spring-event-3/
END:VEVENT
BEGIN:VEVENT
DTSTART;TZID=America/New_York:20230520T080000
DTEND;TZID=America/New_York:20230520T110000
DTSTAMP:20260422T183543
CREATED:20230425T181405Z
LAST-MODIFIED:20230425T181413Z
UID:34924-1684569600-1684580400@wbtai.com
SUMMARY:WBTA Really BIG Radio Auction
DESCRIPTION:The next WBTA Really BIG Radio Auction will be held Saturday\, May 20\, starting at 8am! Check out items going up for bid on our website – wbtai.com.
URL:https://wbtai.com/calendars/wbta-really-big-radio-auction-5/
END:VEVENT
BEGIN:VEVENT
DTSTART;TZID=America/New_York:20230520T100000
DTEND;TZID=America/New_York:20230520T150000
DTSTAMP:20260422T183543
CREATED:20230509T160417Z
LAST-MODIFIED:20230509T160426Z
UID:35205-1684576800-1684594800@wbtai.com
SUMMARY:HLOM Appraisals on Main
DESCRIPTION:The Holland Land Office Museum will host\, ” Appraisals on Main”\, Saturday\, May 20th\, 10am to 3pm at the Batavia First Presbyterian Church\, 300 E. Main Street. Appraisals will be done by Bontrager Real Estate & Auction\, Cottone Auctions\, and Schultz Auctioneers. Registration is required in advance to receive a time slot for appraisal. Call 343-4727.
URL:https://wbtai.com/calendars/hlom-appraisals-on-main/
END:VEVENT
BEGIN:VEVENT
DTSTART;TZID=America/New_York:20230520T110000
DTEND;TZID=America/New_York:20230520T160000
DTSTAMP:20260422T183543
CREATED:20230509T160649Z
LAST-MODIFIED:20230509T160819Z
UID:35207-1684580400-1684598400@wbtai.com
SUMMARY:Classic Old Car Show
DESCRIPTION:Batavia Veterans Home will host a classic old car show\, Saturday\, May 20\, 11am to 4pm\, in the parking lost area of buildings 4 and 5 at the Batavia Veterans Home. Rain date is Sunday\, May 21.
URL:https://wbtai.com/calendars/classic-old-car-show/
END:VEVENT
BEGIN:VEVENT
DTSTART;TZID=America/New_York:20230520T173000
DTEND;TZID=America/New_York:20230520T203000
DTSTAMP:20260422T183543
CREATED:20230515T175936Z
LAST-MODIFIED:20230515T175948Z
UID:35339-1684603800-1684614600@wbtai.com
SUMMARY:Chicken BBQ & Live Music
DESCRIPTION:Ascension Parish\, will host a chicken BBQ and Live music and dancing\, Saturday\, May 20\, starting at 5:30pm\, at the church\, 17 Sumner Street\, Batavia. Eat in or take out or music only.
URL:https://wbtai.com/calendars/chicken-bbq-live-music/
END:VEVENT
BEGIN:VEVENT
DTSTART;TZID=America/New_York:20230525T100000
DTEND;TZID=America/New_York:20230526T160000
DTSTAMP:20260422T183543
CREATED:20230509T182734Z
LAST-MODIFIED:20230509T182751Z
UID:35216-1685008800-1685116800@wbtai.com
SUMMARY:Batavia Rotary Flags & Flowers
DESCRIPTION:Batavia Rotary Club Flags and Flowers sale returns to downtown Batavia\, Thursday and Friday\, May 25th and 26th. Pick your own in person flowers from the sale in front of Lawley Insurance 10am to 4pm or obtain a voucher to pick up flowers at Delre’s Greenhouse by calling 300-9128.
URL:https://wbtai.com/calendars/batavia-rotary-flags-flowers/
END:VEVENT
BEGIN:VEVENT
DTSTART;TZID=America/New_York:20230525T180000
DTEND;TZID=America/New_York:20230525T210000
DTSTAMP:20260422T183543
CREATED:20230524T165811Z
LAST-MODIFIED:20230524T165820Z
UID:35537-1685037600-1685048400@wbtai.com
SUMMARY:Reel discussions
DESCRIPTION:Richmond Memorial Library\, 19 Ross Street\, Batavia\, will show the film\, “She Said”\, as part of their Reel Discussions series\, Thursday\, May 25\, 6pm.
URL:https://wbtai.com/calendars/reel-discussions-40/
END:VEVENT
BEGIN:VEVENT
DTSTART;TZID=America/New_York:20230529T120000
DTEND;TZID=America/New_York:20230529T150000
DTSTAMP:20260422T183543
CREATED:20230524T165317Z
LAST-MODIFIED:20230524T165324Z
UID:35533-1685361600-1685372400@wbtai.com
SUMMARY:Chicken BBQ
DESCRIPTION:Byron Fire Dept. and Ladies Auxiliary will host a memorial day chicken bbq\, Monday\, May 29\, following the parade ate 11am at the fire hall\, Rte. 262. Eat in or take out. Proceeds will be used toward a new ambulance for the Byron Rescue Squad.
URL:https://wbtai.com/calendars/chicken-bbq-47/
END:VEVENT
BEGIN:VEVENT
DTSTART;TZID=America/New_York:20230601T120000
DTEND;TZID=America/New_York:20230601T130000
DTSTAMP:20260422T183543
CREATED:20230110T193420Z
LAST-MODIFIED:20230110T193435Z
UID:33315-1685620800-1685624400@wbtai.com
SUMMARY:Garden Talk Series
DESCRIPTION:You can learn to help monarch butterflies in the Genesee County Master Gardeners Garden Talk Series\, Thursday\, June 1\, at noon. Call Mandy at 343-3040 to register to attend in person or receive a zoom link.
URL:https://wbtai.com/calendars/garden-talk-series-14/
END:VEVENT
BEGIN:VEVENT
DTSTART;TZID=America/New_York:20230602T090000
DTEND;TZID=America/New_York:20230602T140000
DTSTAMP:20260422T183543
CREATED:20230523T171826Z
LAST-MODIFIED:20230523T171835Z
UID:35505-1685696400-1685714400@wbtai.com
SUMMARY:Church Yard Sale
DESCRIPTION:St. Maximilian Kolbe Parish\, 8656 Church Street\, East Pembroke\, will host a yard sale\, Saturday\, June 2\, 9am to 2pm.
URL:https://wbtai.com/calendars/church-yard-sale-4/
END:VEVENT
BEGIN:VEVENT
DTSTART;TZID=America/New_York:20230602T090000
DTEND;TZID=America/New_York:20230603T140000
DTSTAMP:20260422T183543
CREATED:20230524T170124Z
LAST-MODIFIED:20230524T170134Z
UID:35539-1685696400-1685800800@wbtai.com
SUMMARY:Bargain Basement sale
DESCRIPTION:Corfu United Presbyterian Church\, 63 Alleghany Street\, Corfu\, will host the annual Bargain Basement Sale on Friday and Saturday\, June 2\, and 3\, from 9am to 2pm. Lunch will be available.
URL:https://wbtai.com/calendars/bargain-basement-sale/
END:VEVENT
BEGIN:VEVENT
DTSTART;TZID=America/New_York:20230606T140000
DTEND;TZID=America/New_York:20230606T160000
DTSTAMP:20260422T183543
CREATED:20230524T171007Z
LAST-MODIFIED:20230524T171018Z
UID:35543-1686060000-1686067200@wbtai.com
SUMMARY:Job Fair
DESCRIPTION:The Genesee County Job Development Bureau will host a job fair\, Tuesday\, June 6\, 2pm to 4pm\, at the Career Center\, 587 East Main Street\, Batavia.
URL:https://wbtai.com/calendars/job-fair-4/
END:VEVENT
BEGIN:VEVENT
DTSTART;TZID=America/New_York:20230617T100000
DTEND;TZID=America/New_York:20230617T160000
DTSTAMP:20260422T183543
CREATED:20230613T191630Z
LAST-MODIFIED:20230613T191639Z
UID:35945-1686996000-1687017600@wbtai.com
SUMMARY:HLOM Path through History War 1812 Encampment
DESCRIPTION:Holland Land Office Museum will be hosting a War of 1812 Encampment on Saturday\, June 17 from 10am to 4pm\, Main Street\, Batavia.  The event features re-enactors\, encampment\, and other displays both inside and outside.  The event is included with regular admission to the museum\, and for more information contact Ryan Duffy at 585-343-4727.
URL:https://wbtai.com/calendars/hlom-path-through-history-war-1812-encampment/
END:VEVENT
BEGIN:VEVENT
DTSTART;TZID=America/New_York:20230618T073000
DTEND;TZID=America/New_York:20230618T110000
DTSTAMP:20260422T183543
CREATED:20230516T143349Z
LAST-MODIFIED:20230516T143358Z
UID:35347-1687073400-1687086000@wbtai.com
SUMMARY:Rotary Fly in Breakfast
DESCRIPTION:Batavia Rotary Club invites everyone out to the Father’s Day Fly-In Breakfast\, Sunday\, June 18\, 7:30am to 11am at the County Airport.  Children under age 4 are free.
URL:https://wbtai.com/calendars/rotary-fly-in-breakfast-2/
END:VEVENT
BEGIN:VEVENT
DTSTART;TZID=America/New_York:20230620T110000
DTEND;TZID=America/New_York:20230620T190000
DTSTAMP:20260422T183543
CREATED:20230524T170540Z
LAST-MODIFIED:20230524T170702Z
UID:35541-1687258800-1687287600@wbtai.com
SUMMARY:Golf to benefit Habitat for Humanity
DESCRIPTION:Smart Design Architecture Golf Outing to benefit Habitat for Humanity will be held at Terry Hills Golf Course\, Tuesday\, June 20 with an 11am registration time. Call Martha at 343-4067 for more information and registration.
URL:https://wbtai.com/calendars/golf-to-benefit-habitat-for-humanity/
END:VEVENT
BEGIN:VEVENT
DTSTART;TZID=America/New_York:20230624T100000
DTEND;TZID=America/New_York:20230624T130000
DTSTAMP:20260422T183543
CREATED:20230613T192507Z
LAST-MODIFIED:20230613T192514Z
UID:35947-1687600800-1687611600@wbtai.com
SUMMARY:Free Fishing Derby / Day
DESCRIPTION:Join the Genesee County Parks along with the Oakfield-Alabama Lions Club at DeWitt Recreation Area on Saturday June 24th from 10am to 1pm for a day of free fishing fun\, especially for kids ages 15 and under. .  No fishing license required.   Fishing gear and bait provided or bring your own. Call 585-344-1122 for registration or information.
URL:https://wbtai.com/calendars/free-fishing-derby-day/
END:VEVENT
BEGIN:VEVENT
DTSTART;TZID=America/New_York:20230714T080000
DTEND;TZID=America/New_York:20230714T170000
DTSTAMP:20260422T183543
CREATED:20230524T165529Z
LAST-MODIFIED:20230524T165536Z
UID:35535-1689321600-1689354000@wbtai.com
SUMMARY:LeRoy Honor years reunion
DESCRIPTION:LeRoy High School graduates of over 50 years wishing information on this year’s alumni Banquet\, Friday\, July 14\, call Rose Scott at 768-7534.
URL:https://wbtai.com/calendars/leroy-honor-years-reunion/
END:VEVENT
BEGIN:VEVENT
DTSTART;TZID=America/New_York:20230714T190000
DTEND;TZID=America/New_York:20230714T210000
DTSTAMP:20260422T183543
CREATED:20230713T160847Z
LAST-MODIFIED:20230713T160847Z
UID:36640-1689361200-1689368400@wbtai.com
SUMMARY:Downtown Concert Series
DESCRIPTION:Friday July 14th\, join Jackson Square for some live music and welcome Jim E. Leggs from 7-9.
URL:https://wbtai.com/calendars/downtown-concert-series/
END:VEVENT
BEGIN:VEVENT
DTSTART;VALUE=DATE:20230718
DTEND;VALUE=DATE:20230719
DTSTAMP:20260422T183543
CREATED:20230713T160150Z
LAST-MODIFIED:20230713T160150Z
UID:36636-1689638400-1689724799@wbtai.com
SUMMARY:HLOM Guest Speaker Series
DESCRIPTION:The HLOM is proud to announce the next edition of its Guest SPeaker Series on Wednesday\, July 19th at & pm.  Local reenactors Ed Brodbeck and David Kreutz will be portraying General Ulysses S. Grant and President Abraham Lincoln.  Admission is $5 or $3 for museum members.  for more info call 343-4727
URL:https://wbtai.com/calendars/hlom-guest-speaker-series-5/
END:VEVENT
BEGIN:VEVENT
DTSTART;TZID=America/New_York:20230720T110000
DTEND;TZID=America/New_York:20230720T190000
DTSTAMP:20260422T183543
CREATED:20230515T180608Z
LAST-MODIFIED:20230515T180614Z
UID:35343-1689850800-1689879600@wbtai.com
SUMMARY:Gen. Co. Chamber of Commerce Golf & Bocce
DESCRIPTION:The 51st annual Genesee County Chamber of Commerce Golf and Bocce Tournament will be held Thursday\, July 20\, at the Stafford Country Club\, starting at 11am. Contact the Chamber for more information and registration.
URL:https://wbtai.com/calendars/gen-co-chamber-of-commerce-golf-bocce/
END:VEVENT
BEGIN:VEVENT
DTSTART;TZID=America/New_York:20230721T100000
DTEND;TZID=America/New_York:20230721T190000
DTSTAMP:20260422T183543
CREATED:20230515T180251Z
LAST-MODIFIED:20230515T180301Z
UID:35341-1689933600-1689966000@wbtai.com
SUMMARY:ArcGlow Golf & Bocce
DESCRIPTION:47th annual Arc Glow Golf and Bocce Tournament will be held Friday\, July 21\, at Terry Hills. Contact Sandy at 343-1123 ext. 1715 for more information\, registration and sponsorship.
URL:https://wbtai.com/calendars/arcglow-golf-bocce/
END:VEVENT
BEGIN:VEVENT
DTSTART;TZID=America/New_York:20230721T190000
DTEND;TZID=America/New_York:20230721T210000
DTSTAMP:20260422T183543
CREATED:20230713T161026Z
LAST-MODIFIED:20230713T161026Z
UID:36642-1689966000-1689973200@wbtai.com
SUMMARY:Jackson Square Concert Series
DESCRIPTION:Friday July 21th\, join Jackson Square for some live music and welcome Bluesway Band from 7-9.
URL:https://wbtai.com/calendars/jackson-square-concert-series-2/
END:VEVENT
BEGIN:VEVENT
DTSTART;TZID=America/New_York:20230726T090000
DTEND;TZID=America/New_York:20230729T160000
DTSTAMP:20260422T183543
CREATED:20230613T190739Z
LAST-MODIFIED:20230613T190751Z
UID:35943-1690362000-1690646400@wbtai.com
SUMMARY:Crossroads House Tent Sale
DESCRIPTION:Crossroads House annual tent sale will be held Wednesday through Saturday\, July 26 to 29\, in the Presbyterian Church lot. Pre-sale runs Wednesday 9am to 1pm; with Thursday and Friday running 9am to 4pm. Saturday offers 50% off select items and box sale\, 9am to 1pm. Lions Club doing a hotdog lunch. \n 
URL:https://wbtai.com/calendars/crossroads-house-tent-sale/
END:VEVENT
BEGIN:VEVENT
DTSTART;TZID=America/New_York:20230727T090000
DTEND;TZID=America/New_York:20230727T090000
DTSTAMP:20260422T183543
CREATED:20230713T160520Z
LAST-MODIFIED:20230713T160520Z
UID:36638-1690448400-1690448400@wbtai.com
SUMMARY:Java at the HLOM
DESCRIPTION:Join the HLOM for the next edition of our Java with Joe E. morning presentation series on Thursday\, July 27 at 9 am.  The museum welcomes Genesee County Historian\, Michael Eula\, as he shares his new book “The National is Local:  Genesee County\, NY\, 1802-Present.”  Contact the museum at 343-4727.
URL:https://wbtai.com/calendars/java-at-the-hlom/
END:VEVENT
BEGIN:VEVENT
DTSTART;TZID=America/New_York:20230728T190000
DTEND;TZID=America/New_York:20230728T210000
DTSTAMP:20260422T183543
CREATED:20230713T161151Z
LAST-MODIFIED:20230713T161151Z
UID:36644-1690570800-1690578000@wbtai.com
SUMMARY:Jackson Square Concert Series
DESCRIPTION:Friday July 18th\, join Jackson Square for some live music and welcome Creekbend from 7-9.
URL:https://wbtai.com/calendars/jackson-square-concert-series-3/
END:VEVENT
BEGIN:VEVENT
DTSTART;TZID=America/New_York:20230804T190000
DTEND;TZID=America/New_York:20230804T210000
DTSTAMP:20260422T183543
CREATED:20230713T161301Z
LAST-MODIFIED:20230713T161301Z
UID:36646-1691175600-1691182800@wbtai.com
SUMMARY:Jackson Square Concert Series
DESCRIPTION:Friday August 4th\, join Jackson Square for some live music and welcome Don Newcomb from 7-9.
URL:https://wbtai.com/calendars/jackson-square-concert-series-4/
END:VEVENT
BEGIN:VEVENT
DTSTART;TZID=America/New_York:20230805T183000
DTEND;TZID=America/New_York:20230805T203000
DTSTAMP:20260422T183543
CREATED:20230307T165602Z
LAST-MODIFIED:20230307T165609Z
UID:34171-1691260200-1691267400@wbtai.com
SUMMARY:Music in the Park
DESCRIPTION:Acorns ( Assoication for the Conservation of Recreational and Natural Spaces) will host a free concert by the Batavia Swing Band\, Saturday\, August 5\, 6:30pm to 8:30pm at the DeWitt Recreation Area\, Pavilion 2\, Batavia.
URL:https://wbtai.com/calendars/music-in-the-park-2/
END:VEVENT
BEGIN:VEVENT
DTSTART;TZID=America/New_York:20230810T190000
DTEND;TZID=America/New_York:20230810T190000
DTSTAMP:20260422T183543
CREATED:20230803T142259Z
LAST-MODIFIED:20230803T142259Z
UID:37481-1691694000-1691694000@wbtai.com
SUMMARY:HLOM
DESCRIPTION:The HLOM is proud to announce the next edition of its Trivia Night. Thursday\, August 10 at 7pm.  This months topic is Ann Frank and her diary.  Trivia Night will be held at Go-Art\, 201 E. Main St. Batavia.  Admission is $5 or $3 for museum members.  For any information call 585-343-4727.
URL:https://wbtai.com/calendars/hlom/
END:VEVENT
END:VCALENDAR