BEGIN:VCALENDAR
VERSION:2.0
PRODID:-//WBTA - ECPv6.14.0//NONSGML v1.0//EN
CALSCALE:GREGORIAN
METHOD:PUBLISH
X-ORIGINAL-URL:https://wbtai.com
X-WR-CALDESC:Events for WBTA
REFRESH-INTERVAL;VALUE=DURATION:PT1H
X-Robots-Tag:noindex
X-PUBLISHED-TTL:PT1H
BEGIN:VTIMEZONE
TZID:America/New_York
BEGIN:DAYLIGHT
TZOFFSETFROM:-0500
TZOFFSETTO:-0400
TZNAME:EDT
DTSTART:20180311T070000
END:DAYLIGHT
BEGIN:STANDARD
TZOFFSETFROM:-0400
TZOFFSETTO:-0500
TZNAME:EST
DTSTART:20181104T060000
END:STANDARD
END:VTIMEZONE
BEGIN:VEVENT
DTSTART;TZID=America/New_York:20180109T180000
DTEND;TZID=America/New_York:20180109T210000
DTSTAMP:20260420T165810
CREATED:20180105T171919Z
LAST-MODIFIED:20180105T171939Z
UID:5801-1515520800-1515531600@wbtai.com
SUMMARY:Hockey Game
DESCRIPTION:WBTA will broadcast live play by play action of the Notre Dame vs. Batavia hockey game\, Tuesday\, January 9\, 6pm.
URL:https://wbtai.com/calendars/hockey-game/
END:VEVENT
BEGIN:VEVENT
DTSTART;TZID=America/New_York:20180110T074500
DTEND;TZID=America/New_York:20180110T091500
DTSTAMP:20260420T165810
CREATED:20180105T164716Z
LAST-MODIFIED:20180105T164732Z
UID:5782-1515570300-1515575700@wbtai.com
SUMMARY:Cyber Security Workshop
DESCRIPTION:Genesee County Chamber of Commerce  will host a Cyber Security seminar on Wednesday\, January 10\, 7:45am\, at  their offices on Park Road.  The session is free to Chamber members\, and Batavia District Improvement members\, with a small fee for non members. Call Kelly Bermingham at 343-7440 ext. 1026 to register.
URL:https://wbtai.com/calendars/cyber-security-workshop/
LOCATION:Genesee Co. Chamber of Commerce\, 8276 Park Road\, Batavia
END:VEVENT
BEGIN:VEVENT
DTSTART;TZID=America/New_York:20180110T080000
DTEND;TZID=America/New_York:20180110T170000
DTSTAMP:20260420T165810
CREATED:20171228T145020Z
LAST-MODIFIED:20171228T145035Z
UID:5548-1515571200-1515603600@wbtai.com
SUMMARY:HLOM presents " Emory Upton\, Misunderstood Reformer"
DESCRIPTION:Holland Land Office Museum\, 131 West Main Street\, Batavia\, presents an evening with author Dr. David Fitzpatrick\, Friday\, January 12\, 7pm. He will talk about his new book\, ” Emory Upton\, Misunderstood Reformer”. Reservations are requested by Wednesday\, January 10th.
URL:https://wbtai.com/calendars/hlom-presents-emory-upton-misunderstood-reformer/
END:VEVENT
BEGIN:VEVENT
DTSTART;TZID=America/New_York:20180110T100000
DTEND;TZID=America/New_York:20180110T153000
DTSTAMP:20260420T165810
CREATED:20180105T183318Z
LAST-MODIFIED:20180105T183332Z
UID:5822-1515578400-1515598200@wbtai.com
SUMMARY:Corn Congress
DESCRIPTION:2018 Corn Congress presented by the Cornell Cooperative Extension’s WWNY Dairy\, Livestock\, and Field Corps team will be held Wednesday\, January 10\, 10am to 3:30pm\, at the Quality Inn & Suites\, Park Road\, Batavia. To register call Cathy Wallace at 343-3040 ext\, 138.
URL:https://wbtai.com/calendars/corn-congress/
END:VEVENT
BEGIN:VEVENT
DTSTART;TZID=America/New_York:20180110T110000
DTEND;TZID=America/New_York:20180110T120000
DTSTAMP:20260420T165811
CREATED:20171228T185612Z
LAST-MODIFIED:20171228T185625Z
UID:5565-1515582000-1515585600@wbtai.com
SUMMARY:Learn how to borrow eBooks
DESCRIPTION:Richmond Memorial Library\, 19 Ross Street\, Batavia\, will help you learn how to borrow eBooks and magazines\, Wednesday\, January 10\, 11am. Learn how to download to your device items in this free service. Registration is required. Call 343-9550.
URL:https://wbtai.com/calendars/learn-how-to-borrow-ebooks/
LOCATION:Richmond Memorial Library\, 19 Ross St.\, Batavia NY
END:VEVENT
BEGIN:VEVENT
DTSTART;TZID=America/New_York:20180110T170000
DTEND;TZID=America/New_York:20180110T180000
DTSTAMP:20260420T165811
CREATED:20180105T162243Z
LAST-MODIFIED:20180105T162258Z
UID:5776-1515603600-1515607200@wbtai.com
SUMMARY:Learn about Alzheimer's & Dementia
DESCRIPTION:Learn the basics about memory loss\, dementia\, and Alzheimer’s Disease in a free seminar presented by the Alzheimer’s Association Wednesday\, January 10\, at the Manor House\, 427 East Main Street\, Batavia\, 5pm. Registration is encouraged by calling 1-800-272-3900.
URL:https://wbtai.com/calendars/learn-about-alzheimers-dementia/
END:VEVENT
BEGIN:VEVENT
DTSTART;TZID=America/New_York:20180111T190000
DTEND;TZID=America/New_York:20180111T210000
DTSTAMP:20260420T165811
CREATED:20171228T195935Z
LAST-MODIFIED:20171228T195947Z
UID:5588-1515697200-1515704400@wbtai.com
SUMMARY:Travelogue: Uganda
DESCRIPTION:Richmond Memorial Library\, 19 Ross Street\, Batavia\, will host\, “Travelogue: Uganda” on Thursday\, January 11\, 7pm. Joan and Jim Ellison will show photos and describe their travels through Uganda as part of their work with a community health and education foundation.
URL:https://wbtai.com/calendars/travelogue-uganda/
LOCATION:Richmond Memorial Library\, 19 Ross St.\, Batavia NY
END:VEVENT
BEGIN:VEVENT
DTSTART;TZID=America/New_York:20180113T100000
DTEND;TZID=America/New_York:20180113T120000
DTSTAMP:20260420T165811
CREATED:20171228T145418Z
LAST-MODIFIED:20171228T145432Z
UID:5550-1515837600-1515844800@wbtai.com
SUMMARY:History Discussion
DESCRIPTION:Holland Land Office Museum and the GCC History Club will present a free panel discussion with local historians and Dr. Fitzpatrick\, Saturday\, January 13\, 10am\, at Genesee Community College\, New Student Success Center\, Room G200\, on the Batavia Campus. For more information call 343-4727.
URL:https://wbtai.com/calendars/history-discussion/
END:VEVENT
BEGIN:VEVENT
DTSTART;TZID=America/New_York:20180113T160000
DTEND;TZID=America/New_York:20180113T190000
DTSTAMP:20260420T165811
CREATED:20180105T162830Z
LAST-MODIFIED:20180105T162843Z
UID:5778-1515859200-1515870000@wbtai.com
SUMMARY:Frosty Fun Fest
DESCRIPTION:Batavia First United Methodist Church\, Lewiston Road\, Batavia\, invites everyone to Frosty Fun Fest\, Saturday\, January 13\, 4pm to 7pm. Every child must be accompanied by an adult for  the event of activities and food. For more information call 343-4708.
URL:https://wbtai.com/calendars/frosty-fun-fest/
END:VEVENT
BEGIN:VEVENT
DTSTART;TZID=America/New_York:20180116T100000
DTEND;TZID=America/New_York:20180116T130000
DTSTAMP:20260420T165811
CREATED:20171228T191131Z
LAST-MODIFIED:20171228T191141Z
UID:5573-1516096800-1516107600@wbtai.com
SUMMARY:Email Class
DESCRIPTION:Learn about email and sign up for a new account in this hands on class at the Richmond Memorial Library 19 Ross Street\, Batavia\, Tuesday\, January 16\, 10am to 1pm. To register call 343-9550.
URL:https://wbtai.com/calendars/email-class/
LOCATION:Richmond Memorial Library\, 19 Ross St.\, Batavia NY
END:VEVENT
BEGIN:VEVENT
DTSTART;TZID=America/New_York:20180116T130000
DTEND;TZID=America/New_York:20180116T160000
DTSTAMP:20260420T165811
CREATED:20171228T191439Z
LAST-MODIFIED:20171228T191454Z
UID:5575-1516107600-1516118400@wbtai.com
SUMMARY:Learn Windows 10
DESCRIPTION:Richmond Memorial Library\, 19 Ross Street\, Batavia\, will offer an introduction to Windows 10\, the latest operating system from Microsoft\, Tuesday\, January 16\, 1pm to 4pm. To Register call 343-9550.
URL:https://wbtai.com/calendars/learn-windows-10/
LOCATION:Richmond Memorial Library\, 19 Ross St.\, Batavia NY
END:VEVENT
BEGIN:VEVENT
DTSTART;TZID=America/New_York:20180118T100000
DTEND;TZID=America/New_York:20180118T130000
DTSTAMP:20260420T165811
CREATED:20171228T194018Z
LAST-MODIFIED:20171228T194033Z
UID:5580-1516269600-1516280400@wbtai.com
SUMMARY:Learn about Facebook
DESCRIPTION:Learn about Facebook and sign up for an account in this hands on classs Thursday\, January 18\, 10am to 1pm at the Richmond Memorial Library\, 19 Ross Street\, Batavia.
URL:https://wbtai.com/calendars/learn-about-facebook/
LOCATION:Richmond Memorial Library\, 19 Ross St.\, Batavia NY
END:VEVENT
BEGIN:VEVENT
DTSTART;TZID=America/New_York:20180118T130000
DTEND;TZID=America/New_York:20180118T160000
DTSTAMP:20260420T165811
CREATED:20171228T195008Z
LAST-MODIFIED:20171228T195025Z
UID:5582-1516280400-1516291200@wbtai.com
SUMMARY:Gadgets & Gear
DESCRIPTION:Bring your E-readers\, phones\, laptops\, tablets\, and your questions to the Richmond Memorial Library\, 19 Ross Street\, Batavia\, Thursday\, January 18\, 1pm to 4pm and they will answer your questions about your gadets.  Call 343-9550 to register.
URL:https://wbtai.com/calendars/gadgets-gear/
LOCATION:Richmond Memorial Library\, 19 Ross St.\, Batavia NY
END:VEVENT
BEGIN:VEVENT
DTSTART;TZID=America/New_York:20180118T183000
DTEND;TZID=America/New_York:20180118T183000
DTSTAMP:20260420T165811
CREATED:20171228T190829Z
LAST-MODIFIED:20171228T190840Z
UID:5571-1516300200-1516300200@wbtai.com
SUMMARY:Helix Hat Knitting Class
DESCRIPTION:A  free Helix Hat Knitting Class  for adults will be taught by Linda Daviau Thursday\, January 18\, 6:30pm\, at the Richmond Memorial Library\, 19 Ross Street\, Batavia. You must bring 3 colors of yarn and a 16 inch circular needle appropriate to your yarn size and know how to knit and purl. Register by calling 343-9550.
URL:https://wbtai.com/calendars/helix-hat-knitting-class/
LOCATION:Richmond Memorial Library\, 19 Ross St.\, Batavia NY
END:VEVENT
BEGIN:VEVENT
DTSTART;TZID=America/New_York:20180120T160000
DTEND;TZID=America/New_York:20180120T200000
DTSTAMP:20260420T165811
CREATED:20180112T201026Z
LAST-MODIFIED:20180112T201106Z
UID:6152-1516464000-1516478400@wbtai.com
SUMMARY:Pasta Dinner
DESCRIPTION:Harvester 56 Theater will host a pasta dinner fund raiser\, Saturday\, January 20\, 4pm to 8pm at St. James Episcopal Church\, 405 East Main Street\, Batavia. Tickets available at the door while they last.
URL:https://wbtai.com/calendars/pasta-dinner/
END:VEVENT
BEGIN:VEVENT
DTSTART;TZID=America/New_York:20180121T103000
DTEND;TZID=America/New_York:20180121T140000
DTSTAMP:20260420T165811
CREATED:20180112T201349Z
LAST-MODIFIED:20180112T201408Z
UID:6154-1516530600-1516543200@wbtai.com
SUMMARY:Bridal Show
DESCRIPTION:Batavia Bridal Show\, Sunday\, January 21\, 10:30am to 2:30pm at Terry Hills\, 5122 Clinton Street Road\, Batavia. Free Admission. Register online at bataviabridalshow.com.
URL:https://wbtai.com/calendars/bridal-show/
END:VEVENT
BEGIN:VEVENT
DTSTART;TZID=America/New_York:20180122T190000
DTEND;TZID=America/New_York:20180122T200000
DTSTAMP:20260420T165811
CREATED:20171228T190338Z
LAST-MODIFIED:20171228T190352Z
UID:5569-1516647600-1516651200@wbtai.com
SUMMARY:Mystery Readers' Discussion
DESCRIPTION:The Mystery Readers’ Monday Discussion Group will meet\, Monday\, January 22\, 7pm\, at the Richmond Memorial Library\, 19 Ross Street\, Batavia\, to discuss\, ” Magpie Murders” by Anthony Horowitz.
URL:https://wbtai.com/calendars/mystery-readers-discussion/
LOCATION:Richmond Memorial Library\, 19 Ross St.\, Batavia NY
END:VEVENT
BEGIN:VEVENT
DTSTART;TZID=America/New_York:20180124T180000
DTEND;TZID=America/New_York:20180124T200000
DTSTAMP:20260420T165811
CREATED:20171213T164914Z
LAST-MODIFIED:20171213T164914Z
UID:5227-1516816800-1516824000@wbtai.com
SUMMARY:Oil Painting Class
DESCRIPTION:Go Art! will host an Oil Painting Class Wednesday\, Jan 24 from 6pm to 8pm for all ages and all levels of experience. Pre-registration is required. Call: 356-2533 or register Online
URL:https://wbtai.com/calendars/oil-painting-class/
LOCATION:Go Art! 201 E Main St.\, Batavia\, NY
END:VEVENT
BEGIN:VEVENT
DTSTART;TZID=America/New_York:20180125T110000
DTEND;TZID=America/New_York:20180125T130000
DTSTAMP:20260420T165811
CREATED:20180115T173929Z
LAST-MODIFIED:20180115T174004Z
UID:6227-1516878000-1516885200@wbtai.com
SUMMARY:Lunch and Learn
DESCRIPTION:Michael S. Tomaszewski Funeral and Cremation Chapel\, West Main Street\, Batavia\, invites the public to attend a lunch and learn event\, Thursday\, January 25\, 11am. Reservations are required to attend this free event\, call 343-7500.
URL:https://wbtai.com/calendars/lunch-and-learn/
END:VEVENT
BEGIN:VEVENT
DTSTART;TZID=America/New_York:20180125T173000
DTEND;TZID=America/New_York:20180125T210000
DTSTAMP:20260420T165811
CREATED:20171219T151929Z
LAST-MODIFIED:20171219T151929Z
UID:5367-1516901400-1516914000@wbtai.com
SUMMARY:Shooting for a Cure
DESCRIPTION:The Pembroke Lady Dragons take on the Oakfield Alabama Hornets\, Thursday\, January 25 in a benefit to raise awareness and funds for breast cancer research. Shooting for a cure starts at 5:30pm with the Varsity game at 7pm in the Pembroke High School.
URL:https://wbtai.com/calendars/shooting-for-a-cure/
LOCATION:Pembroke High School
END:VEVENT
BEGIN:VEVENT
DTSTART;TZID=America/New_York:20180125T180000
DTEND;TZID=America/New_York:20180125T220000
DTSTAMP:20260420T165811
CREATED:20171228T195340Z
LAST-MODIFIED:20171228T195351Z
UID:5584-1516903200-1516917600@wbtai.com
SUMMARY:Reel Discussions
DESCRIPTION:Come view the movie\, ” Victoria and Abdul” and join in discussion afterwards\, Thursday\, January 25\, 6pm\, at the Richmond Memorial Library\, 19 Ross Street\, Batavia. \n 
URL:https://wbtai.com/calendars/reel-discussions/
LOCATION:Richmond Memorial Library\, 19 Ross St.\, Batavia NY
END:VEVENT
BEGIN:VEVENT
DTSTART;TZID=America/New_York:20180127T080000
DTEND;TZID=America/New_York:20180127T170000
DTSTAMP:20260420T165811
CREATED:20171228T200941Z
LAST-MODIFIED:20171228T200953Z
UID:5590-1517040000-1517072400@wbtai.com
SUMMARY:WBTA Really BIG Radio Auction
DESCRIPTION:The next WBTA Really BIG Radio auction will be held Saturday\, January 27\, 7am!
URL:https://wbtai.com/calendars/wbta-really-big-radio-auction/
END:VEVENT
BEGIN:VEVENT
DTSTART;TZID=America/New_York:20180128T110000
DTEND;TZID=America/New_York:20180128T140000
DTSTAMP:20260420T165811
CREATED:20180119T205050Z
LAST-MODIFIED:20180119T205110Z
UID:6352-1517137200-1517148000@wbtai.com
SUMMARY:Bridal Show
DESCRIPTION:The Lodge at Hidden Valley Animal Adventure\, Varysburg\, will host a bridal show on Sunday\, January 28th from 11am to 2pm.
URL:https://wbtai.com/calendars/bridal-show-2/
END:VEVENT
BEGIN:VEVENT
DTSTART;TZID=America/New_York:20180128T140000
DTEND;TZID=America/New_York:20180128T180000
DTSTAMP:20260420T165811
CREATED:20180119T195218Z
LAST-MODIFIED:20180119T195238Z
UID:6344-1517148000-1517162400@wbtai.com
SUMMARY:We Didn't Start the Fire
DESCRIPTION:There will be a benefit for the Martino Family who were burned out of their home recently\, Sunday\, January 28\, 2pm to 6pm at T. F. Brown’s Restaurant\, 214 Main Street\, Batavia. For more information call 409-3149.
URL:https://wbtai.com/calendars/we-didnt-start-the-fire-2/
END:VEVENT
BEGIN:VEVENT
DTSTART;TZID=America/New_York:20180129T183000
DTEND;TZID=America/New_York:20180129T193000
DTSTAMP:20260420T165811
CREATED:20171228T185956Z
LAST-MODIFIED:20171228T190018Z
UID:5567-1517250600-1517254200@wbtai.com
SUMMARY:Learn how to download eBooks
DESCRIPTION:The Richmond Memorial Library\, 19 Ross Street\, Batavia\, will help you learn how to download free eBooks and Magazines to your device on Monday\, Janauary 29\, 6:30pm. Registration is required. Call 343-9550.
URL:https://wbtai.com/calendars/learn-how-to-download-ebooks/
LOCATION:Richmond Memorial Library\, 19 Ross St.\, Batavia NY
END:VEVENT
BEGIN:VEVENT
DTSTART;TZID=America/New_York:20180201T090000
DTEND;TZID=America/New_York:20180201T190000
DTSTAMP:20260420T165811
CREATED:20180130T183329Z
LAST-MODIFIED:20180130T183341Z
UID:6570-1517475600-1517511600@wbtai.com
SUMMARY:Book Sale
DESCRIPTION:Friends of the Richmond Memorial Library\, 19 Ross Street\, Batavia\, will hold their monthly book sale\, Thursday\, February 1\, from 9am to 7pm. A large selection of mysteries\, science fiction\, large print books\, biographies\, novels\, and children’s books will be available.
URL:https://wbtai.com/calendars/book-sale-2/
LOCATION:Richmond Memorial Library\, 19 Ross St.\, Batavia NY
END:VEVENT
BEGIN:VEVENT
DTSTART;TZID=America/New_York:20180203T100000
DTEND;TZID=America/New_York:20180203T120000
DTSTAMP:20260420T165811
CREATED:20180131T164024Z
LAST-MODIFIED:20180131T164038Z
UID:6600-1517652000-1517659200@wbtai.com
SUMMARY:Special Friends Ride & Fun Day
DESCRIPTION:Genesee Sno Packers and Y Challenger Sports present\, Special Friends Ride and Fun Day\, Saturday\, February 3\, 10am\, at the Sno Packers Maintenance Facility\, 102 South Pearl Street\, Oakfield.
URL:https://wbtai.com/calendars/special-friends-ride-fun-day/
END:VEVENT
BEGIN:VEVENT
DTSTART;TZID=America/New_York:20180203T100000
DTEND;TZID=America/New_York:20180203T140000
DTSTAMP:20260420T165811
CREATED:20180126T151719Z
LAST-MODIFIED:20180126T151719Z
UID:6497-1517652000-1517666400@wbtai.com
SUMMARY:The EOC Health & Wellness Fair
DESCRIPTION:Saturday\, February 3 at 10 AM – 2 PM \nThe EOC – The Essential Oil Center\n4152 West Main Street Rd – Valu Plaza REAR ENTRANCE\, Batavia \nJoin us for a day of education and fun! Stop out anytime and check out all the great vendors/presenters. Learn about natural and holistic methods of taking care of your mind and body! \nVendors/Presenters/Services:\nTherapy Through Massage – Kayla Machniak\nLicata Chiropractic – Sandra Licata\nITOVI – Michelle Gillard\nBEMER – Jodi Coburn & Steve Ognibene\nReiki – Kelly Crowe\nDiffuser Jewelry – Chris Ariyaratnam\nWaterCure USA – Drew Orton\nSandra Marchese – Aroma Freedom Technique\nYoung Living Essential Oils – Vicki Wood & Michelle Gillard \nBasket Raffle with donations from all the vendors above and more! Admission is FREE! Vendors will be offering services at no charge or a small fee for their services. Prices will be posted at each table. \nNingXia Red Bar & Swag Bags to the first 50 people
URL:https://wbtai.com/calendars/the-eoc-health-wellness-fair/
LOCATION:The EOC – The Essential Oil Center 4152 West Main Street Rd\, Batavia 14020\, 4152 West Main Street Road\, Batavia\, NY\, 14020\, United States
END:VEVENT
BEGIN:VEVENT
DTSTART;TZID=America/New_York:20180203T130000
DTEND;TZID=America/New_York:20180203T150000
DTSTAMP:20260420T165811
CREATED:20180105T173130Z
LAST-MODIFIED:20180105T173143Z
UID:5804-1517662800-1517670000@wbtai.com
SUMMARY:Hockey Game
DESCRIPTION:WBTA will broadcast live the hockey game between Genesee Batavia and Brockport on Saturday\, February 3\, 1pm from the Faletti Ice Arena.
URL:https://wbtai.com/calendars/hockey-game-2/
END:VEVENT
BEGIN:VEVENT
DTSTART;TZID=America/New_York:20180203T153000
DTEND;TZID=America/New_York:20180203T190000
DTSTAMP:20260420T165811
CREATED:20180131T193149Z
LAST-MODIFIED:20180131T193201Z
UID:6608-1517671800-1517684400@wbtai.com
SUMMARY:St. Paul School Event
DESCRIPTION:St. Paul Lutheran School\, 31 Washington Street\, Batavia\, will host a live auction Saturday\, February 3\, with snacks and bake sale\, to raise funds for the school. Doors open at 3:30pm; auction starts at 4pm.
URL:https://wbtai.com/calendars/st-paul-school-event/
END:VEVENT
END:VCALENDAR