BEGIN:VCALENDAR
VERSION:2.0
PRODID:-//WBTA - ECPv6.14.0//NONSGML v1.0//EN
CALSCALE:GREGORIAN
METHOD:PUBLISH
X-ORIGINAL-URL:https://wbtai.com
X-WR-CALDESC:Events for WBTA
REFRESH-INTERVAL;VALUE=DURATION:PT1H
X-Robots-Tag:noindex
X-PUBLISHED-TTL:PT1H
BEGIN:VTIMEZONE
TZID:America/New_York
BEGIN:DAYLIGHT
TZOFFSETFROM:-0500
TZOFFSETTO:-0400
TZNAME:EDT
DTSTART:20180311T070000
END:DAYLIGHT
BEGIN:STANDARD
TZOFFSETFROM:-0400
TZOFFSETTO:-0500
TZNAME:EST
DTSTART:20181104T060000
END:STANDARD
END:VTIMEZONE
BEGIN:VEVENT
DTSTART;TZID=America/New_York:20180709T190000
DTEND;TZID=America/New_York:20180709T223000
DTSTAMP:20260419T165932
CREATED:20180605T160613Z
LAST-MODIFIED:20180605T160628Z
UID:9842-1531162800-1531175400@wbtai.com
SUMMARY:Muckdogs Baseball
DESCRIPTION:Muckdogs vs. State College\, 7:05pm\, Dwyer Stadium\, Batavia Monday\, July 9. Tickets available online or at the box office. Listen Live on WBTA.
URL:https://wbtai.com/calendars/muckdogs-baseball-11/
END:VEVENT
BEGIN:VEVENT
DTSTART;TZID=America/New_York:20180711T190000
DTEND;TZID=America/New_York:20180711T200000
DTSTAMP:20260419T165932
CREATED:20180604T201704Z
LAST-MODIFIED:20180604T201719Z
UID:9731-1531335600-1531339200@wbtai.com
SUMMARY:Batavia Concert Band
DESCRIPTION:Batavia Concert Band will play in Centennial Park\, Batavia\, Wednesday\, July 11\, at 7pm. Bring your lawn chairs.
URL:https://wbtai.com/calendars/batavia-concert-band-3/
END:VEVENT
BEGIN:VEVENT
DTSTART;TZID=America/New_York:20180712T170000
DTEND;TZID=America/New_York:20180712T200000
DTSTAMP:20260419T165932
CREATED:20180705T185839Z
LAST-MODIFIED:20180705T185909Z
UID:10655-1531414800-1531425600@wbtai.com
SUMMARY:Taste of Stafford
DESCRIPTION:The Stafford Historical Society presents the 14th annual Taste of Stafford\, Thursday\, July 12 \, 5pm to 8pm\, in Ilette Park\, Rt. 5 and 237\, Stafford. Old Tyme Days is the theme is year. Bring your lawn chairs. In case of rain event will be held at the Fire Hall.
URL:https://wbtai.com/calendars/taste-of-stafford/
END:VEVENT
BEGIN:VEVENT
DTSTART;TZID=America/New_York:20180712T180000
DTEND;TZID=America/New_York:20180712T220000
DTSTAMP:20260419T165932
CREATED:20180627T173758Z
LAST-MODIFIED:20180627T173812Z
UID:10509-1531418400-1531432800@wbtai.com
SUMMARY:Reel Discussions
DESCRIPTION:Come view the movie\, ” An American in Paris”\, and join in discussions after\, Thursday\, July 12\, 6pm\, at the Richmond Memorial Library\, 19 Ross Street\, Batavia.
URL:https://wbtai.com/calendars/reel-discussions-7/
END:VEVENT
BEGIN:VEVENT
DTSTART;TZID=America/New_York:20180713T170000
DTEND;TZID=America/New_York:20180713T220000
DTSTAMP:20260419T165932
CREATED:20180605T150403Z
LAST-MODIFIED:20180605T150422Z
UID:9795-1531501200-1531519200@wbtai.com
SUMMARY:Rockin' the Downs
DESCRIPTION:Rik Emmett & Carl Dixon will Rock the Downs\, Friday\, July 13\, 5pm\, at Batavia Downs Gaming & Hotel\, Park Road\, Batavia.  For tickets and more information go online.
URL:https://wbtai.com/calendars/rockin-the-downs-4/
END:VEVENT
BEGIN:VEVENT
DTSTART;TZID=America/New_York:20180713T190000
DTEND;TZID=America/New_York:20180713T210000
DTSTAMP:20260419T165932
CREATED:20180604T204216Z
LAST-MODIFIED:20180604T204233Z
UID:9754-1531508400-1531515600@wbtai.com
SUMMARY:Jackson Sq. Concert Series
DESCRIPTION:The contemporary country sounds of the Josie Waverly Band will be heard Friday\, July 13\, 7pm\, in Jackson Square\, Downtown Batavia\, as part of the BID summer concert series. Bring your lawn chairs.
URL:https://wbtai.com/calendars/jackson-sq-concert-series-4/
END:VEVENT
BEGIN:VEVENT
DTSTART;TZID=America/New_York:20180714T080000
DTEND;TZID=America/New_York:20180714T120000
DTSTAMP:20260419T165932
CREATED:20180606T135113Z
LAST-MODIFIED:20180606T135129Z
UID:9940-1531555200-1531569600@wbtai.com
SUMMARY:Scrap Metal Collection
DESCRIPTION:Attica First Presbyterian Church\, Main & Prospect Streets in Attica\, will hold a scrap metal collection fundraiser\, Saturday\, July 14\, 8am to noon. Steel\, aluminum\, copper\, and brass will be accepted.
URL:https://wbtai.com/calendars/scrap-metal-collection/
END:VEVENT
BEGIN:VEVENT
DTSTART;TZID=America/New_York:20180714T100000
DTEND;TZID=America/New_York:20180714T150000
DTSTAMP:20260419T165932
CREATED:20180706T141855Z
LAST-MODIFIED:20180706T143251Z
UID:10671-1531562400-1531580400@wbtai.com
SUMMARY:Christmas in July
DESCRIPTION:Batavia First United Methodist Church\, Lewiston Road\, Batavia\,  will hold a Christmas in July event with vendors and crafters\, a Bake sale\, and free kids bounce houses\, Saturday\, July 14\, 10am to 3pm.
URL:https://wbtai.com/calendars/christmas-in-july/
END:VEVENT
BEGIN:VEVENT
DTSTART;TZID=America/New_York:20180714T100000
DTEND;TZID=America/New_York:20180714T160000
DTSTAMP:20260419T165932
CREATED:20180702T145948Z
LAST-MODIFIED:20180702T150002Z
UID:10601-1531562400-1531584000@wbtai.com
SUMMARY:Elba Music Boosters Yard Sale
DESCRIPTION:Elba Music Boosters will hold a yard sale\, Saturday\, July 14\, 10am to 4pm\, in the Elba Central School north parking lot.
URL:https://wbtai.com/calendars/elba-music-boosters-yard-sale/
END:VEVENT
BEGIN:VEVENT
DTSTART;TZID=America/New_York:20180714T100000
DTEND;TZID=America/New_York:20180715T170000
DTSTAMP:20260419T165932
CREATED:20180706T141432Z
LAST-MODIFIED:20180706T141512Z
UID:10667-1531562400-1531674000@wbtai.com
SUMMARY:Oatka Festival
DESCRIPTION:30th annual Oatka Festival\, Saturday\, July 14 and Sunday\, July 15\, In LeRoy\, 10am to 5pm. Parade Saturday at 11am. Family entertainment\, food\, crafts\, Fishing Derby\, Oatka Regatta\, Car Cruise in\, and more.
URL:https://wbtai.com/calendars/oatka-festival/
END:VEVENT
BEGIN:VEVENT
DTSTART;TZID=America/New_York:20180714T120000
DTEND;TZID=America/New_York:20180714T200000
DTSTAMP:20260419T165932
CREATED:20180627T190423Z
LAST-MODIFIED:20180627T190439Z
UID:10523-1531569600-1531598400@wbtai.com
SUMMARY:Elba Onion Festival
DESCRIPTION:Elba will celebrate Saturday\, July 14\, noon til 8pm in the Elba Village Park. Kiddie Parade at noon\, Kids tractor pull at 12:30. Firemen’s parade at 4pm\, followed by the crowning of the Onion Queen. Food\, music\, and family fun.
URL:https://wbtai.com/calendars/elba-onion-festival/
END:VEVENT
BEGIN:VEVENT
DTSTART;TZID=America/New_York:20180714T190000
DTEND;TZID=America/New_York:20180714T223000
DTSTAMP:20260419T165932
CREATED:20180605T160830Z
LAST-MODIFIED:20180605T160845Z
UID:9844-1531594800-1531607400@wbtai.com
SUMMARY:Muckdogs Baseball
DESCRIPTION:Muckdogs vs. Lowell\, Saturday\, July 14\, 7:o5pm\, Dwyer Stadium\, Batavia. Tickets available on line or at the box office. Listen live on WBTA.
URL:https://wbtai.com/calendars/muckdogs-baseball-12/
END:VEVENT
BEGIN:VEVENT
DTSTART;TZID=America/New_York:20180715T113000
DTEND;TZID=America/New_York:20180715T160000
DTSTAMP:20260419T165932
CREATED:20180627T151451Z
LAST-MODIFIED:20180627T151451Z
UID:10503-1531654200-1531670400@wbtai.com
SUMMARY:Garden Tour Benefit
DESCRIPTION:Six beautiful gardens in the Alden and Elma area will offer garden tours to benefit Gateway Home\, a comfort care facility in Attica\, on Sunday\, July 15\, 11:30am to 4pm. For more information and tickets \, call 585-591-1284.
URL:https://wbtai.com/calendars/garden-tour-benefit/
END:VEVENT
BEGIN:VEVENT
DTSTART;TZID=America/New_York:20180715T130000
DTEND;TZID=America/New_York:20180715T170000
DTSTAMP:20260419T165932
CREATED:20180605T161038Z
LAST-MODIFIED:20180605T161052Z
UID:9846-1531659600-1531674000@wbtai.com
SUMMARY:Muckdogs Baseball
DESCRIPTION:Muckdogs vs. Lowell\, 1:05pm\, Sunday\, July 15\, Dwyer Stadium\, Batavia. Tickets available online or at the box office.  Listen Live on WBTA.
URL:https://wbtai.com/calendars/muckdogs-baseball-13/
END:VEVENT
BEGIN:VEVENT
DTSTART;TZID=America/New_York:20180716T090000
DTEND;TZID=America/New_York:20180716T230000
DTSTAMP:20260419T165932
CREATED:20180607T190559Z
LAST-MODIFIED:20180607T190614Z
UID:10007-1531731600-1531782000@wbtai.com
SUMMARY:Genesee County Fair
DESCRIPTION:Genesee County Fair opens\, Monday\, July 16th\, at 9am with the 4-H Horse Show. 5:30pm the Parade goes through the Fairgrounds\, Rt. 5\, Batavia.  Food\, music\, & entertainment. For a complete list of events go online.
URL:https://wbtai.com/calendars/genesee-county-fair/
END:VEVENT
BEGIN:VEVENT
DTSTART;TZID=America/New_York:20180716T120000
DTEND;TZID=America/New_York:20180716T200000
DTSTAMP:20260419T165932
CREATED:20180208T150541Z
LAST-MODIFIED:20180621T143800Z
UID:6817-1531742400-1531771200@wbtai.com
SUMMARY:Arc Stafford Golf Tournament
DESCRIPTION:Arc Genesee Orleans 42nd annual Golf\, Tennis\, & Bocce Tournament will be held Monday\, July 16\, at the Stafford Country Club. Stroke play format\, tee off time noon. Bocce begins at 1pm. Call Sandy at 585-343-4203 ext. 223 for more information and registration or go online at arcgo.org.
URL:https://wbtai.com/calendars/arc-stafford-golf-tournament/
END:VEVENT
BEGIN:VEVENT
DTSTART;TZID=America/New_York:20180716T180000
DTEND;TZID=America/New_York:20180719T200000
DTSTAMP:20260419T165932
CREATED:20180607T173123Z
LAST-MODIFIED:20180607T173142Z
UID:9994-1531764000-1532030400@wbtai.com
SUMMARY:First Baptist Church LeRoy
DESCRIPTION:First Baptist Church\, First Presbyterian\, St. Mark’s Episcopal\, and United Methodist Churches of LeRoy will host  their free Vacation Bible School\, July 16th thru 19th\, 6pm to 8:15pm for children ages 4 to 12\, at the Church on 5 East Main Street\, LeRoy. For more information and Registration call 768-2308.
URL:https://wbtai.com/calendars/first-baptist-church-leroy/
END:VEVENT
BEGIN:VEVENT
DTSTART;TZID=America/New_York:20180716T190000
DTEND;TZID=America/New_York:20180716T223000
DTSTAMP:20260419T165932
CREATED:20180605T161243Z
LAST-MODIFIED:20180605T161256Z
UID:9848-1531767600-1531780200@wbtai.com
SUMMARY:Muckdogs Baseball
DESCRIPTION:Muckdogs vs. Lowell\, 7:05pm\, July 16th\, Dwyer Stadium\, Batavia. Tickets available online or at the box office. Listen Live on WBTA
URL:https://wbtai.com/calendars/muckdogs-baseball-14/
END:VEVENT
BEGIN:VEVENT
DTSTART;TZID=America/New_York:20180717T090000
DTEND;TZID=America/New_York:20180717T230000
DTSTAMP:20260419T165932
CREATED:20180607T190913Z
LAST-MODIFIED:20180607T190927Z
UID:10009-1531818000-1531868400@wbtai.com
SUMMARY:Genesee County Fair - Day 2
DESCRIPTION:It’s Senior Citizen Day at the Genesee County Fair\, Tuesday\, July 17. At 5pm the 4-H Beef Steer Auction will be held. Food\, music\, entertainment\, all day. For a complete list of events go online.
URL:https://wbtai.com/calendars/genesee-county-fair-day-2/
END:VEVENT
BEGIN:VEVENT
DTSTART;TZID=America/New_York:20180717T100000
DTEND;TZID=America/New_York:20180717T160000
DTSTAMP:20260419T165932
CREATED:20180612T193556Z
LAST-MODIFIED:20180612T193613Z
UID:10114-1531821600-1531843200@wbtai.com
SUMMARY:History of Heroes
DESCRIPTION:History of Heroes Summer Program at the Holland Land Office Museum begins Tuesday\, July 17 and continues thru Friday\, July 27. The program is children ages 7 to 12 and runs Tuesday thru Friday each week. To register call 343-4727 or go to the website.
URL:https://wbtai.com/calendars/history-of-heroes/
END:VEVENT
BEGIN:VEVENT
DTSTART;TZID=America/New_York:20180717T160000
DTEND;TZID=America/New_York:20180717T220000
DTSTAMP:20260419T165932
CREATED:20180517T155752Z
LAST-MODIFIED:20180517T155804Z
UID:9314-1531843200-1531864800@wbtai.com
SUMMARY:Faith at the Fair
DESCRIPTION:Faith at the Fair is a free Christian music festival to be held Tuesday\, July 17th\, 4pm to 10pm at the Genesee County Fair\, Batavia. Fair admission is $ 5 per car load.
URL:https://wbtai.com/calendars/faith-at-the-fair/
END:VEVENT
BEGIN:VEVENT
DTSTART;TZID=America/New_York:20180718T090000
DTEND;TZID=America/New_York:20180718T230000
DTSTAMP:20260419T165932
CREATED:20180607T191244Z
LAST-MODIFIED:20180607T191258Z
UID:10011-1531904400-1531954800@wbtai.com
SUMMARY:Genesee County Fair - Day 3
DESCRIPTION:It’s Children’s Day at the Genesee County Fair\, Wednesday\, July 18th\, Rt. 5\, Batavia. The day features a Car Cruise from 5pm to 8pm and the Fair Queen Pageant at 6pm. Food\, Fun\, and entertainment. For a complete list of events go online. 
URL:https://wbtai.com/calendars/genesee-county-fair-day-3/
END:VEVENT
BEGIN:VEVENT
DTSTART;TZID=America/New_York:20180718T190000
DTEND;TZID=America/New_York:20180718T200000
DTSTAMP:20260419T165932
CREATED:20180604T201850Z
LAST-MODIFIED:20180604T201902Z
UID:9733-1531940400-1531944000@wbtai.com
SUMMARY:Batavia Concert Band
DESCRIPTION:Batavia Concert Band will play in Centennial Park\, Wednesday\, July 18\, 7pm. Bring your lawn chairs.
URL:https://wbtai.com/calendars/batavia-concert-band-4/
END:VEVENT
BEGIN:VEVENT
DTSTART;TZID=America/New_York:20180719T090000
DTEND;TZID=America/New_York:20180719T230000
DTSTAMP:20260419T165932
CREATED:20180607T191605Z
LAST-MODIFIED:20180607T191617Z
UID:10015-1531990800-1532041200@wbtai.com
SUMMARY:Genesee County Fair - Day 4
DESCRIPTION:It’s Veteran’s Day at the Genesee County Fair\, Rt. 5\, Batavia\, on Thursday\, July 19th. A feature of the day is the Stock Car Races at 7pm. Food\, Fun\, and Entertainment. For a complete list of events go to GCFAIR.com.
URL:https://wbtai.com/calendars/genesee-county-fair-day-4/
END:VEVENT
BEGIN:VEVENT
DTSTART;TZID=America/New_York:20180719T160000
DTEND;TZID=America/New_York:20180719T180000
DTSTAMP:20260419T165932
CREATED:20180613T142547Z
LAST-MODIFIED:20180613T142621Z
UID:10161-1532016000-1532023200@wbtai.com
SUMMARY:Strawberry Social
DESCRIPTION:Cornerstone Church of East Pembroke\, Rt. 5\, will host a strawberry social\, Thursday\, July 19\, starting at 4pm. Eat in or on the Village Green.
URL:https://wbtai.com/calendars/strawberry-social-2/
END:VEVENT
BEGIN:VEVENT
DTSTART;TZID=America/New_York:20180720T090000
DTEND;TZID=America/New_York:20180720T230000
DTSTAMP:20260419T165932
CREATED:20180607T191918Z
LAST-MODIFIED:20180607T191933Z
UID:10019-1532077200-1532127600@wbtai.com
SUMMARY:Genesee County Fair - Day 5
DESCRIPTION:It’s Community Day and Thrill night at the Genesee County Fair\, Rt. 5\, Batavia\, Friday\, July 20th. Grand Demolition Derby at 7pm. Food Fun Entertainment. Go on line at GCFAIR.com for a complete list of events.
URL:https://wbtai.com/calendars/genesee-county-fair-day-5/
END:VEVENT
BEGIN:VEVENT
DTSTART;TZID=America/New_York:20180720T170000
DTEND;TZID=America/New_York:20180720T220000
DTSTAMP:20260419T165932
CREATED:20180605T150738Z
LAST-MODIFIED:20180605T150808Z
UID:9797-1532106000-1532124000@wbtai.com
SUMMARY:Rockin' the Downs
DESCRIPTION:Asia\, featuring John Payne and Rumours\, the National Fleetwood Mac tribute band\, will Rock the Downs\, Friday\, July 20\, 5pm\, at Batavia Downs Gaming & Hotel\, Park Road\, Batavia. For tickets and more information go online. 
URL:https://wbtai.com/calendars/rockin-the-downs-5/
END:VEVENT
BEGIN:VEVENT
DTSTART;TZID=America/New_York:20180720T190000
DTEND;TZID=America/New_York:20180720T210000
DTSTAMP:20260419T165932
CREATED:20180604T204649Z
LAST-MODIFIED:20180604T204715Z
UID:9756-1532113200-1532120400@wbtai.com
SUMMARY:Jackson Sq. Concert Series
DESCRIPTION:The Grove Street Band\, featuring classic rock and R & B sounds\, will play in Jackson Square\, Friday\, July 20th\, 7pm\, as part of the BID Summer concert series. Bring your lawn chairs.
URL:https://wbtai.com/calendars/jackson-sq-concert-series-5/
END:VEVENT
BEGIN:VEVENT
DTSTART;TZID=America/New_York:20180720T190000
DTEND;TZID=America/New_York:20180720T223000
DTSTAMP:20260419T165932
CREATED:20180605T165008Z
LAST-MODIFIED:20180605T165021Z
UID:9854-1532113200-1532125800@wbtai.com
SUMMARY:Muckdogs Baseball
DESCRIPTION:Batavia Muckdogs vs. Mahoning Valley\, Friday\, July 20\, 7:05pm\, Dwyer Stadium. Tickets available at the box office or online. Listen live on WBTA.
URL:https://wbtai.com/calendars/muckdogs-baseball-15/
END:VEVENT
BEGIN:VEVENT
DTSTART;TZID=America/New_York:20180721T070000
DTEND;TZID=America/New_York:20180721T110000
DTSTAMP:20260419T165932
CREATED:20180720T212038Z
LAST-MODIFIED:20180720T212051Z
UID:10936-1532156400-1532170800@wbtai.com
SUMMARY:WBTA Auction
DESCRIPTION:It’s Christmas in July\, Saturday\, July 21\, 7am. Tune in to the WBTA Christmas In July auction for great deals and steals! Many new offerings! Four BIG hours!
URL:https://wbtai.com/calendars/wbta-auction-3/
END:VEVENT
END:VCALENDAR