BEGIN:VCALENDAR
VERSION:2.0
PRODID:-//WBTA - ECPv6.14.0//NONSGML v1.0//EN
CALSCALE:GREGORIAN
METHOD:PUBLISH
X-ORIGINAL-URL:https://wbtai.com
X-WR-CALDESC:Events for WBTA
REFRESH-INTERVAL;VALUE=DURATION:PT1H
X-Robots-Tag:noindex
X-PUBLISHED-TTL:PT1H
BEGIN:VTIMEZONE
TZID:America/New_York
BEGIN:DAYLIGHT
TZOFFSETFROM:-0500
TZOFFSETTO:-0400
TZNAME:EDT
DTSTART:20190310T070000
END:DAYLIGHT
BEGIN:STANDARD
TZOFFSETFROM:-0400
TZOFFSETTO:-0500
TZNAME:EST
DTSTART:20191103T060000
END:STANDARD
BEGIN:DAYLIGHT
TZOFFSETFROM:-0500
TZOFFSETTO:-0400
TZNAME:EDT
DTSTART:20200308T070000
END:DAYLIGHT
BEGIN:STANDARD
TZOFFSETFROM:-0400
TZOFFSETTO:-0500
TZNAME:EST
DTSTART:20201101T060000
END:STANDARD
END:VTIMEZONE
BEGIN:VEVENT
DTSTART;TZID=America/New_York:20191122T180000
DTEND;TZID=America/New_York:20191122T200000
DTSTAMP:20260422T185908
CREATED:20191107T162503Z
LAST-MODIFIED:20191107T162704Z
UID:19510-1574445600-1574452800@wbtai.com
SUMMARY:Wonderland of Trees
DESCRIPTION:Holland Land Office Museum kicks off the 18th annual Wonderland of Trees\, Friday\, November 22. Gala starts at 6pm.  For tickets call 343-4727.
URL:https://wbtai.com/calendars/wonderland-of-trees-2/
END:VEVENT
BEGIN:VEVENT
DTSTART;TZID=America/New_York:20191122T190000
DTEND;TZID=America/New_York:20191124T220000
DTSTAMP:20260422T185908
CREATED:20191025T175237Z
LAST-MODIFIED:20191025T175258Z
UID:19225-1574449200-1574632800@wbtai.com
SUMMARY:Shrek the Musical
DESCRIPTION:Batavia High School Production Club presents\, “Shrek the Musical”\, Friday\, Saturday\, and Sunday\, November 22 – 24\, at the High School. Tickets available also at the door.
URL:https://wbtai.com/calendars/shrek-the-musical-2/
END:VEVENT
BEGIN:VEVENT
DTSTART;TZID=America/New_York:20191123T100000
DTEND;TZID=America/New_York:20191123T133000
DTSTAMP:20260422T185908
CREATED:20191111T162949Z
LAST-MODIFIED:20191111T163007Z
UID:19549-1574503200-1574515800@wbtai.com
SUMMARY:Chili and Chowder Fest
DESCRIPTION:Arc Genesee Orleans annual Chili and Chowder Fest\, Saturday\, November 23\, 10am to 1:30pm\, at the Arc Community Center\, 38 Woodrow Road\, Batavia. Take outs available.
URL:https://wbtai.com/calendars/chili-and-chowder-fest/
END:VEVENT
BEGIN:VEVENT
DTSTART;TZID=America/New_York:20191123T120000
DTEND;TZID=America/New_York:20191123T170000
DTSTAMP:20260422T185908
CREATED:20191025T174827Z
LAST-MODIFIED:20191025T174847Z
UID:19223-1574510400-1574528400@wbtai.com
SUMMARY:Chase Peck Benefit
DESCRIPTION:There will be a chicken bbq and auction to benefit Chase Peck\, a student at Pembroke High School with Chronic Myeloid Leukemia\, Saturday\, November 23\, noon to 5pm\, at the Pembroke Primary School. (for more information or donations call Dale at 356-3015)
URL:https://wbtai.com/calendars/chase-peck-benefit/
END:VEVENT
BEGIN:VEVENT
DTSTART;TZID=America/New_York:20191123T180000
DTEND;TZID=America/New_York:20191123T210000
DTSTAMP:20260422T185908
CREATED:20191119T181212Z
LAST-MODIFIED:20191119T181212Z
UID:19691-1574532000-1574542800@wbtai.com
SUMMARY:Attica Fire Dept. Basket Raffle
DESCRIPTION:There will be a Basket Raffle along with a Turkey and Ham Raffle at the Attica Fire Department Saturday November 23rd beginning at 6 p.m. \nContact: (585) 297-3109
URL:https://wbtai.com/calendars/attica-fire-dept-basket-raffle/
END:VEVENT
BEGIN:VEVENT
DTSTART;TZID=America/New_York:20191123T180000
DTEND;TZID=America/New_York:20191123T230000
DTSTAMP:20260422T185908
CREATED:20191017T193955Z
LAST-MODIFIED:20191017T194023Z
UID:19091-1574532000-1574550000@wbtai.com
SUMMARY:Fall Harvest Dinner Dance
DESCRIPTION:The Alexander Fire Department will host a fall harvest dinner dance\, Saturday\, November 23\, starting at 6pm\, at the Fire Recreation Hall. Advanced sale tickets only. Call Heidi at 813-6598.
URL:https://wbtai.com/calendars/fall-harvest-dinner-dance-2/
END:VEVENT
BEGIN:VEVENT
DTSTART;TZID=America/New_York:20191124T120000
DTEND;TZID=America/New_York:20191124T150000
DTSTAMP:20260422T185908
CREATED:20191111T161714Z
LAST-MODIFIED:20191111T161759Z
UID:19545-1574596800-1574607600@wbtai.com
SUMMARY:St. Padre Pio Social
DESCRIPTION:St/ Padre Pio will hold their annual social\, Sunday\, November 24\, at the Elba Fireman’s Recreation Hall\, Rt. 98. Doors open at noon.
URL:https://wbtai.com/calendars/st-padre-pio-social/
END:VEVENT
BEGIN:VEVENT
DTSTART;TZID=America/New_York:20191124T160000
DTEND;TZID=America/New_York:20191124T180000
DTSTAMP:20260422T185908
CREATED:20191111T163401Z
LAST-MODIFIED:20191111T163418Z
UID:19551-1574611200-1574618400@wbtai.com
SUMMARY:Gen. Valley Wind Ensemble
DESCRIPTION:Genesee Valley Wind Ensemble Fall Concert\, Sunday\, November 24\, 4pm\, at the Pembroke Jr. Sr. High School\, Corfu. Children 5 and younger are free.
URL:https://wbtai.com/calendars/gen-valley-wind-ensemble-2/
END:VEVENT
BEGIN:VEVENT
DTSTART;TZID=America/New_York:20191125T140000
DTEND;TZID=America/New_York:20191125T190000
DTSTAMP:20260422T185908
CREATED:20191025T184150Z
LAST-MODIFIED:20191025T184238Z
UID:19235-1574690400-1574708400@wbtai.com
SUMMARY:Blood Drive
DESCRIPTION:Batavia Downs Gaming will host the American Red Cross blood drive\, Monday\, November 25\, 2pm to 7pm.
URL:https://wbtai.com/calendars/blood-drive-18/
END:VEVENT
BEGIN:VEVENT
DTSTART;TZID=America/New_York:20191127T143000
DTEND;TZID=America/New_York:20191127T183000
DTSTAMP:20260422T185908
CREATED:20191025T184442Z
LAST-MODIFIED:20191025T184503Z
UID:19237-1574865000-1574879400@wbtai.com
SUMMARY:Blood Drive
DESCRIPTION:There will be an American Red Cross Blood drive\, Wednesday\, November 27\, 2:30pm to 6:30pm\, at High Point Community Church.
URL:https://wbtai.com/calendars/blood-drive-19/
END:VEVENT
BEGIN:VEVENT
DTSTART;TZID=America/New_York:20191129T090000
DTEND;TZID=America/New_York:20191130T150000
DTSTAMP:20260422T185908
CREATED:20191107T164528Z
LAST-MODIFIED:20191107T165226Z
UID:19512-1575018000-1575126000@wbtai.com
SUMMARY:Crossroads House Christmas Sale
DESCRIPTION:Crossroads House 4th annual Christmas Sale\, at the First Presbyterian Church Hall\, 300 Main Street\, Batavia\, will be held Friday\, November 29th and Saturday\, November 30th\, 9am to 3pm each day.
URL:https://wbtai.com/calendars/crossroads-house-christmas-sale/
END:VEVENT
BEGIN:VEVENT
DTSTART;TZID=America/New_York:20191130T090000
DTEND;TZID=America/New_York:20191130T140000
DTSTAMP:20260422T185908
CREATED:20191025T184633Z
LAST-MODIFIED:20191025T184655Z
UID:19239-1575104400-1575122400@wbtai.com
SUMMARY:Blood Drive
DESCRIPTION:The Stafford Fire Dept. will be the site for the American Red Cross Blood Drive\, Saturday\, November 30\, 9am to 2pm.
URL:https://wbtai.com/calendars/blood-drive-20/
END:VEVENT
BEGIN:VEVENT
DTSTART;TZID=America/New_York:20191206T110000
DTEND;TZID=America/New_York:20191206T140000
DTSTAMP:20260422T185908
CREATED:20191122T161318Z
LAST-MODIFIED:20191122T161342Z
UID:19755-1575630000-1575640800@wbtai.com
SUMMARY:Manor House Bazaar
DESCRIPTION:St. Nick’s Christmas Bazaar at the Manor House\, 427 East Main Street\, Batavia\, will be held Friday\, December 6\, 11am to 2pm.
URL:https://wbtai.com/calendars/manor-house-bazaar-2/
END:VEVENT
BEGIN:VEVENT
DTSTART;TZID=America/New_York:20191207T070000
DTEND;TZID=America/New_York:20191207T100000
DTSTAMP:20260422T185908
CREATED:20191111T162020Z
LAST-MODIFIED:20191111T162038Z
UID:19547-1575702000-1575712800@wbtai.com
SUMMARY:WBTA Auction
DESCRIPTION:The Stocking Stuffer Edition of the Really BIG WBTA Radio Auction will be held Saturday\, December 7\, at 7am. Keep check the WBTA website for items going up for bid.
URL:https://wbtai.com/calendars/wbta-auction-14/
END:VEVENT
BEGIN:VEVENT
DTSTART;TZID=America/New_York:20191207T140000
DTEND;TZID=America/New_York:20191207T190000
DTSTAMP:20260422T185908
CREATED:20191104T193055Z
LAST-MODIFIED:20191104T193116Z
UID:19410-1575727200-1575745200@wbtai.com
SUMMARY:BID Christmas in the City
DESCRIPTION:Christmas in the City\, hosted by the Downtown Batavia Business Improvement District will be held on Saturday\, December 7\, from 2pm to 6pm. Parade starts at 6pm . For more information contact Beth at 344-0900.
URL:https://wbtai.com/calendars/bid-christmas-in-the-city/
END:VEVENT
BEGIN:VEVENT
DTSTART;TZID=America/New_York:20191207T180000
DTEND;TZID=America/New_York:20191207T220000
DTSTAMP:20260422T185908
CREATED:20190128T162819Z
LAST-MODIFIED:20190906T190949Z
UID:14379-1575741600-1575756000@wbtai.com
SUMMARY:Encore
DESCRIPTION:Encore! at Genesee Community College\, Batavia Campus. An Evening of Elegance\, Holiday Dinner and dance to benefit students with scholarships at GCC. For more information and reservations go online.
URL:https://wbtai.com/calendars/christmas-in-the-city-2/
END:VEVENT
BEGIN:VEVENT
DTSTART;TZID=America/New_York:20191207T182700
DTEND;TZID=America/New_York:20191207T190000
DTSTAMP:20260422T185908
CREATED:20191122T162457Z
LAST-MODIFIED:20191122T162745Z
UID:19754-1575743220-1575745200@wbtai.com
SUMMARY:4th Annual Stafford Christmas Tree Lighting Ceremony
DESCRIPTION:Town of Stafford’s 4th Annual Christmas Tree Lighting Ceremony will be held Saturday December 7th 2019 at 6:27 p.m. at the Ilette Park Gazebo\, Corners of Rts 237 and 5. \nAfter the lighting ceremony\, we’ll proceed across the street to St. Paul’s Episcopal Church for a fun filled\, wonderful performance by talented area singers\, musicians\, Christmas readers\, with community caroling\, great brass music and bagpipes. \nWassail Bowl Punch and Holiday cookies and more entertainment will top off the evening. \nCome one\, come all. Public is invited.
URL:https://wbtai.com/calendars/stafford-christmas-tree-lighting-ceremony/
END:VEVENT
BEGIN:VEVENT
DTSTART;TZID=America/New_York:20191208T160000
DTEND;TZID=America/New_York:20191208T180000
DTSTAMP:20260422T185908
CREATED:20190910T163137Z
LAST-MODIFIED:20190910T163210Z
UID:18427-1575820800-1575828000@wbtai.com
SUMMARY:GSO Holiday Concert
DESCRIPTION:Genesee Symphony Orchestra will hos their holiday concert\, Sunday\, December 8\, 4pm\, at the Byron Bergen School Auditorium. Young Artist Competition winner\, Amy Feng\, will be the featured guest artist.  Many holiday favorites including pieces from the “Nutcracker” and “Sleigh Ride” will be played. Tickets available on line or at the door.
URL:https://wbtai.com/calendars/gso-holiday-concert/
END:VEVENT
BEGIN:VEVENT
DTSTART;TZID=America/New_York:20191209T170000
DTEND;TZID=America/New_York:20191209T200000
DTSTAMP:20260422T185908
CREATED:20191025T190020Z
LAST-MODIFIED:20191025T190045Z
UID:19243-1575910800-1575921600@wbtai.com
SUMMARY:Christmas Carols
DESCRIPTION:The Arise Band from Batavia First Presbyterian Church\, will play Christmas songs\, Monday\, December 9\, 5pm to 8pm at TF Browns\, Batavia.
URL:https://wbtai.com/calendars/christmas-carols/
END:VEVENT
BEGIN:VEVENT
DTSTART;TZID=America/New_York:20200107T183000
DTEND;TZID=America/New_York:20200107T200000
DTSTAMP:20260422T185908
CREATED:20191231T185258Z
LAST-MODIFIED:20191231T185318Z
UID:20171-1578421800-1578427200@wbtai.com
SUMMARY:A tribute to Bob Wills
DESCRIPTION:The Richmond Memorial Library\, 19 Ross Street\, Batavia\, presents a Tribute to Bob Wills\, music concert\, Tuesday\, January 7\, 6:45pm in the Reading Room. The Don Newcomb band will perform.
URL:https://wbtai.com/calendars/a-tribute-to-bob-wills/
END:VEVENT
BEGIN:VEVENT
DTSTART;TZID=America/New_York:20200108T083000
DTEND;TZID=America/New_York:20200108T170000
DTSTAMP:20260422T185908
CREATED:20191231T185821Z
LAST-MODIFIED:20191231T190051Z
UID:20173-1578472200-1578502800@wbtai.com
SUMMARY:Corn Congress
DESCRIPTION:Cornell Cooperative Extension’s Northwest NY Dairy\, Livestock and Field Crops team will host the 50th annual Corn Congress\, January 8\, at the Quality Inn & Suites\, Park Road\, Batavia. Registration starts at 8:30am.  ( call Brandie at 585-343-3040 ext. 138 for more information)
URL:https://wbtai.com/calendars/corn-congress-3/
END:VEVENT
BEGIN:VEVENT
DTSTART;TZID=America/New_York:20200109T100000
DTEND;TZID=America/New_York:20200109T120000
DTSTAMP:20260422T185908
CREATED:20191231T184220Z
LAST-MODIFIED:20191231T184239Z
UID:20164-1578564000-1578571200@wbtai.com
SUMMARY:Windows 10 Overview
DESCRIPTION:Richmond Memorial Library\, 19 Ross Street\, Batavia\, will host an introduction to Windows 10 on Thursday\, January 9\, 10am to noon. To register\, call the library at 343-9550.
URL:https://wbtai.com/calendars/windows-10-overview/
END:VEVENT
BEGIN:VEVENT
DTSTART;TZID=America/New_York:20200109T130000
DTEND;TZID=America/New_York:20200109T150000
DTSTAMP:20260422T185908
CREATED:20191231T184609Z
LAST-MODIFIED:20191231T184627Z
UID:20166-1578574800-1578582000@wbtai.com
SUMMARY:Facebook
DESCRIPTION:The Richmond Memorial Library\, 19 Ross Street\, Batavia will hold a class to learn about Facebook and sign up for an account on Thursday\, January 9\, 1pm to 3pm. To register call 343-9550.
URL:https://wbtai.com/calendars/facebook-2/
END:VEVENT
BEGIN:VEVENT
DTSTART;TZID=America/New_York:20200109T180000
DTEND;TZID=America/New_York:20200109T220000
DTSTAMP:20260422T185908
CREATED:20191231T184927Z
LAST-MODIFIED:20191231T184950Z
UID:20168-1578592800-1578607200@wbtai.com
SUMMARY:Reel Discussions
DESCRIPTION:Come view the movie\, ” The Art of Racing in the Rain”\, and join in discussions afterward\, Thursday\, January 9\, 6pm\, at the Richmond Memorial Library\, 19 Ross Street\, Batavia.
URL:https://wbtai.com/calendars/reel-discussions-21/
END:VEVENT
BEGIN:VEVENT
DTSTART;TZID=America/New_York:20200109T190000
DTEND;TZID=America/New_York:20200109T200000
DTSTAMP:20260422T185908
CREATED:20191231T192600Z
LAST-MODIFIED:20191231T192812Z
UID:20179-1578596400-1578600000@wbtai.com
SUMMARY:Community for Understanding
DESCRIPTION:St. Mark’s Episcopal Church\, East Main Street\, LeRoy\, will host their monthly series\, “Community for Understanding” meeting\, Thursday\, January 9\, 7pm. All are welcome.
URL:https://wbtai.com/calendars/community-for-understanding-4/
END:VEVENT
BEGIN:VEVENT
DTSTART;TZID=America/New_York:20200111T100000
DTEND;TZID=America/New_York:20200111T120000
DTSTAMP:20260422T185908
CREATED:20200108T164148Z
LAST-MODIFIED:20200108T164212Z
UID:20267-1578736800-1578744000@wbtai.com
SUMMARY:HLOM Children's Crafts
DESCRIPTION:Holland Land Office Museum\, Main Street\, Batavia\, will host children’s craft morning\, Saturday\, January 11\, 10am to noon. Children ages 5 to 12 are invited to make “dry” snowglobes. To register call 343-4727.
URL:https://wbtai.com/calendars/hlom-childrens-crafts/
END:VEVENT
BEGIN:VEVENT
DTSTART;TZID=America/New_York:20200111T130000
DTEND;TZID=America/New_York:20200111T150000
DTSTAMP:20260422T185908
CREATED:20191231T190554Z
LAST-MODIFIED:20191231T190611Z
UID:20175-1578747600-1578754800@wbtai.com
SUMMARY:Snow is our home
DESCRIPTION:Join with the ACORNS for a winter wonderland hike\, Saturday\, January 11\, 1pm \, for a 2 mile hike in the forrest. snowshoes may be used\, weather permitting. Pre-registration required\, call 344-1122.
URL:https://wbtai.com/calendars/snow-is-our-home/
END:VEVENT
BEGIN:VEVENT
DTSTART;TZID=America/New_York:20200115T173000
DTEND;TZID=America/New_York:20200115T190000
DTSTAMP:20260422T185908
CREATED:20200108T170151Z
LAST-MODIFIED:20200108T170348Z
UID:20279-1579109400-1579114800@wbtai.com
SUMMARY:Slime\, Cocoa & Cookies
DESCRIPTION:Join the Girl Scouts\, Wednesday\, January 15\, 5:30pm to 7pm at the Batavia Service Center\, 5 Jackson Street\, Batavia. Slime\, cocoa\, and cookies will be featured at the event.
URL:https://wbtai.com/calendars/slime-cocoa-cookies/
END:VEVENT
BEGIN:VEVENT
DTSTART;TZID=America/New_York:20200116T170000
DTEND;TZID=America/New_York:20200116T210000
DTSTAMP:20260422T185908
CREATED:20200115T160859Z
LAST-MODIFIED:20200115T160936Z
UID:20370-1579194000-1579208400@wbtai.com
SUMMARY:Shooting for a Cure!
DESCRIPTION:Pembroke Girls’ Basketball team will host the 9th annual Shooting for a Cure! game\, Thursday\, January 16\, 5pm in the high school\, Rte. 5 & 77\, Pembroke. JV game begins at 5:30pm\, Varsity game at 7pm. Proceeds benefit Roswell Park\, breast cancer research.
URL:https://wbtai.com/calendars/shooting-for-a-cure-2/
END:VEVENT
BEGIN:VEVENT
DTSTART;TZID=America/New_York:20200121T163000
DTEND;TZID=America/New_York:20200121T173000
DTSTAMP:20260422T185908
CREATED:20200115T150530Z
LAST-MODIFIED:20200115T150600Z
UID:20368-1579624200-1579627800@wbtai.com
SUMMARY:Know the warning signs of Alzheimer's
DESCRIPTION:The Alzheimer Association presents\, Know the warning signs\, Tuesday\, January 21\, at The Manor House\,  427 East Main Street\, Batavia\, 4:30pm. Seating is limited for this free  seminar. Call for reservations at 344-2345.
URL:https://wbtai.com/calendars/know-the-warning-signs-of-alzheimers/
END:VEVENT
END:VCALENDAR