BEGIN:VCALENDAR
VERSION:2.0
PRODID:-//WBTA - ECPv6.14.0//NONSGML v1.0//EN
CALSCALE:GREGORIAN
METHOD:PUBLISH
X-ORIGINAL-URL:https://wbtai.com
X-WR-CALDESC:Events for WBTA
REFRESH-INTERVAL;VALUE=DURATION:PT1H
X-Robots-Tag:noindex
X-PUBLISHED-TTL:PT1H
BEGIN:VTIMEZONE
TZID:America/New_York
BEGIN:DAYLIGHT
TZOFFSETFROM:-0500
TZOFFSETTO:-0400
TZNAME:EDT
DTSTART:20200308T070000
END:DAYLIGHT
BEGIN:STANDARD
TZOFFSETFROM:-0400
TZOFFSETTO:-0500
TZNAME:EST
DTSTART:20201101T060000
END:STANDARD
END:VTIMEZONE
BEGIN:VEVENT
DTSTART;TZID=America/New_York:20200202T080000
DTEND;TZID=America/New_York:20200202T170000
DTSTAMP:20260425T160338
CREATED:20200109T201610Z
LAST-MODIFIED:20200109T201713Z
UID:20307-1580630400-1580662800@wbtai.com
SUMMARY:Bus. & Prof. Women's Meeting
DESCRIPTION:Batavia Business & Professional Women’s Club and their guests are invited to the next meeting\, Thursday\, February 6\, 5:30pm\, at St. Paul Lutheran Church\, Memorial Hall\, 31 Washington Avenue\, Batavia. For reservations\, call Diane Burroughs by Sunday\, February 2. (356-8789)
URL:https://wbtai.com/calendars/bus-prof-womens-meeting/
END:VEVENT
BEGIN:VEVENT
DTSTART;TZID=America/New_York:20200204T080000
DTEND;TZID=America/New_York:20200204T163000
DTSTAMP:20260425T160338
CREATED:20200109T154815Z
LAST-MODIFIED:20200109T154923Z
UID:20304-1580803200-1580833800@wbtai.com
SUMMARY:Hospice Bouquet Sale
DESCRIPTION:Order deadline for the 26th annual HomeCare & Hospice Foundation Spring Bouquet Sale is Tuesday\, February 4th at 4:30pm. Call the Batavia office at 343-7596 to order.
URL:https://wbtai.com/calendars/hospice-bouquet-sale/
END:VEVENT
BEGIN:VEVENT
DTSTART;TZID=America/New_York:20200205T190000
DTEND;TZID=America/New_York:20200205T200000
DTSTAMP:20260425T160338
CREATED:20200204T154439Z
LAST-MODIFIED:20200204T154506Z
UID:20726-1580929200-1580932800@wbtai.com
SUMMARY:The Angel and the Warrior
DESCRIPTION:Holland Land Office Museum will present\, ” The Angel and the Warrior\, the story of Emily Martin and General Emory Upton\, Wednesday\, February 5\, 7pm\, at GCC Conable Technology Building Room T102. Event is free.
URL:https://wbtai.com/calendars/the-angel-and-the-warrior/
END:VEVENT
BEGIN:VEVENT
DTSTART;TZID=America/New_York:20200208T080000
DTEND;TZID=America/New_York:20200208T110000
DTSTAMP:20260425T160338
CREATED:20200121T152211Z
LAST-MODIFIED:20200121T152305Z
UID:20450-1581148800-1581159600@wbtai.com
SUMMARY:WBTA Auction
DESCRIPTION:The first Really BIG WBTA Radio Auction of the year will be held Saturday\, February 8\, starting at 8am. Check out our website page for items going up for bid or get your segment list the week of the auction at the Golden Coin Laundry and Drycleaning or Pizza 151.
URL:https://wbtai.com/calendars/wbta-auction-15/
END:VEVENT
BEGIN:VEVENT
DTSTART;TZID=America/New_York:20200208T100000
DTEND;TZID=America/New_York:20200208T120000
DTSTAMP:20260425T160338
CREATED:20200108T164447Z
LAST-MODIFIED:20200108T164503Z
UID:20269-1581156000-1581163200@wbtai.com
SUMMARY:HLOM Children's Crafts
DESCRIPTION:The Holland Office Museum\, Main Street\, Batavia\, will host a children’s craft morning\, Saturday\, February 8\, 10am to noon. Children ages 5 to 12 are invited to make pop up Valentine’s Day Cards. To register call 343-4727.
URL:https://wbtai.com/calendars/hlom-childrens-crafts-2/
END:VEVENT
BEGIN:VEVENT
DTSTART;TZID=America/New_York:20200208T100000
DTEND;TZID=America/New_York:20200208T140000
DTSTAMP:20260425T160338
CREATED:20200207T191518Z
LAST-MODIFIED:20200207T191546Z
UID:20833-1581156000-1581170400@wbtai.com
SUMMARY:Valentine Bazaar
DESCRIPTION:Attica Methodist Church\, 75 Main Street\, Attica\, will hold a Valentine Bazaar\, Saturday\, February 8\, 10am to 2pm. Lunch available.
URL:https://wbtai.com/calendars/valentine-bazaar/
END:VEVENT
BEGIN:VEVENT
DTSTART;TZID=America/New_York:20200208T130000
DTEND;TZID=America/New_York:20200208T150000
DTSTAMP:20260425T160338
CREATED:20191231T192054Z
LAST-MODIFIED:20191231T192129Z
UID:20177-1581166800-1581174000@wbtai.com
SUMMARY:Mammals in Winter
DESCRIPTION:Track the secret lives of wild animals and discover how  the survive in the winter\, during the 2 mile hick with the ACORNS\, Saturday\, February 8\, at the Genesee County Park\, 11095 Bethany Center Road\, East Bethany. Pre-registration required\, call 344-1122.
URL:https://wbtai.com/calendars/mammals-in-winter/
END:VEVENT
BEGIN:VEVENT
DTSTART;TZID=America/New_York:20200208T150000
DTEND;TZID=America/New_York:20200208T200000
DTSTAMP:20260425T160338
CREATED:20200130T180158Z
LAST-MODIFIED:20200130T180337Z
UID:20604-1581174000-1581192000@wbtai.com
SUMMARY:Jeremy Higgins Road to Recovery Benefit
DESCRIPTION:there will be a benefit for Jeremy Higgins hosted by the Crusaders Motorcycle Club\, Medina\, Saturday\, February 8\, 3pm to 8pm\, at the Ridgeway Firehall\, 11392 Ridge Road\, Medina. (for more information contact Kerry Lonnen at 585-259-2805)
URL:https://wbtai.com/calendars/jeremy-higgins-road-to-recovery-benefit/
END:VEVENT
BEGIN:VEVENT
DTSTART;TZID=America/New_York:20200211T173000
DTEND;TZID=America/New_York:20200211T183000
DTSTAMP:20260425T160338
CREATED:20200207T192153Z
LAST-MODIFIED:20200207T192303Z
UID:20837-1581442200-1581445800@wbtai.com
SUMMARY:Hydroponic Indoor Gardening
DESCRIPTION:Hydroponic Indoor Gardening\, Tuesday\, February 11\, 5:30pm\, at the Cornell Cooperative Ext. 36 Center Street\, Warsaw. Call Lisa at 786-2251 ext. 113 for registration and more information.
URL:https://wbtai.com/calendars/hydroponic-indoor-gardening/
END:VEVENT
BEGIN:VEVENT
DTSTART;TZID=America/New_York:20200211T190000
DTEND;TZID=America/New_York:20200211T200000
DTSTAMP:20260425T160338
CREATED:20200207T144308Z
LAST-MODIFIED:20200207T144405Z
UID:20815-1581447600-1581451200@wbtai.com
SUMMARY:Speak Up Toastmasters
DESCRIPTION:Everyone is invited to the next Speak Up Toastmasters meeting\, Tuesday\, February 11\, 7pm at the Emmanuel Baptist Church\, 190 Oak Street\, Batavia. Winter Sports is the topic.
URL:https://wbtai.com/calendars/speak-up-toastmasters/
END:VEVENT
BEGIN:VEVENT
DTSTART;TZID=America/New_York:20200211T190000
DTEND;TZID=America/New_York:20200211T210000
DTSTAMP:20260425T160338
CREATED:20200115T145651Z
LAST-MODIFIED:20200115T145746Z
UID:20366-1581447600-1581454800@wbtai.com
SUMMARY:Batavia Artists
DESCRIPTION:Batavia Society of Artists will host Terry Weber\, Tuesday\, February 11\, at Go Art\, 201 East Main Street\, Batavia\, 7pm to 9pm. She will have a hands on felting a resting rabbit demonstration. Non members welcome. (for more information call Teresa at 506-2465)
URL:https://wbtai.com/calendars/batavia-artists/
END:VEVENT
BEGIN:VEVENT
DTSTART;TZID=America/New_York:20200212T183000
DTEND;TZID=America/New_York:20200212T193000
DTSTAMP:20260425T160338
CREATED:20200207T192830Z
LAST-MODIFIED:20200207T192845Z
UID:20841-1581532200-1581535800@wbtai.com
SUMMARY:Origami Class
DESCRIPTION:Richmond Memorial Library will hold an origami class for adults\, Wednesday\, February 12\, 6:30pm. To register or more information call 343-9550.
URL:https://wbtai.com/calendars/origami-class/
END:VEVENT
BEGIN:VEVENT
DTSTART;TZID=America/New_York:20200213T180000
DTEND;TZID=America/New_York:20200213T190000
DTSTAMP:20260425T160338
CREATED:20200207T191839Z
LAST-MODIFIED:20200207T191858Z
UID:20835-1581616800-1581620400@wbtai.com
SUMMARY:Beginner Beekeepers
DESCRIPTION:Wyoming County Beginner Beekeepers workshop\, Thursday\, February 13\, 6pm\, at the Cornell Cooperative Extension\, 36 Center Street\, Warsaw. To register call Lisa at 786-2251 ext. 123
URL:https://wbtai.com/calendars/beginner-beekeepers/
END:VEVENT
BEGIN:VEVENT
DTSTART;TZID=America/New_York:20200213T180000
DTEND;TZID=America/New_York:20200213T220000
DTSTAMP:20260425T160338
CREATED:20200207T181758Z
LAST-MODIFIED:20200207T181812Z
UID:20819-1581616800-1581631200@wbtai.com
SUMMARY:Reel Discussions
DESCRIPTION:Come view the movie\, “Downton Abbey” and join discussion afterwards\, Thursday\, February 13\, 6pm\, at the Richmond Memorial Library\, 19 Ross Street\, Batavia.
URL:https://wbtai.com/calendars/reel-discussions-22/
END:VEVENT
BEGIN:VEVENT
DTSTART;TZID=America/New_York:20200213T190000
DTEND;TZID=America/New_York:20200213T200000
DTSTAMP:20260425T160338
CREATED:20200204T154724Z
LAST-MODIFIED:20200204T154743Z
UID:20729-1581620400-1581624000@wbtai.com
SUMMARY:HLOM Trivia Night
DESCRIPTION:History Trivia Night at the Holland Land Office Museum\, Main Street\, Batavia\, 7pm Thursday\, February 13. . This month’s them is “Superbowl”.
URL:https://wbtai.com/calendars/hlom-trivia-night/
END:VEVENT
BEGIN:VEVENT
DTSTART;TZID=America/New_York:20200213T190000
DTEND;TZID=America/New_York:20200213T200000
DTSTAMP:20260425T160338
CREATED:20200207T193701Z
LAST-MODIFIED:20200207T193826Z
UID:20846-1581620400-1581624000@wbtai.com
SUMMARY:Community for Understanding
DESCRIPTION:St. Mark’s Episcopal Church\, 1 East Main Street\, LeRoy\, will host the next Community for Understanding discussion group on Thursday\, February 13\, 7pm. The book\, ” Between the World and Me” by Ta-Nehisi Coates will be the basis for discussion.
URL:https://wbtai.com/calendars/community-for-understanding-5/
END:VEVENT
BEGIN:VEVENT
DTSTART;TZID=America/New_York:20200214T080000
DTEND;TZID=America/New_York:20200214T170000
DTSTAMP:20260425T160338
CREATED:20200116T163406Z
LAST-MODIFIED:20200116T163443Z
UID:20399-1581667200-1581699600@wbtai.com
SUMMARY:Genesee County Chamber Dinner
DESCRIPTION:Last date to make your reservations for the Genesee County Chamber of Commerce annual awards banquet is Friday\, February 14. RSVP to the Chamber or call 343-7487. Awards banquet will be held Saturday\, March 7\, at the Quality Inn\, Park Road\, Batavia\, at 5:30pm.
URL:https://wbtai.com/calendars/genesee-county-chamber-dinner/
END:VEVENT
BEGIN:VEVENT
DTSTART;TZID=America/New_York:20200215T100000
DTEND;TZID=America/New_York:20200215T120000
DTSTAMP:20260425T160338
CREATED:20200207T192538Z
LAST-MODIFIED:20200207T192554Z
UID:20839-1581760800-1581768000@wbtai.com
SUMMARY:Family Matinee
DESCRIPTION:Richmond Memorial Library\, 19 Ross Street\, Batavia\, will host a family matinee movie Saturday\, February 15th\, 10am. The 2019 version of ” The Lion King” will be shown.
URL:https://wbtai.com/calendars/family-matinee/
END:VEVENT
BEGIN:VEVENT
DTSTART;TZID=America/New_York:20200215T183000
DTEND;TZID=America/New_York:20200215T220000
DTSTAMP:20260425T160338
CREATED:20200121T142353Z
LAST-MODIFIED:20200121T142418Z
UID:20438-1581791400-1581804000@wbtai.com
SUMMARY:Valentine's Dinner & Dance
DESCRIPTION:The Alexander Fire Department is hosting their annual Valentine’s Steak Dinner and Dance\, Saturday\, February 15\, starting at 6:30pm\, at the Recreation Hall\, Alexander Road\, Alexander. Red Creek will play. Tickets are limited and must be ordered in advance by calling Heidi at 813-6598.
URL:https://wbtai.com/calendars/valentines-dinner-dance/
END:VEVENT
BEGIN:VEVENT
DTSTART;TZID=America/New_York:20200216T120000
DTEND;TZID=America/New_York:20200216T180000
DTSTAMP:20260425T160338
CREATED:20200211T145028Z
LAST-MODIFIED:20200211T145046Z
UID:20894-1581854400-1581876000@wbtai.com
SUMMARY:Hops for Hope
DESCRIPTION:Michael Napoleone Memorial Foundations hosts\, ” Hops for Hope” Sunday\, February 16\, starting at noon\, at Eli Fish Brewing Company\, Main Street\, Batavia.
URL:https://wbtai.com/calendars/hops-for-hope-2/
END:VEVENT
BEGIN:VEVENT
DTSTART;TZID=America/New_York:20200217T080000
DTEND;TZID=America/New_York:20200223T170000
DTSTAMP:20260425T160338
CREATED:20200130T175124Z
LAST-MODIFIED:20200130T175211Z
UID:20602-1581926400-1582477200@wbtai.com
SUMMARY:FFA Week
DESCRIPTION:FFA Week (Future Farmers of America) is February 17 through 23. FFA members are the innovators and leaders of tomorrow through hands on agricultural learning for more than 300 careers!
URL:https://wbtai.com/calendars/ffa-week/
END:VEVENT
BEGIN:VEVENT
DTSTART;TZID=America/New_York:20200220T123000
DTEND;TZID=America/New_York:20200223T220000
DTSTAMP:20260425T160338
CREATED:20191230T143038Z
LAST-MODIFIED:20191230T143057Z
UID:20139-1582201800-1582495200@wbtai.com
SUMMARY:Doubt: A Parable
DESCRIPTION:“Doubt: A Parable” by John Patrick Shanley\, will be performed in the Stuart Steiner Theatre\, Batavia GCC Campus\, Thursday\, February 20\, 12:30pm\, and on Friday and Saturday\, February 21\, and 22 at 7:30pm and on Sunday\, February 23 at 2pm. Tickets available at the box office.
URL:https://wbtai.com/calendars/doubt-a-parable/
END:VEVENT
BEGIN:VEVENT
DTSTART;TZID=America/New_York:20200220T183000
DTEND;TZID=America/New_York:20200220T193000
DTSTAMP:20260425T160338
CREATED:20200207T182601Z
LAST-MODIFIED:20200207T182615Z
UID:20821-1582223400-1582227000@wbtai.com
SUMMARY:Bereaved Parents Group
DESCRIPTION:Bereaved Parents of the United States will meet Thursday\, February 20\, 6:30pm\, at the Richmond Memorial Library\, 19 Ross Street\, Batavia\, Wilbur Room.
URL:https://wbtai.com/calendars/bereaved-parents-group/
END:VEVENT
BEGIN:VEVENT
DTSTART;TZID=America/New_York:20200221T160000
DTEND;TZID=America/New_York:20200223T220000
DTSTAMP:20260425T160338
CREATED:20200212T181514Z
LAST-MODIFIED:20200212T181544Z
UID:20926-1582300800-1582495200@wbtai.com
SUMMARY:Ron Riggi Memorial
DESCRIPTION:18h annual Ron Riggi Memorial 4 person Handicap Tournament\, at the LeRoy Legion Lanes\, Friday\, February 21 at 6:30pm; Saturday\, February 22 at noon and 4pm and on Sunday\, February 23\, at noon and 4pm.  Call 768-8597 for more information and registration.
URL:https://wbtai.com/calendars/ron-riggi-memorial/
END:VEVENT
BEGIN:VEVENT
DTSTART;TZID=America/New_York:20200221T180000
DTEND;TZID=America/New_York:20200223T210000
DTSTAMP:20260425T160338
CREATED:20200116T145759Z
LAST-MODIFIED:20200116T145915Z
UID:20391-1582308000-1582491600@wbtai.com
SUMMARY:Crossroads House Bowling
DESCRIPTION:24th annual Betty Ellison Memorial Strike Out for Crossroads House Bowling Event will be held Friday\, Saturday\, and Sunday\, February 21\, 22\, & 23\, at the Mancuso Bowling Center\, Batavia. Call Cindy at 585-993-0584 for team registration and more information.
URL:https://wbtai.com/calendars/crossroads-house-bowling/
END:VEVENT
BEGIN:VEVENT
DTSTART;TZID=America/New_York:20200222T160000
DTEND;TZID=America/New_York:20200222T200000
DTSTAMP:20260425T160338
CREATED:20191230T191107Z
LAST-MODIFIED:20191230T191300Z
UID:20149-1582387200-1582401600@wbtai.com
SUMMARY:FeBREWary
DESCRIPTION:Downtown Batavia beer walk\, FeBREWary\, will be held Saturday\, February 22 from 4pm to 8pm. Only 600 tickets will be available. Contact the BID for more information and tickets.  ( 344-0900)
URL:https://wbtai.com/calendars/febrewary/
END:VEVENT
BEGIN:VEVENT
DTSTART;TZID=America/New_York:20200223T080000
DTEND;TZID=America/New_York:20200223T120000
DTSTAMP:20260425T160338
CREATED:20200121T151145Z
LAST-MODIFIED:20200121T151204Z
UID:20442-1582444800-1582459200@wbtai.com
SUMMARY:Mardi Gras Breakfast
DESCRIPTION:The Alexander Fire Department will host a Mardi Gras themed family all you can eat buffet style breakfast\, Sunday\, February 23\, 8am to noon at the Rec Hall\, Alexander Road. Children under age 5 are free.
URL:https://wbtai.com/calendars/mardi-gras-breakfast/
END:VEVENT
BEGIN:VEVENT
DTSTART;TZID=America/New_York:20200225T190000
DTEND;TZID=America/New_York:20200225T200000
DTSTAMP:20260425T160338
CREATED:20200213T145422Z
LAST-MODIFIED:20200213T145521Z
UID:20936-1582657200-1582660800@wbtai.com
SUMMARY:Speak Up Toastmasters
DESCRIPTION:Speak Up Toastmasters\, an educational club specializing in teaching leadership and presentation skills\, will meet Tuesday\, February 25\, 7pm\, at the Emmanuel Baptist Church\, 190 Oak Street\, Batavia. RSVP to 993-0515.
URL:https://wbtai.com/calendars/speak-up-toastmasters-2/
END:VEVENT
BEGIN:VEVENT
DTSTART;TZID=America/New_York:20200227T090000
DTEND;TZID=America/New_York:20200227T100000
DTSTAMP:20260425T160338
CREATED:20200204T155032Z
LAST-MODIFIED:20200204T155531Z
UID:20731-1582794000-1582797600@wbtai.com
SUMMARY:Java with Joe "e"
DESCRIPTION:Thursday\, February 27th\, Holland Land Office Museum presents\, Java with Joe “E”\, a discussion and demonstration of 19th century classical guitars at 9am\,
URL:https://wbtai.com/calendars/java-with-joe-e-2/
END:VEVENT
BEGIN:VEVENT
DTSTART;TZID=America/New_York:20200228T190000
DTEND;TZID=America/New_York:20200228T200000
DTSTAMP:20260425T160338
CREATED:20200204T155900Z
LAST-MODIFIED:20200204T155914Z
UID:20735-1582916400-1582920000@wbtai.com
SUMMARY:HLOM Guest Speaker Series
DESCRIPTION:Holland Land Office Museum\, Main Street\, Batavia\, will host “Abolitionism in Buffalo 1843” 7pm\, for the next guest speaker series event.
URL:https://wbtai.com/calendars/hlom-guest-speaker-series-3/
END:VEVENT
END:VCALENDAR