BEGIN:VCALENDAR
VERSION:2.0
PRODID:-//WBTA - ECPv6.14.0//NONSGML v1.0//EN
CALSCALE:GREGORIAN
METHOD:PUBLISH
X-ORIGINAL-URL:https://wbtai.com
X-WR-CALDESC:Events for WBTA
REFRESH-INTERVAL;VALUE=DURATION:PT1H
X-Robots-Tag:noindex
X-PUBLISHED-TTL:PT1H
BEGIN:VTIMEZONE
TZID:America/New_York
BEGIN:DAYLIGHT
TZOFFSETFROM:-0500
TZOFFSETTO:-0400
TZNAME:EDT
DTSTART:20220313T070000
END:DAYLIGHT
BEGIN:STANDARD
TZOFFSETFROM:-0400
TZOFFSETTO:-0500
TZNAME:EST
DTSTART:20221106T060000
END:STANDARD
BEGIN:DAYLIGHT
TZOFFSETFROM:-0500
TZOFFSETTO:-0400
TZNAME:EDT
DTSTART:20230312T070000
END:DAYLIGHT
BEGIN:STANDARD
TZOFFSETFROM:-0400
TZOFFSETTO:-0500
TZNAME:EST
DTSTART:20231105T060000
END:STANDARD
END:VTIMEZONE
BEGIN:VEVENT
DTSTART;TZID=America/New_York:20221124T090000
DTEND;TZID=America/New_York:20221124T110000
DTSTAMP:20260421T200617
CREATED:20221108T180359Z
LAST-MODIFIED:20221108T180417Z
UID:32495-1669280400-1669287600@wbtai.com
SUMMARY:Kiwanis Skate
DESCRIPTION:Kiwanis Club of Batavia invites the community to a free Thanksgiving morning ice skate at the David McCarthy Memorial Ice Arena\, Evans Street\, Batavia. Free rental of skates and hot chocolate from 9am to 11am\, Thursday\, November 24.
URL:https://wbtai.com/calendars/kiwanis-skate/
END:VEVENT
BEGIN:VEVENT
DTSTART;TZID=America/New_York:20221125T090000
DTEND;TZID=America/New_York:20221126T180000
DTSTAMP:20260421T200617
CREATED:20221026T155236Z
LAST-MODIFIED:20221026T155246Z
UID:32318-1669366800-1669485600@wbtai.com
SUMMARY:Crossroads House Sale
DESCRIPTION:Crossroads House annual Christmas Sale continues on Friday\, November 25 from 9am to 6pm and on Saturday\, November 26th\, from 9am to 1pm.  New and like new items available.
URL:https://wbtai.com/calendars/crossroads-house-sale-2/
END:VEVENT
BEGIN:VEVENT
DTSTART;TZID=America/New_York:20221126T100000
DTEND;TZID=America/New_York:20221126T150000
DTSTAMP:20260421T200617
CREATED:20221121T223423Z
LAST-MODIFIED:20221121T223438Z
UID:32656-1669456800-1669474800@wbtai.com
SUMMARY:St. Paul Craft Sale
DESCRIPTION:St. Paul Lutheran Church and School \, 31 Washington Avenue\, Batavia\, will host a craft\, vendor\, and gift sale\, Saturday\, November 26\, 10am to 3pm\,
URL:https://wbtai.com/calendars/st-paul-craft-sale/
END:VEVENT
BEGIN:VEVENT
DTSTART;TZID=America/New_York:20221202T113000
DTEND;TZID=America/New_York:20221202T140000
DTSTAMP:20260421T200617
CREATED:20220927T192051Z
LAST-MODIFIED:20220927T192352Z
UID:31933-1669980600-1669989600@wbtai.com
SUMMARY:Humanitarian Awards
DESCRIPTION:The Jerome Foundation will award the 37th annual Genesee County Health and Humanitarian Award at a luncheon on Friday\, December 2\, at Terry Hills Restaurant. Reservations required.  ( call 356-3419)
URL:https://wbtai.com/calendars/humanitarian-awards/
END:VEVENT
BEGIN:VEVENT
DTSTART;TZID=America/New_York:20221202T120000
DTEND;TZID=America/New_York:20221202T140000
DTSTAMP:20260421T200617
CREATED:20221111T164425Z
LAST-MODIFIED:20221111T164431Z
UID:32545-1669982400-1669989600@wbtai.com
SUMMARY:Humanitarian Awards
DESCRIPTION:The Jerome Foundation Health and Humanitarian Luncheon\, Friday\, December 2\, noon at Terry Hills Restaurant will honor Peter Zeliff. For reservations\, please contact the Jerome Foundation.
URL:https://wbtai.com/calendars/humanitarian-awards-2/
END:VEVENT
BEGIN:VEVENT
DTSTART;TZID=America/New_York:20221203T170000
DTEND;TZID=America/New_York:20221203T190000
DTSTAMP:20260421T200617
CREATED:20221128T161927Z
LAST-MODIFIED:20221128T162106Z
UID:32724-1670086800-1670094000@wbtai.com
SUMMARY:Live Nativity
DESCRIPTION:Indian Falls Church will have a live\, drive thru\, nativity\, in the Pembroke Town Park\, Saturday\, December 3\, from 5pm to 7pm.
URL:https://wbtai.com/calendars/live-nativity/
END:VEVENT
BEGIN:VEVENT
DTSTART;TZID=America/New_York:20221204T150000
DTEND;TZID=America/New_York:20221204T160000
DTSTAMP:20260421T200617
CREATED:20221128T160933Z
LAST-MODIFIED:20221128T160937Z
UID:32718-1670166000-1670169600@wbtai.com
SUMMARY:Stafford Hymn Sing
DESCRIPTION:The public is invited to join in the  Christmas Hymn Sing at Morganville United Church of Christ\, in Stafford\, Sunday\, December 4\, 3pm.
URL:https://wbtai.com/calendars/stafford-hymn-sing/
END:VEVENT
BEGIN:VEVENT
DTSTART;TZID=America/New_York:20221204T160000
DTEND;TZID=America/New_York:20221204T180000
DTSTAMP:20260421T200617
CREATED:20220707T145213Z
LAST-MODIFIED:20220707T145237Z
UID:30852-1670169600-1670176800@wbtai.com
SUMMARY:Genesee Symphony Orchestra
DESCRIPTION:Holiday Stories! will be featured in the Genesee Symphony Orchestra holiday concert\, Sunday\, December 4\, 4pm\, in the Stuart Steiner Theater on GCC Batavia Campus. Tickets available at the box office.
URL:https://wbtai.com/calendars/genesee-symphony-orchestra-3/
END:VEVENT
BEGIN:VEVENT
DTSTART;TZID=America/New_York:20221208T183000
DTEND;TZID=America/New_York:20221208T200000
DTSTAMP:20260421T200617
CREATED:20221128T151151Z
LAST-MODIFIED:20221128T151205Z
UID:32714-1670524200-1670529600@wbtai.com
SUMMARY:Batavia Artists
DESCRIPTION:Batavia Society of Artists will host their Winter Art Exhibit at the Richmond Memorial Library during December with  a free opening reception Thursday\, December 8\, from 6:30pm to 8pm. \n 
URL:https://wbtai.com/calendars/batavia-artists-4/
END:VEVENT
BEGIN:VEVENT
DTSTART;TZID=America/New_York:20221209T090000
DTEND;TZID=America/New_York:20221209T160000
DTSTAMP:20260421T200617
CREATED:20221128T161656Z
LAST-MODIFIED:20221128T161711Z
UID:32722-1670576400-1670601600@wbtai.com
SUMMARY:TOY DRIVE
DESCRIPTION:The WBTA\, Ken Barrett Chevrolet Cadillac\, Salvation Army Original Toy Drive will be held Friday\, December 9\, 9am to 4pm\, at the showroom of Ken Barrett\, Main Street\, Batavia. Just drive up and Batavia Firefighters will help you deliver your contributions. The need is great\, contributions of new unwrapped toys stay in Genesee County. Thank you for all your support!
URL:https://wbtai.com/calendars/toy-drive-3/
END:VEVENT
BEGIN:VEVENT
DTSTART;TZID=America/New_York:20221210T080000
DTEND;TZID=America/New_York:20221210T110000
DTSTAMP:20260421T200617
CREATED:20221128T161239Z
LAST-MODIFIED:20221128T161309Z
UID:32720-1670659200-1670670000@wbtai.com
SUMMARY:WBTA Auction
DESCRIPTION:The Christmas Edition of the WBTA Really BIG Radio Auction will be held Saturday\, December 10\, 8am to 11am. Check out our website at WBTAi.com for items going up for bid.
URL:https://wbtai.com/calendars/wbta-auction-27/
END:VEVENT
BEGIN:VEVENT
DTSTART;TZID=America/New_York:20221210T093000
DTEND;TZID=America/New_York:20221210T150000
DTSTAMP:20260421T200617
CREATED:20221128T160510Z
LAST-MODIFIED:20221128T160603Z
UID:32716-1670664600-1670684400@wbtai.com
SUMMARY:Trinity Treasures
DESCRIPTION:Attica women in Faith will host and inside vendor sale\, Saturday\, December 10\, 9:30am to 3pm at 75 Main Street\, Attica. Lunch will be available.
URL:https://wbtai.com/calendars/trinity-treasures/
END:VEVENT
BEGIN:VEVENT
DTSTART;TZID=America/New_York:20221210T100000
DTEND;TZID=America/New_York:20221210T140000
DTSTAMP:20260421T200617
CREATED:20221103T150530Z
LAST-MODIFIED:20221103T150539Z
UID:32425-1670666400-1670680800@wbtai.com
SUMMARY:Cookie Walk
DESCRIPTION:Batavia First United Methodist Church\, Lewiston Road\, will hold their cookie walk and vendor craft sale\, Saturday\, December 10\, 10am to 2pm. Lunch will be available.
URL:https://wbtai.com/calendars/cookie-walk-3/
END:VEVENT
BEGIN:VEVENT
DTSTART;TZID=America/New_York:20221210T160000
DTEND;TZID=America/New_York:20221210T170000
DTSTAMP:20260421T200617
CREATED:20221130T154459Z
LAST-MODIFIED:20221130T154523Z
UID:32768-1670688000-1670691600@wbtai.com
SUMMARY:From Star to Star
DESCRIPTION:The Genesee Chorale presents” From Star to Star” a Holiday Concert\, Saturday\, December 10\, 4pm\, at St. James Episcopal Church\, 405 East Main Street\, Batavia. Tickets available at the door.
URL:https://wbtai.com/calendars/from-star-to-star/
END:VEVENT
BEGIN:VEVENT
DTSTART;TZID=America/New_York:20221216T160000
DTEND;TZID=America/New_York:20221217T160000
DTSTAMP:20260421T200617
CREATED:20221128T162358Z
LAST-MODIFIED:20221128T162410Z
UID:32726-1671206400-1671292800@wbtai.com
SUMMARY:ArcGlow Chili and Chowder Fest
DESCRIPTION:The rescheduled ArcGlow Chili and Chowder Fest will be held Friday and Saturday\, December 16 and 17\, at the Woodrow Road Community Center. Friday from 4pm to 6pm and Saturday from 10am to 1pm.
URL:https://wbtai.com/calendars/arcglow-chili-and-chowder-fest/
END:VEVENT
BEGIN:VEVENT
DTSTART;TZID=America/New_York:20230126T180000
DTEND;TZID=America/New_York:20230126T220000
DTSTAMP:20260421T200617
CREATED:20230110T193719Z
LAST-MODIFIED:20230110T193750Z
UID:33317-1674756000-1674770400@wbtai.com
SUMMARY:Reel Discussions
DESCRIPTION:Come view the movie\, ” I am Woman”\, and join in discussions afterward\, Thursday\, January 26\, 6pm. at the Richmond Memorial Library.
URL:https://wbtai.com/calendars/reel-discussions-37/
END:VEVENT
BEGIN:VEVENT
DTSTART;TZID=America/New_York:20230128T100000
DTEND;TZID=America/New_York:20230128T120000
DTSTAMP:20260421T200617
CREATED:20230118T151905Z
LAST-MODIFIED:20230118T151924Z
UID:33468-1674900000-1674907200@wbtai.com
SUMMARY:Crafty Show n tell
DESCRIPTION:The Hope Center Ladies Group invite crafters\, readers\, roamers – women of all ages – to join them Saturday\, January 28\, 10am to noon\, 42\, Main Street\, LeRoy. RSVP by calling 768-8184.
URL:https://wbtai.com/calendars/crafty-show-n-tell/
END:VEVENT
BEGIN:VEVENT
DTSTART;TZID=America/New_York:20230128T170000
DTEND;TZID=America/New_York:20230128T210000
DTSTAMP:20260421T200617
CREATED:20230110T190118Z
LAST-MODIFIED:20230110T190129Z
UID:33298-1674925200-1674939600@wbtai.com
SUMMARY:Crossroads House Red Carpet Gala
DESCRIPTION:Crossroads House Red Carpet Gala to celebrate 25 years will be held at Batavia Downs\, Saturday\, January 28. Doors open at 5pm.  Tickets must be purchased in advance.
URL:https://wbtai.com/calendars/crossroads-house-red-carpet-gala/
END:VEVENT
BEGIN:VEVENT
DTSTART;TZID=America/New_York:20230202T120000
DTEND;TZID=America/New_York:20230202T130000
DTSTAMP:20260421T200617
CREATED:20230110T192106Z
LAST-MODIFIED:20230110T192123Z
UID:33306-1675339200-1675342800@wbtai.com
SUMMARY:Garden Talk Series
DESCRIPTION:Take a virtual tour of two English Gardens with the Genesee County Master Gardeners\, Thursday\, February 2\, at noon. Contact Mandy at 343-3040 x 101 to attend in person  or receive information to register for a zoom link.
URL:https://wbtai.com/calendars/garden-talk-series-10/
END:VEVENT
BEGIN:VEVENT
DTSTART;TZID=America/New_York:20230204T080000
DTEND;TZID=America/New_York:20230204T110000
DTSTAMP:20260421T200617
CREATED:20221220T172735Z
LAST-MODIFIED:20221220T172741Z
UID:33031-1675497600-1675508400@wbtai.com
SUMMARY:WBTA Auction
DESCRIPTION:The next WBTA Really BIG Radio Auction – the first of 2023 – will be held Saturday\, Febuary 4\, at 8am. Auction page on the website will have items listed going up for bid!
URL:https://wbtai.com/calendars/wbta-auction-28/
END:VEVENT
BEGIN:VEVENT
DTSTART;TZID=America/New_York:20230218T163000
DTEND;TZID=America/New_York:20230218T210000
DTSTAMP:20260421T200617
CREATED:20230208T180058Z
LAST-MODIFIED:20230208T180113Z
UID:33810-1676737800-1676754000@wbtai.com
SUMMARY:Batavia Winterguard
DESCRIPTION:Batavia Winterguards will perform in the Northeast Colorguard Competition on Saturday\, February 18\, at the Batavia High School\, 260 State Street. The Batavia Cadet Winterguard will compete at 5:05pm and the Varsity Winterguard will compete at 7:26pm.  Show starts at 4:30pm; Children 5 and under are free. Tickets available at the door.
URL:https://wbtai.com/calendars/batavia-winterguard/
END:VEVENT
BEGIN:VEVENT
DTSTART;TZID=America/New_York:20230219T160000
DTEND;TZID=America/New_York:20230219T170000
DTSTAMP:20260421T200617
CREATED:20230203T175028Z
LAST-MODIFIED:20230203T175154Z
UID:33760-1676822400-1676826000@wbtai.com
SUMMARY:GSO Concert
DESCRIPTION:Genesee Symphony Orchestra will perform an All Brahms Program Sunday\, February 19\, 4pm\, in the Genesee Community College\, Stuart Steiner Theatre\, Batavia Campus. Tickets available at the door.
URL:https://wbtai.com/calendars/gso-concert-9/
END:VEVENT
BEGIN:VEVENT
DTSTART;TZID=America/New_York:20230223T090000
DTEND;TZID=America/New_York:20230223T100000
DTSTAMP:20260421T200617
CREATED:20230222T154610Z
LAST-MODIFIED:20230222T154629Z
UID:33970-1677142800-1677146400@wbtai.com
SUMMARY:Java with Joe E
DESCRIPTION:Due to projected bad weather\, Java with Joe E at the Holland Land Office Museum has been cancelled for Thursday\, Febrary 23 and RESCHEDULED for Thursday\, March 2\, 9am.
URL:https://wbtai.com/calendars/java-with-joe-e-4/
END:VEVENT
BEGIN:VEVENT
DTSTART;TZID=America/New_York:20230228T110000
DTEND;TZID=America/New_York:20230228T210000
DTSTAMP:20260421T200617
CREATED:20230202T205835Z
LAST-MODIFIED:20230202T205840Z
UID:33743-1677582000-1677618000@wbtai.com
SUMMARY:GCA Fund Raiser
DESCRIPTION:Genesee Cancer Assistance will host a fund raiser at Batavia’s Original\, Tuesday\, February 28\, all day. For more information call GCA At 345-0417.
URL:https://wbtai.com/calendars/gca-fund-raiser/
END:VEVENT
BEGIN:VEVENT
DTSTART;TZID=America/New_York:20230302T090000
DTEND;TZID=America/New_York:20230302T220000
DTSTAMP:20260421T200617
CREATED:20230222T154832Z
LAST-MODIFIED:20230222T154854Z
UID:33972-1677747600-1677794400@wbtai.com
SUMMARY:Java with Joe E
DESCRIPTION:The rescheduled Java with Joe E. featuring a presentation by Sharon Burkel on Watson Bullocks\, will be held at the Holland Land Office Museum\, Thursday\, March 2\, 9am.
URL:https://wbtai.com/calendars/java-with-joe-e-5/
END:VEVENT
BEGIN:VEVENT
DTSTART;TZID=America/New_York:20230302T120000
DTEND;TZID=America/New_York:20230302T130000
DTSTAMP:20260421T200617
CREATED:20230110T192358Z
LAST-MODIFIED:20230110T192410Z
UID:33309-1677758400-1677762000@wbtai.com
SUMMARY:Garden Talk Series
DESCRIPTION:Join Genesee County Master Gardeners for “Kitchen Gardens” talk Thursday\, March 2\, at noon. Call Mandy at 343-3040 to register to attend in person or receive a zoom link.
URL:https://wbtai.com/calendars/garden-talk-series-11/
END:VEVENT
BEGIN:VEVENT
DTSTART;TZID=America/New_York:20230304T170000
DTEND;TZID=America/New_York:20230304T210000
DTSTAMP:20260421T200617
CREATED:20230222T182049Z
LAST-MODIFIED:20230222T182117Z
UID:33989-1677949200-1677963600@wbtai.com
SUMMARY:Fur Ball Gala
DESCRIPTION:Fur Ball Gala to benefit the Genesee County animal shelter and the SPCA of Wyoming County will be held Saturday\, March 4\, at Batavia Downs\, Park Road\, Batavia\, from 5pm to 9pm.  To make a reservation call Sara at 344-6155.
URL:https://wbtai.com/calendars/fur-ball-gala/
END:VEVENT
BEGIN:VEVENT
DTSTART;TZID=America/New_York:20230311T170000
DTEND;TZID=America/New_York:20230311T210000
DTSTAMP:20260421T200617
CREATED:20230110T190651Z
LAST-MODIFIED:20230110T190711Z
UID:33300-1678554000-1678568400@wbtai.com
SUMMARY:Chamber Awards
DESCRIPTION:Genesee County Chamber of Commerce annual awards night will be held Saturday\, March 11\, at Batavia Downs Gaming and Hotel.  Tickets available by contacting the Chamber.
URL:https://wbtai.com/calendars/chamber-awards/
END:VEVENT
BEGIN:VEVENT
DTSTART;TZID=America/New_York:20230311T170000
DTEND;TZID=America/New_York:20230311T220000
DTSTAMP:20260421T200617
CREATED:20230202T204405Z
LAST-MODIFIED:20230202T204413Z
UID:33740-1678554000-1678572000@wbtai.com
SUMMARY:Gen. Co. Chamber Awards
DESCRIPTION:Genesee County Chamber of Commerce Awards night will be held at the Batavia Downs\, Park Road\, Saturday\, March 11\, starting at 5pm. Reservations needed in advance. Contact Kelly B at the Chamber for more info and reservations.
URL:https://wbtai.com/calendars/gen-co-chamber-awards/
END:VEVENT
BEGIN:VEVENT
DTSTART;TZID=America/New_York:20230318T090000
DTEND;TZID=America/New_York:20230318T130000
DTSTAMP:20260421T200617
CREATED:20230206T194437Z
LAST-MODIFIED:20230206T194558Z
UID:33784-1679130000-1679144400@wbtai.com
SUMMARY:Fishermen's Flea Market
DESCRIPTION:There will be a fishermen’s flea market at the Alexander Firemen’s Rec Hall\, Rt. 98 \, Alexander\, Saturday\, March 18\, from 9am to 1pm. Children under age 12 are free.
URL:https://wbtai.com/calendars/fishermens-flea-market/
END:VEVENT
END:VCALENDAR