BEGIN:VCALENDAR
VERSION:2.0
PRODID:-//WBTA - ECPv6.14.0//NONSGML v1.0//EN
CALSCALE:GREGORIAN
METHOD:PUBLISH
X-WR-CALNAME:WBTA
X-ORIGINAL-URL:https://wbtai.com
X-WR-CALDESC:Events for WBTA
REFRESH-INTERVAL;VALUE=DURATION:PT1H
X-Robots-Tag:noindex
X-PUBLISHED-TTL:PT1H
BEGIN:VTIMEZONE
TZID:America/New_York
BEGIN:DAYLIGHT
TZOFFSETFROM:-0500
TZOFFSETTO:-0400
TZNAME:EDT
DTSTART:20170312T070000
END:DAYLIGHT
BEGIN:STANDARD
TZOFFSETFROM:-0400
TZOFFSETTO:-0500
TZNAME:EST
DTSTART:20171105T060000
END:STANDARD
END:VTIMEZONE
BEGIN:VEVENT
DTSTART;TZID=America/New_York:20171215T193000
DTEND;TZID=America/New_York:20171215T193000
DTSTAMP:20260421T000334
CREATED:20171209T201120Z
LAST-MODIFIED:20171211T164533Z
UID:5098-1513366200-1513366200@wbtai.com
SUMMARY:Whispers in the Snow
DESCRIPTION:Batavia Players\, 56 Harvester Avenue\, Batavia\, presents\, ” Whispers in the Snow”\, Friday and Saturday\, December 15th and 16th at 7:30pm and on Sunday\, December 17\, at 2pm. Tickets available at the door
URL:https://wbtai.com/calendars/whispers-in-the-snow/
LOCATION:Batavia Players 56 Harvester Ave.\, Batavia\, NY
END:VEVENT
BEGIN:VEVENT
DTSTART;TZID=America/New_York:20171215T190000
DTEND;TZID=America/New_York:20171215T190000
DTSTAMP:20260421T000334
CREATED:20171209T200936Z
LAST-MODIFIED:20171211T164308Z
UID:5096-1513364400-1513364400@wbtai.com
SUMMARY:A Charlie Brown Christmas
DESCRIPTION:“A Charlie Brown Christmas” Live\, on-stage at the First Baptist Church of Elba. \nAdmission is free but a ticket is required. \nTo reserve your ticket\, call: (585) 397-8831.
URL:https://wbtai.com/calendars/a-charlie-brown-christmas/
LOCATION:First Baptist Church of Elba
END:VEVENT
BEGIN:VEVENT
DTSTART;TZID=America/New_York:20171214T190000
DTEND;TZID=America/New_York:20171214T190000
DTSTAMP:20260421T000334
CREATED:20171209T200821Z
LAST-MODIFIED:20171211T171725Z
UID:5094-1513278000-1513278000@wbtai.com
SUMMARY:A Christmas Carol
DESCRIPTION:Richmond Memorial Library\, 19 Ross Street\, Batavia\, will host Charles Dickens Presents\, ” A Christmas Carol”\, a solo performance starring Mike Randall.
URL:https://wbtai.com/calendars/a-christmas-carol/
LOCATION:Richmond Memorial Library\, 19 Ross St.\, Batavia NY
END:VEVENT
BEGIN:VEVENT
DTSTART;TZID=America/New_York:20171214T183000
DTEND;TZID=America/New_York:20171214T183000
DTSTAMP:20260421T000334
CREATED:20171207T202052Z
LAST-MODIFIED:20171211T163857Z
UID:5077-1513276200-1513276200@wbtai.com
SUMMARY:Public Meeting on Downtown Initiative
DESCRIPTION:The first community meeting to gather public input on Batavia’s Downtown Revitalization Initiative (DRI) will be held at City Hall\, One Batavia City Centre\, Batavia\, NY at 6:30 p.m. on Thursday\, December 14. \nThose in attendance will be provided with information on the Downtown Revitalization Initiative followed by a hands-on\, interactive public workshop. The purpose of the workshop is to identify potential transformative redevelopment strategies that will provide long term community and economic benefits for Downtown Batavia. This is an opportunity for residents and businesses in the community to provide feedback and help plan the future of Downtown Batavia. The DRI Local Planning Committee would like to know what you love about Downtown Batavia\, what draws you downtown today\, and what amenities would bring you downtown more often.
URL:https://wbtai.com/calendars/public-meeting-on-downtown-initiative/
LOCATION:Batavia City Hall
END:VEVENT
BEGIN:VEVENT
DTSTART;TZID=America/New_York:20171214T180000
DTEND;TZID=America/New_York:20171214T180000
DTSTAMP:20260421T000334
CREATED:20171209T200630Z
LAST-MODIFIED:20171211T162553Z
UID:5092-1513274400-1513274400@wbtai.com
SUMMARY:Arthritis Support Network
DESCRIPTION:WNY Arthritis Support Network Gathering\, Thursday\, December 14\, 6pm\, at the Richmond Memorial Library\, 19 Ross Street\, Batavia.
URL:https://wbtai.com/calendars/arthritis-support-network/
LOCATION:Richmond Memorial Library\, 19 Ross St.\, Batavia NY
END:VEVENT
END:VCALENDAR