BEGIN:VCALENDAR
VERSION:2.0
PRODID:-//WBTA - ECPv6.14.0//NONSGML v1.0//EN
CALSCALE:GREGORIAN
METHOD:PUBLISH
X-WR-CALNAME:WBTA
X-ORIGINAL-URL:https://wbtai.com
X-WR-CALDESC:Events for WBTA
REFRESH-INTERVAL;VALUE=DURATION:PT1H
X-Robots-Tag:noindex
X-PUBLISHED-TTL:PT1H
BEGIN:VTIMEZONE
TZID:America/New_York
BEGIN:DAYLIGHT
TZOFFSETFROM:-0500
TZOFFSETTO:-0400
TZNAME:EDT
DTSTART:20180311T070000
END:DAYLIGHT
BEGIN:STANDARD
TZOFFSETFROM:-0400
TZOFFSETTO:-0500
TZNAME:EST
DTSTART:20181104T060000
END:STANDARD
END:VTIMEZONE
BEGIN:VEVENT
DTSTART;TZID=America/New_York:20180311T090000
DTEND;TZID=America/New_York:20180311T130000
DTSTAMP:20260420T133156
CREATED:20180305T162113Z
LAST-MODIFIED:20180305T162113Z
UID:7571-1520758800-1520773200@wbtai.com
SUMMARY:Pancake Breakfast @ Godfrey's Pond
DESCRIPTION:Genesee County Fish & Game Protective Association Inc. \n“Godfrey’s Pond” – 1/2 mile off Byron Road\, East on Griswald Road\, Right into Godfrey’s Pond Road \nSUNDAY March 11th\, 8 a.m. till 12 p.m. \nIncluding: Beverage\, Eggs\, Bacon or Sausage. \nAdults – $8 \nSeniors\, Children – $4 \nOur very own REAL MAPLE SYRUP – weather permitting we may be boiling our yummy stuff \ngodfreyspond.org or godfreyspond.com \nLike us on Facebook
URL:https://wbtai.com/calendars/pancake-breakfast-godfreys-pond/
END:VEVENT
BEGIN:VEVENT
DTSTART;TZID=America/New_York:20180310T160000
DTEND;TZID=America/New_York:20180310T190000
DTSTAMP:20260420T133156
CREATED:20180213T194536Z
LAST-MODIFIED:20180213T194548Z
UID:7032-1520697600-1520708400@wbtai.com
SUMMARY:Corned Beef or Ham Dinner
DESCRIPTION:VFW post 1602 Auxiliary. 25 Edwards Street\, Batavia\, will host a corned beef and ham dinner\, Saturday\, March 10\, 4pm to 7pm.
URL:https://wbtai.com/calendars/corned-beef-or-ham-dinner/
END:VEVENT
BEGIN:VEVENT
DTSTART;TZID=America/New_York:20180309T193000
DTEND;TZID=America/New_York:20180311T223000
DTSTAMP:20260420T133156
CREATED:20180208T151105Z
LAST-MODIFIED:20180208T151119Z
UID:6819-1520623800-1520807400@wbtai.com
SUMMARY:Harvester 56 Theatre
DESCRIPTION:Harvester 56 Theater presents\, ” Six Characters in Search of an Author”\, Friday\, March 9 and Saturday\, March 10\, at 7:30pm and on Sunday\, March 11\, at 2:30pm. This play is rated PG13 and not recommended for young viewers. Tickets available at the box office.
URL:https://wbtai.com/calendars/harvester-56-theatre/
END:VEVENT
BEGIN:VEVENT
DTSTART;TZID=America/New_York:20180309T193000
DTEND;TZID=America/New_York:20180311T203000
DTSTAMP:20260420T133156
CREATED:20180207T191039Z
LAST-MODIFIED:20180207T191053Z
UID:6782-1520623800-1520800200@wbtai.com
SUMMARY:
DESCRIPTION:Harvester 56 Theater presents\, ” Six Characters in Search of an Author”\, Friday\, March 9\, to Saturday\, March 10 at 7:30pm and on Sunday\, March 11 at 230pm . Tickets available at the box office or online.
URL:https://wbtai.com/calendars/6782/
END:VEVENT
BEGIN:VEVENT
DTSTART;TZID=America/New_York:20180308T190000
DTEND;TZID=America/New_York:20180308T200000
DTSTAMP:20260420T133156
CREATED:20180221T190513Z
LAST-MODIFIED:20180221T190523Z
UID:7282-1520535600-1520539200@wbtai.com
SUMMARY:Green Grows the Shamrock
DESCRIPTION:Richmond Memorial Library\, 19 Ross Street\, Batavia\, will host a series\, StoriesGalorious\, Thursday\, March 8\, 7pm\, with “Green Grows the Shamrock”.
URL:https://wbtai.com/calendars/green-grows-the-shamrock/
LOCATION:Richmond Memorial Library\, 19 Ross St.\, Batavia NY
END:VEVENT
BEGIN:VEVENT
DTSTART;TZID=America/New_York:20180306T130000
DTEND;TZID=America/New_York:20180306T160000
DTSTAMP:20260420T133156
CREATED:20180221T184329Z
LAST-MODIFIED:20180221T184341Z
UID:7274-1520341200-1520352000@wbtai.com
SUMMARY:Gadgets & Gear
DESCRIPTION:Bring your questions and e-readers\, phones\, laptops\, and tablets to this hands on class at the Richmond Memorial Library\, Tuesday\, March 6\, 1pm to 4pm. Call 343-9550 to register.
URL:https://wbtai.com/calendars/gadgets-gear-2/
END:VEVENT
BEGIN:VEVENT
DTSTART;TZID=America/New_York:20180306T120000
DTEND;TZID=America/New_York:20180306T130000
DTSTAMP:20260420T133156
CREATED:20180208T161557Z
LAST-MODIFIED:20180208T161609Z
UID:6846-1520337600-1520341200@wbtai.com
SUMMARY:Garden Talk
DESCRIPTION:Genesee County Master Gardeners will host a program on creating cutting gardens\, Tuesday\, March 6\, 12:15\, at the Cornell Cooperative Extension office\, 420 East Main Street\, Batavia. Bring your Lunch.  No registration necessary.
URL:https://wbtai.com/calendars/garden-talk/
END:VEVENT
BEGIN:VEVENT
DTSTART;TZID=America/New_York:20180306T100000
DTEND;TZID=America/New_York:20180306T130000
DTSTAMP:20260420T133156
CREATED:20180221T190136Z
LAST-MODIFIED:20180221T190147Z
UID:7280-1520330400-1520341200@wbtai.com
SUMMARY:Internet Safely
DESCRIPTION:Learn how to safely navigate YouTube\, Twitter\, Wikipedia\, and your Library Catalog\, in this hands on class at the Richmond Memorial Library\, Tuesday\, March 6\, 10am to 1pm. Call 343-9550 to register.
URL:https://wbtai.com/calendars/internet-safely/
END:VEVENT
BEGIN:VEVENT
DTSTART;TZID=America/New_York:20180305T183000
DTEND;TZID=America/New_York:20180305T203000
DTSTAMP:20260420T133156
CREATED:20180221T191008Z
LAST-MODIFIED:20180221T191018Z
UID:7286-1520274600-1520281800@wbtai.com
SUMMARY:Adult book Discussions
DESCRIPTION:The evening adult book discussion group at the Richmond Memorial Library\, 19 Ross Street\, Batavia\, will meet on Monday\, March 5\, 6:30pm\, to discuss\, ” A Gentleman in Moscow”\, by Amor Towles.
URL:https://wbtai.com/calendars/adult-book-discussions/
LOCATION:Richmond Memorial Library\, 19 Ross St.\, Batavia NY
END:VEVENT
BEGIN:VEVENT
DTSTART;TZID=America/New_York:20180305T130000
DTEND;TZID=America/New_York:20180305T160000
DTSTAMP:20260420T133156
CREATED:20180221T185819Z
LAST-MODIFIED:20180221T185830Z
UID:7278-1520254800-1520265600@wbtai.com
SUMMARY:Facebook
DESCRIPTION:Learn about Facebook and sign up for an account\, Monday\, March 5\, 1pm to 4pm\, at the Richmond Memorial Library\, 19 Ross Street\, Batavia. Call 343-9550 to register.
URL:https://wbtai.com/calendars/facebook/
END:VEVENT
BEGIN:VEVENT
DTSTART;TZID=America/New_York:20180305T100000
DTEND;TZID=America/New_York:20180305T130000
DTSTAMP:20260420T133156
CREATED:20180221T185613Z
LAST-MODIFIED:20180221T185624Z
UID:7276-1520244000-1520254800@wbtai.com
SUMMARY:Email start to finish
DESCRIPTION:Learn about email and sign up for a new account in this hands on class at the Richmond Memorial Library\, 19 Ross Street\, Batavia\, on Monday\, March 5\, 10am to 1pm. Call 343-9550 to register.
URL:https://wbtai.com/calendars/email-start-to-finish/
END:VEVENT
BEGIN:VEVENT
DTSTART;TZID=America/New_York:20180304T160000
DTEND;TZID=America/New_York:20180304T180000
DTSTAMP:20260420T133156
CREATED:20180208T152441Z
LAST-MODIFIED:20180208T152454Z
UID:6825-1520179200-1520186400@wbtai.com
SUMMARY:Genesee Chorale
DESCRIPTION:Genesee Chorale will take you down memory lane with their concert on Sunday\, March 4\, at St. Joseph’s Catholic School\, 2 Summit Street\, Batavia\, at 4pm. Songs from pop\, rock\, Broadway\, film\, and television series will be sung. Tickets available at the door or online.
URL:https://wbtai.com/calendars/genesee-chorale-2/
END:VEVENT
BEGIN:VEVENT
DTSTART;TZID=America/New_York:20180304T080000
DTEND;TZID=America/New_York:20180304T113000
DTSTAMP:20260420T133156
CREATED:20180221T183732Z
LAST-MODIFIED:20180221T183744Z
UID:7270-1520150400-1520163000@wbtai.com
SUMMARY:American Legion Breakfast
DESCRIPTION:American Legion Post 576\, 53 West Main Street\, LeRoy\, will host breakfast\, Sunday\, March 4\, 8am to they run out.
URL:https://wbtai.com/calendars/american-legion-breakfast/
END:VEVENT
BEGIN:VEVENT
DTSTART;TZID=America/New_York:20180303T160000
DTEND;TZID=America/New_York:20180303T163000
DTSTAMP:20260420T133156
CREATED:20180212T193447Z
LAST-MODIFIED:20180212T193500Z
UID:7011-1520092800-1520094600@wbtai.com
SUMMARY:Reed Eye & Genesee Cancer Assistance Fund Raiser
DESCRIPTION:Reed Eye Associates\, 39 Washington Avenue\, Batavia\, will hold a fund raising drawing with proceeds going to Genesee Cancer Assistance\, on Saturday\, March 3\, 4pm. Contact Donna Kabel at 409-2021 for more information.
URL:https://wbtai.com/calendars/reed-eye-genesee-cancer-assistance-fund-raiser/
END:VEVENT
BEGIN:VEVENT
DTSTART;TZID=America/New_York:20180303T120000
DTEND;TZID=America/New_York:20180303T170000
DTSTAMP:20260420T133156
CREATED:20180208T163336Z
LAST-MODIFIED:20180213T214039Z
UID:6854-1520078400-1520096400@wbtai.com
SUMMARY:Melanoma fund raiser
DESCRIPTION:There will be a fund raiser at the Dibble Family Event Center\, West Main Street Road\, Batavia\, Saturday\, March 3\, from noon to 5pm. Spaghetti and Meatball dinner will also be available. Proceeds benefit Melanoma Research and two local families.
URL:https://wbtai.com/calendars/melanoma-fund-raiser/
END:VEVENT
BEGIN:VEVENT
DTSTART;TZID=America/New_York:20180302T193000
DTEND;TZID=America/New_York:20180304T170000
DTSTAMP:20260420T133156
CREATED:20180130T215123Z
LAST-MODIFIED:20180130T215136Z
UID:6586-1520019000-1520182800@wbtai.com
SUMMARY:Into the Woods
DESCRIPTION:Batavia High School Production Club presents\, ” Into the Woods”\, Friday\, March 2 and Saturday\, March 3rd at 7:30pm and on Sunday\, March 4th\, at 2pm in the high school auditorium. Tickets available at the school’s main office presale or at the door.
URL:https://wbtai.com/calendars/into-the-woods/
END:VEVENT
BEGIN:VEVENT
DTSTART;TZID=America/New_York:20180302T080000
DTEND;TZID=America/New_York:20180302T170000
DTSTAMP:20260420T133156
CREATED:20180223T154927Z
LAST-MODIFIED:20180223T155012Z
UID:7340-1519977600-1520010000@wbtai.com
SUMMARY:Day of Caring Registration
DESCRIPTION:Volunteer Registration for the Genesee County United Way Day of Caring opens Friday\, March 2. Get your teams together and register for a day of working in our community. Go online to register or  for questions call Erik Fix at 343-8141.  Volunteer registration closed April 6th.
URL:https://wbtai.com/calendars/day-of-caring-registration/
END:VEVENT
BEGIN:VEVENT
DTSTART;TZID=America/New_York:20180228T190000
DTEND;TZID=America/New_York:20180228T200000
DTSTAMP:20260420T133156
CREATED:20180208T155952Z
LAST-MODIFIED:20180208T160005Z
UID:6840-1519844400-1519848000@wbtai.com
SUMMARY:Classical Guitar Concert
DESCRIPTION:The Richmond Memorial Library\, 19 Ross Street\, Batavia\, will host a free Classical Guitar Concert\, Wednesday\, February 28\, 7pm.  Two Eastman School of Music graduate students will perform.
URL:https://wbtai.com/calendars/classical-guitar-concert/
LOCATION:Richmond Memorial Library\, 19 Ross St.\, Batavia NY
END:VEVENT
BEGIN:VEVENT
DTSTART;TZID=America/New_York:20180228T160000
DTEND;TZID=America/New_York:20180228T200000
DTSTAMP:20260420T133156
CREATED:20180227T171448Z
LAST-MODIFIED:20180227T171459Z
UID:7424-1519833600-1519848000@wbtai.com
SUMMARY:Elba Boy Scouts Fundraiser
DESCRIPTION:Elba Boy Scout Troop 6017 will hold a fundraiser at Denny’s Restaurant\, Main Street\, Batavia\, Wednesday\, February 28\, 4pm to 9pm.
URL:https://wbtai.com/calendars/elba-boy-scouts-fundraiser/
END:VEVENT
BEGIN:VEVENT
DTSTART;TZID=America/New_York:20180226T183000
DTEND;TZID=America/New_York:20180226T203000
DTSTAMP:20260420T133156
CREATED:20180208T160343Z
LAST-MODIFIED:20180208T160354Z
UID:6842-1519669800-1519677000@wbtai.com
SUMMARY:Mini Album Class
DESCRIPTION:Learn how to make a mini album from one sheet of decorative paper in this class for adults Monday\, February 26\, 6:30pm\, at the Richmond Memorial Library\, 19 Ross Street\, Batavia. Album will hold 12 or more photos; registration is required. Call 343-9550. A list of supplies needed is available at the library.
URL:https://wbtai.com/calendars/mini-album-class/
LOCATION:Richmond Memorial Library\, 19 Ross St.\, Batavia NY
END:VEVENT
BEGIN:VEVENT
DTSTART;TZID=America/New_York:20180225T130000
DTEND;TZID=America/New_York:20180225T160000
DTSTAMP:20260420T133156
CREATED:20180208T163754Z
LAST-MODIFIED:20180208T163807Z
UID:6856-1519563600-1519574400@wbtai.com
SUMMARY:Chicken & Biscuits
DESCRIPTION:There will be a chicken and biscuits dinner\, Sunday\, February 25\, 1pm to 4pm\, at St. Luke’s Episcopal Church Hall\, 30 Favor Street\, Attica. Facility is handicapped accessible.
URL:https://wbtai.com/calendars/chicken-biscuits/
END:VEVENT
BEGIN:VEVENT
DTSTART;TZID=America/New_York:20180225T080000
DTEND;TZID=America/New_York:20180225T120000
DTSTAMP:20260420T133156
CREATED:20180212T193918Z
LAST-MODIFIED:20180212T193930Z
UID:7013-1519545600-1519560000@wbtai.com
SUMMARY:Alexander Breakfast
DESCRIPTION:Alexander Fire Department will host an all you can eat breakfast Sunday\, February 25\, 8am to noon at the fire hall. Children under age 4 are free. There will also be an indoor activities for kids\, including a  bounce house.  (for more information contact Barbara Eddy at 507-9930)
URL:https://wbtai.com/calendars/alexander-breakfast/
END:VEVENT
BEGIN:VEVENT
DTSTART;TZID=America/New_York:20180224T173000
DTEND;TZID=America/New_York:20180224T213000
DTSTAMP:20260420T133156
CREATED:20180221T192020Z
LAST-MODIFIED:20180221T192034Z
UID:7290-1519493400-1519507800@wbtai.com
SUMMARY:Owling with the Moon
DESCRIPTION:Genesee Country Village & Museum will host an evening devoted to owls\, behavior\, habitat\, and lifestyle;  Saturday\, February 24\, 5:30pm. Presentation includes a walk through the Nature Center woods. Reservations on line required.
URL:https://wbtai.com/calendars/owling-with-the-moon/
END:VEVENT
BEGIN:VEVENT
DTSTART;TZID=America/New_York:20180224T100000
DTEND;TZID=America/New_York:20180224T113000
DTSTAMP:20260420T133156
CREATED:20180105T182846Z
LAST-MODIFIED:20180105T182859Z
UID:5820-1519466400-1519471800@wbtai.com
SUMMARY:Food Link
DESCRIPTION:The Town of Bethany will host a Food Link on Saturday\, February 24\, 10am to 11:30am at the Bethany Community Center\, 10510 Bethany Center Road. There are no income requirements or restrictions. For more information contact Carl Hyde at 343-1399.
URL:https://wbtai.com/calendars/food-link/
END:VEVENT
BEGIN:VEVENT
DTSTART;TZID=America/New_York:20180224T070000
DTEND;TZID=America/New_York:20180224T100000
DTSTAMP:20260420T133156
CREATED:20180131T164241Z
LAST-MODIFIED:20180131T164341Z
UID:6603-1519455600-1519466400@wbtai.com
SUMMARY:WBTA Auction
DESCRIPTION:The next WBTA Really BIG Radio Auction will be held\, Saturday\, February 24\, 7am!  Keep watching our auction page for items going up for bid!
URL:https://wbtai.com/calendars/wbta-auction/
END:VEVENT
BEGIN:VEVENT
DTSTART;TZID=America/New_York:20180222T190000
DTEND;TZID=America/New_York:20180222T210000
DTSTAMP:20260420T133156
CREATED:20180208T153006Z
LAST-MODIFIED:20180208T153017Z
UID:6827-1519326000-1519333200@wbtai.com
SUMMARY:Agri CDL Training
DESCRIPTION:Cornell Cooperative Extension of Wyoming County in collaboration with Genesee Valley BOCES\, will offer CDL Training for both Class A and Class B licenses for Farm owners\, operators\, and their employees ONLY. An Informational meeting will be held Thursday\, February 22\, 7pm\, at the CCE office\, 36 Center Street\, Warsaw. Classes begin February 28.  To register contact Lisa at 585-786-2251.
URL:https://wbtai.com/calendars/agri-cdl-training/
END:VEVENT
BEGIN:VEVENT
DTSTART;TZID=America/New_York:20180222T180000
DTEND;TZID=America/New_York:20180222T220000
DTSTAMP:20260420T133156
CREATED:20180208T154908Z
LAST-MODIFIED:20180208T154919Z
UID:6833-1519322400-1519336800@wbtai.com
SUMMARY:Reel Discussions
DESCRIPTION:Come view the movie\, ” He Named Me Malala”\, and join in discussions afterwards\, Thursday\, February 22\, 6pm\, at the Richmond Memorial Library\, 19 Ross Street\, Batavia.
URL:https://wbtai.com/calendars/reel-discussions-3/
LOCATION:Richmond Memorial Library\, 19 Ross St.\, Batavia NY
END:VEVENT
BEGIN:VEVENT
DTSTART;TZID=America/New_York:20180220T183000
DTEND;TZID=America/New_York:20180220T203000
DTSTAMP:20260420T133156
CREATED:20180208T155645Z
LAST-MODIFIED:20180208T155658Z
UID:6836-1519151400-1519158600@wbtai.com
SUMMARY:Gnomes to Knit
DESCRIPTION:Richmond Memorial Library\, 19 Ross Street\, Batavia\, will present a class for adults who know how to knit on double pointed needles\, Tuesday\, February 20\, 6:30pm to create gnomes. Registration is required. Call 343-9550.
URL:https://wbtai.com/calendars/gnomes-to-knit/
LOCATION:Richmond Memorial Library\, 19 Ross St.\, Batavia NY
END:VEVENT
BEGIN:VEVENT
DTSTART;TZID=America/New_York:20180218T160000
DTEND;TZID=America/New_York:20180218T200000
DTSTAMP:20260420T133156
CREATED:20180131T171335Z
LAST-MODIFIED:20180131T171350Z
UID:6606-1518969600-1518984000@wbtai.com
SUMMARY:Friends of Ricky Palermo Fundraiser
DESCRIPTION:Friends of Ricky Palermo will host a fundraiser\, Sunday\, February 18th\, 4pm to 8pm at T. F. Brown’s\, Batavia\,  Only 300 Tickets available. Contact Wade Bianco for more information and tickets.
URL:https://wbtai.com/calendars/friends-of-ricky-palermo-fundraiser/
END:VEVENT
BEGIN:VEVENT
DTSTART;TZID=America/New_York:20180217T130000
DTEND;TZID=America/New_York:20180217T140000
DTSTAMP:20260420T133156
CREATED:20180208T154454Z
LAST-MODIFIED:20180208T154508Z
UID:6831-1518872400-1518876000@wbtai.com
SUMMARY:Tribute to Howard Frank Mosher
DESCRIPTION:Richmond Memorial Library\, 19 Ross Street\, Batavia\, will host a fireside tribute to the late  Howard Frank Mosher\, Tale for Three Counties author\, 2004\, on Saturday\, February 17\, 1pm to 2pm in the Library’s Reading Room.
URL:https://wbtai.com/calendars/tribute-to-howard-frank-mosher/
LOCATION:Richmond Memorial Library\, 19 Ross St.\, Batavia NY
END:VEVENT
END:VCALENDAR