BEGIN:VCALENDAR
VERSION:2.0
PRODID:-//WBTA - ECPv6.14.0//NONSGML v1.0//EN
CALSCALE:GREGORIAN
METHOD:PUBLISH
X-WR-CALNAME:WBTA
X-ORIGINAL-URL:https://wbtai.com
X-WR-CALDESC:Events for WBTA
REFRESH-INTERVAL;VALUE=DURATION:PT1H
X-Robots-Tag:noindex
X-PUBLISHED-TTL:PT1H
BEGIN:VTIMEZONE
TZID:America/New_York
BEGIN:DAYLIGHT
TZOFFSETFROM:-0500
TZOFFSETTO:-0400
TZNAME:EDT
DTSTART:20180311T070000
END:DAYLIGHT
BEGIN:STANDARD
TZOFFSETFROM:-0400
TZOFFSETTO:-0500
TZNAME:EST
DTSTART:20181104T060000
END:STANDARD
END:VTIMEZONE
BEGIN:VEVENT
DTSTART;TZID=America/New_York:20180630T093000
DTEND;TZID=America/New_York:20180630T170000
DTSTAMP:20260420T034316
CREATED:20180627T150948Z
LAST-MODIFIED:20180627T150948Z
UID:10500-1530351000-1530378000@wbtai.com
SUMMARY:Barrel Race Benefit
DESCRIPTION:2nd annual Family event to benefit Gateway-Home\, a comfort care facility in Attica\, will be held Saturday\, June 30\, starting at 9am\, Twin Ponds Arena\, 10755 Sandpit Road\, Alexander. Barrel Racing\, pony rides\, entertainment\, chicken bbq.
URL:https://wbtai.com/calendars/barrel-race-benefit/
END:VEVENT
BEGIN:VEVENT
DTSTART;TZID=America/New_York:20180629T190000
DTEND;TZID=America/New_York:20180629T200000
DTSTAMP:20260420T034316
CREATED:20180604T202940Z
LAST-MODIFIED:20180604T202956Z
UID:9743-1530298800-1530302400@wbtai.com
SUMMARY:Jackson Sq. Concert Series
DESCRIPTION:Don Newcomb Band will play\, Friday\, June 29th\, 7pm\, in Jackson Square\, downtown Batavia\, as part of the BID summer concert series. Bring your lawn chairs.
URL:https://wbtai.com/calendars/jackson-sq-concert-series-2/
END:VEVENT
BEGIN:VEVENT
DTSTART;TZID=America/New_York:20180629T170000
DTEND;TZID=America/New_York:20180629T220000
DTSTAMP:20260420T034316
CREATED:20180605T145657Z
LAST-MODIFIED:20180605T145712Z
UID:9791-1530291600-1530309600@wbtai.com
SUMMARY:Rockin' the Downs
DESCRIPTION:Grand Funk Railroad will be Rockin’ the Downs\, Friday\, June 29th\, at Batavia Downs Gaming & Hotel\, Park Road\, Batavia\, doors open at 4pm.  For tickets and more information click here.
URL:https://wbtai.com/calendars/rockin-the-downs-2/
END:VEVENT
BEGIN:VEVENT
DTSTART;TZID=America/New_York:20180629T080000
DTEND;TZID=America/New_York:20180629T170000
DTSTAMP:20260420T034316
CREATED:20180503T164336Z
LAST-MODIFIED:20180503T164351Z
UID:8998-1530259200-1530291600@wbtai.com
SUMMARY:Genesee Cancer Assistance Golf / Bocce
DESCRIPTION:Genesee Cancer Assistance Golf & Bocce Tournament will be held Friday\, June 29\, at the Batavia Country Club. Golf Registration will be at 10:30 with a shotgun start of noon. Scramble format. Bocce registration opens at noon.  Or register now online.
URL:https://wbtai.com/calendars/genesee-cancer-assistance-golf-bocce/
END:VEVENT
BEGIN:VEVENT
DTSTART;TZID=America/New_York:20180628T190000
DTEND;TZID=America/New_York:20180628T223000
DTSTAMP:20260420T034316
CREATED:20180605T154713Z
LAST-MODIFIED:20180605T154727Z
UID:9823-1530212400-1530225000@wbtai.com
SUMMARY:Muckdogs Baseball
DESCRIPTION:The Muckdogs will play against Auburn Doubledays\, Thursday\, June 28\, 7:05pm in Dwyer Stadium\, Batavia. Tickets available online or the boxoffice. Listen to the game live on WBTA 1490am or 100.1 fm.
URL:https://wbtai.com/calendars/muckdogs-baseball-5/
END:VEVENT
BEGIN:VEVENT
DTSTART;TZID=America/New_York:20180628T190000
DTEND;TZID=America/New_York:20180628T203000
DTSTAMP:20260420T034316
CREATED:20180619T143243Z
LAST-MODIFIED:20180619T143301Z
UID:10303-1530212400-1530217800@wbtai.com
SUMMARY:Good Bread in the Darkness
DESCRIPTION:First Presbyterian Church\, 300 East Main Street\, Batavia\, along with the Visual Truth Theatre Ensemble presents\, ” Good Bread in the Darkness”\, Thursday\, June 28\, 7pm. This literary event will be hosted by WBTA’s own Lucine Kauffman and will feature local and regional writers with a focus on nature\, sprituality\, and community. This event is free and open to the public.
URL:https://wbtai.com/calendars/good-bread-in-the-darkness/
END:VEVENT
BEGIN:VEVENT
DTSTART;TZID=America/New_York:20180628T180000
DTEND;TZID=America/New_York:20180628T220000
DTSTAMP:20260420T034316
CREATED:20180604T150743Z
LAST-MODIFIED:20180604T150759Z
UID:9711-1530208800-1530223200@wbtai.com
SUMMARY:Reel Discussions
DESCRIPTION:Come view the movie\, ” The Post” and join in the discussions afterward\, Thursday\, June 28\, 6pm\,  at the Richmond Memorial Library\, 19 Ross Street\, Batavia.
URL:https://wbtai.com/calendars/reel-discussions-6/
LOCATION:Richmond Memorial Library\, 19 Ross St.\, Batavia NY
END:VEVENT
BEGIN:VEVENT
DTSTART;TZID=America/New_York:20180628T100000
DTEND;TZID=America/New_York:20180628T150000
DTSTAMP:20260420T034316
CREATED:20180604T151603Z
LAST-MODIFIED:20180604T151615Z
UID:9715-1530180000-1530198000@wbtai.com
SUMMARY:Babysitting Workshop
DESCRIPTION:A Babysitting Workshop will be offered at the Byron Bergen Public Library\, Thursday\, June 28th\, 10am to 3pm. You must be at least 11 years of age to be certified. Cost is $ 25.  Call the Library to register at 494-1120 or for more information.
URL:https://wbtai.com/calendars/babysitting-workshop/
END:VEVENT
BEGIN:VEVENT
DTSTART;TZID=America/New_York:20180627T190000
DTEND;TZID=America/New_York:20180627T200000
DTSTAMP:20260420T034316
CREATED:20180618T201514Z
LAST-MODIFIED:20180618T201528Z
UID:10278-1530126000-1530129600@wbtai.com
SUMMARY:Stafford Historical Society
DESCRIPTION:Stafford Historical Society presents the 2nd family history workshop and discussion\, ” What we have found – Family History”\, Wednesday\, June 27\, 7pm\, in the Stafford Town Hall\, Rte. 237.
URL:https://wbtai.com/calendars/stafford-historical-society/
END:VEVENT
BEGIN:VEVENT
DTSTART;TZID=America/New_York:20180627T190000
DTEND;TZID=America/New_York:20180627T200000
DTSTAMP:20260420T034316
CREATED:20180604T201249Z
LAST-MODIFIED:20180604T201303Z
UID:9727-1530126000-1530129600@wbtai.com
SUMMARY:Batavia Concert Band
DESCRIPTION:Batavia Concert Band kicks off their summer season Wednesday\, June 27th\, 7pm\, in Centennial Park\, Batavia. Bring your lawn chairs.
URL:https://wbtai.com/calendars/batavia-concert-band/
END:VEVENT
BEGIN:VEVENT
DTSTART;TZID=America/New_York:20180627T153000
DTEND;TZID=America/New_York:20180627T200000
DTSTAMP:20260420T034316
CREATED:20180524T201112Z
LAST-MODIFIED:20180524T201126Z
UID:9526-1530113400-1530129600@wbtai.com
SUMMARY:Strawberry Social
DESCRIPTION:Indian Falls United Methodist Church\, Alleghany Road\, Corfu\, will hold their 74th annual Strawberry Social\, Wednesday\, June 27\, starting at 3:30pm. Chicken bbq\, hot dogs\, hamburgers\, strawberry desserts available. Bicycle parade at 6pm. Auction at 6:30pm.
URL:https://wbtai.com/calendars/strawberry-social/
END:VEVENT
BEGIN:VEVENT
DTSTART;TZID=America/New_York:20180626T120000
DTEND;TZID=America/New_York:20180626T130000
DTSTAMP:20260420T034316
CREATED:20180620T190929Z
LAST-MODIFIED:20180620T191119Z
UID:10342-1530014400-1530018000@wbtai.com
SUMMARY:NARFE Meeting
DESCRIPTION:The National Active and Retired Federal Employees will hold their monthly meeting Tuesday\, June 26th at T.F. Brown’s\, Batavia\, at noon. The speaker will tell of their recent trip to Cuba. Call 591-1878 to make reservations.
URL:https://wbtai.com/calendars/narfe-meeting-2/
END:VEVENT
BEGIN:VEVENT
DTSTART;TZID=America/New_York:20180625T080000
DTEND;TZID=America/New_York:20180625T170000
DTSTAMP:20260420T034316
CREATED:20180604T150218Z
LAST-MODIFIED:20180604T150232Z
UID:9709-1529913600-1529946000@wbtai.com
SUMMARY:Adult Summer Reading
DESCRIPTION:Summer Reading Bingo for Adults will begin on Monday\, June 25th\, and continue thru August 17th at the Richmond Memorial Library. Patrons 17 years of age and up with a valid library card are invited to participate. Registration is required. Learn more on line.
URL:https://wbtai.com/calendars/adult-summer-reading/
LOCATION:Richmond Memorial Library\, 19 Ross St.\, Batavia NY
END:VEVENT
BEGIN:VEVENT
DTSTART;TZID=America/New_York:20180624T120000
DTEND;TZID=America/New_York:20180624T170000
DTSTAMP:20260420T034316
CREATED:20180605T185953Z
LAST-MODIFIED:20180605T190005Z
UID:9903-1529841600-1529859600@wbtai.com
SUMMARY:Godfrey's Pond Open House & Chicken BBQ
DESCRIPTION:Godfrey’s Pond\, Griswold Road\, will hold an Open House noon to 5pm and chicken bbq\, Sunday\, June 24th.
URL:https://wbtai.com/calendars/godfreys-pond-open-house-chicken-bbq-2/
END:VEVENT
BEGIN:VEVENT
DTSTART;TZID=America/New_York:20180623T190000
DTEND;TZID=America/New_York:20180623T223000
DTSTAMP:20260420T034316
CREATED:20180605T154147Z
LAST-MODIFIED:20180605T154201Z
UID:9821-1529780400-1529793000@wbtai.com
SUMMARY:Muckdogs Baseball
DESCRIPTION:Muckdogs end their home stand against Williamsport Saturday\, June 23\, 7:05pm Dwyer Stadium\, Batavia. Tickets available online.  Listen to the game live on WBTA 1490am or 100.1 fm.
URL:https://wbtai.com/calendars/muckdogs-baseball-4/
END:VEVENT
BEGIN:VEVENT
DTSTART;TZID=America/New_York:20180623T160000
DTEND;TZID=America/New_York:20180623T190000
DTSTAMP:20260420T034316
CREATED:20180620T154958Z
LAST-MODIFIED:20180620T155010Z
UID:10328-1529769600-1529780400@wbtai.com
SUMMARY:Make Time for Kids
DESCRIPTION:Make Time for Kids Summer Program introduction will be held Saturday\, June 23\, 4pm to 7pm at the EverPresent Church\, 4 City Centre Mall\, Batavia. This program will run July 9th to August 15th 9am to noon or 1pm to 4pm for kids 6 to 12 years old. RSVP to Anne Mohr at 585-250-4506.
URL:https://wbtai.com/calendars/make-time-for-kids/
END:VEVENT
BEGIN:VEVENT
DTSTART;TZID=America/New_York:20180623T090000
DTEND;TZID=America/New_York:20180623T120000
DTSTAMP:20260420T034316
CREATED:20180605T184155Z
LAST-MODIFIED:20180605T184241Z
UID:9898-1529744400-1529755200@wbtai.com
SUMMARY:Free Electronics Recycling
DESCRIPTION:Assemblyman Steve Hawley\, Spectrum\, and Sunnking will host a free electronics recycling event\, Saturday\, June 23\, 9am to noon at the parking lot of 5130 East Main Street\, Batavia. (Next to National Grid\, enter off Ag Park Drive) Limit of 4 tube televisions per car. Cell phones\, computers\, monitors\, printers\, audio video\, small devices will be accepted.
URL:https://wbtai.com/calendars/free-electronics-recycling/
END:VEVENT
BEGIN:VEVENT
DTSTART;TZID=America/New_York:20180623T060000
DTEND;TZID=America/New_York:20180623T140000
DTSTAMP:20260420T034316
CREATED:20180613T142930Z
LAST-MODIFIED:20180613T143025Z
UID:10163-1529733600-1529762400@wbtai.com
SUMMARY:Ride for Roswell
DESCRIPTION:Ride for Roswell\, Saturday\, June 23\, 6am to 2pm. For more information and registration call 716-843-7433. The public is asked to beware of heavy bicycle traffic.
URL:https://wbtai.com/calendars/ride-for-roswell/
END:VEVENT
BEGIN:VEVENT
DTSTART;TZID=America/New_York:20180622T190000
DTEND;TZID=America/New_York:20180622T223000
DTSTAMP:20260420T034316
CREATED:20180605T153725Z
LAST-MODIFIED:20180605T153755Z
UID:9819-1529694000-1529706600@wbtai.com
SUMMARY:Muckdogs Baseball
DESCRIPTION:Muckdogs are at home\, Friday\, June 22\, playing Williamsport\, 7:05pm\, Dwyer Stadium\, Batavia. Tickets available online. Listen to the game on WBTA 1490 am or 100.1 fm.
URL:https://wbtai.com/calendars/muckdogs-baseball-3/
END:VEVENT
BEGIN:VEVENT
DTSTART;TZID=America/New_York:20180622T190000
DTEND;TZID=America/New_York:20180622T210000
DTSTAMP:20260420T034316
CREATED:20180604T202715Z
LAST-MODIFIED:20180604T202733Z
UID:9741-1529694000-1529701200@wbtai.com
SUMMARY:Jackson Sq. Concert Series
DESCRIPTION:Red Creek will kick off the downtown Batavia Jackson Square summer concert series\, Friday\, June 22\, 7pm. Free Admission. Bring your lawn chairs.
URL:https://wbtai.com/calendars/jackson-sq-concert-series/
END:VEVENT
BEGIN:VEVENT
DTSTART;TZID=America/New_York:20180622T170000
DTEND;TZID=America/New_York:20180622T220000
DTSTAMP:20260420T034316
CREATED:20180605T145300Z
LAST-MODIFIED:20180605T145317Z
UID:9789-1529686800-1529704800@wbtai.com
SUMMARY:Rockin' the Downs
DESCRIPTION:Eddie Money will Rock the Downs\, Friday\, June 22\, at Batavia Downs Gaming & Hotel\, Park Road\, Batavia. For more information go online.
URL:https://wbtai.com/calendars/rockin-the-downs/
END:VEVENT
BEGIN:VEVENT
DTSTART;TZID=America/New_York:20180621T190000
DTEND;TZID=America/New_York:20180621T223000
DTSTAMP:20260420T034316
CREATED:20180605T153412Z
LAST-MODIFIED:20180605T153430Z
UID:9814-1529607600-1529620200@wbtai.com
SUMMARY:Muckdog Baseball
DESCRIPTION:The Muckdogs take on the Williamsport Crosscutters\, Thursday\, June 21\, 7:05pm\, at Dywer Stadium\, Batavia. Listen to the game live on WBTA 1490 am and 100.1 fm.  Tickets available online.
URL:https://wbtai.com/calendars/muckdog-baseball/
END:VEVENT
BEGIN:VEVENT
DTSTART;TZID=America/New_York:20180621T180000
DTEND;TZID=America/New_York:20180621T200000
DTSTAMP:20260420T034316
CREATED:20180612T143442Z
LAST-MODIFIED:20180612T143543Z
UID:10099-1529604000-1529611200@wbtai.com
SUMMARY:Go Art Reception
DESCRIPTION:Go Art! will host an opening exhibit reception Thursday\, June 21\, 6pm to 8pm\, for artists Ty Dickey\, Daniel Cotrina Rowe\, Laynn Kang\, and the Members’ Challenge Show. For more information contact Go Art! at 343-9313.
URL:https://wbtai.com/calendars/go-art-reception/
LOCATION:Go Art! 201 E Main St.\, Batavia\, NY
END:VEVENT
BEGIN:VEVENT
DTSTART;TZID=America/New_York:20180621T160000
DTEND;TZID=America/New_York:20180621T180000
DTSTAMP:20260420T034316
CREATED:20180613T201312Z
LAST-MODIFIED:20180613T201327Z
UID:10170-1529596800-1529604000@wbtai.com
SUMMARY:Strawberry Social
DESCRIPTION:Trinity United Methodist Church\, 75 Main Street\, Attica\, will hold a Strawberry Social\, Thursday\, June 21\, starting at 4pm. Eat in or take out.
URL:https://wbtai.com/calendars/strawberry-social-3/
END:VEVENT
BEGIN:VEVENT
DTSTART;TZID=America/New_York:20180621T160000
DTEND;TZID=America/New_York:20180621T180000
DTSTAMP:20260420T034316
CREATED:20180612T144513Z
LAST-MODIFIED:20180612T144632Z
UID:10101-1529596800-1529604000@wbtai.com
SUMMARY:Start Up Genesee
DESCRIPTION:GCEDC and the BID will host and entrepreneurial series event\, ” Think & Drink” Thursday\, June 21\, 4pm to 6pm\, at Eli Fish Brewing Company\, Main Street\, Batavia. If you are thinking about starting a business or have a great idea\, this event will host the Start Up Genesee Business Assistance Team and Downtown Business owners who will tell their story about starting and operating a small business. RSVP to Rachael Tabelski\, 585-343-4866.
URL:https://wbtai.com/calendars/start-up-genesee/
END:VEVENT
BEGIN:VEVENT
DTSTART;TZID=America/New_York:20180621T103000
DTEND;TZID=America/New_York:20180621T140000
DTSTAMP:20260420T034316
CREATED:20180604T151317Z
LAST-MODIFIED:20180612T145216Z
UID:9713-1529577000-1529589600@wbtai.com
SUMMARY:Summer Reading Byron Bergen
DESCRIPTION:Summer Reading Program Kick off for the Byron Bergen Public Library begins\, Thursday\,  June 21\, at 10:30am. Preschool story time summer sessions begin Friday\, July 8th\, 10:30am.   Call the Library at 494-1120 for more information.
URL:https://wbtai.com/calendars/summer-reading-byron-bergen/
END:VEVENT
BEGIN:VEVENT
DTSTART;TZID=America/New_York:20180620T190000
DTEND;TZID=America/New_York:20180620T223000
DTSTAMP:20260420T034316
CREATED:20180605T153041Z
LAST-MODIFIED:20180605T153103Z
UID:9811-1529521200-1529533800@wbtai.com
SUMMARY:Muckdogs Baseball
DESCRIPTION:Muckdogs play West Virginia Black Bears \, Wednesday\, June 20\, 7pm. at Dwyer Stadium. Tickets available at the box office or online.  Listen to the game on WBTA 1490 am or 100.1 fm.
URL:https://wbtai.com/calendars/muckdogs-baseball-2/
END:VEVENT
BEGIN:VEVENT
DTSTART;TZID=America/New_York:20180619T190000
DTEND;TZID=America/New_York:20180619T223000
DTSTAMP:20260420T034316
CREATED:20180605T152436Z
LAST-MODIFIED:20180605T152511Z
UID:9809-1529434800-1529447400@wbtai.com
SUMMARY:Muckdogs Baseball
DESCRIPTION:The Muckdogs take on West Virginia\, Tuesday\, June 19\, at home. Hear all the action on WBTA 1490 am and 100.1 fm.
URL:https://wbtai.com/calendars/muckdogs-baseball/
END:VEVENT
BEGIN:VEVENT
DTSTART;TZID=America/New_York:20180618T190000
DTEND;TZID=America/New_York:20180618T223000
DTSTAMP:20260420T034316
CREATED:20180605T152202Z
LAST-MODIFIED:20180605T152221Z
UID:9807-1529348400-1529361000@wbtai.com
SUMMARY:Muckdogs
DESCRIPTION:The Muckdogs will play their home opener Monday\, June 18th in Dwyer Stadium\, Batavia\, at 7:05pm. Listen to the Muckdog home games on WBTA 1490 am and 100.1 fm.
URL:https://wbtai.com/calendars/muckdogs/
END:VEVENT
BEGIN:VEVENT
DTSTART;TZID=America/New_York:20180618T170000
DTEND;TZID=America/New_York:20180618T190000
DTSTAMP:20260420T034316
CREATED:20180604T124352Z
LAST-MODIFIED:20180604T124455Z
UID:9695-1529341200-1529348400@wbtai.com
SUMMARY:Crossroads House Training
DESCRIPTION:Resident Care Volunteer Orientation for Crossroads House will be held Monday\, June 18\, 5pm to 7pm at the First Presbyterian Church Hall. Learn more about Crossroads House; there is no obligation if you find it’s not a fit for you to volunteer. Call 343-3892 to RSVP.
URL:https://wbtai.com/calendars/crossroads-house-training/
END:VEVENT
END:VCALENDAR