BEGIN:VCALENDAR
VERSION:2.0
PRODID:-//WBTA - ECPv6.14.0//NONSGML v1.0//EN
CALSCALE:GREGORIAN
METHOD:PUBLISH
X-WR-CALNAME:WBTA
X-ORIGINAL-URL:https://wbtai.com
X-WR-CALDESC:Events for WBTA
REFRESH-INTERVAL;VALUE=DURATION:PT1H
X-Robots-Tag:noindex
X-PUBLISHED-TTL:PT1H
BEGIN:VTIMEZONE
TZID:America/New_York
BEGIN:DAYLIGHT
TZOFFSETFROM:-0500
TZOFFSETTO:-0400
TZNAME:EDT
DTSTART:20180311T070000
END:DAYLIGHT
BEGIN:STANDARD
TZOFFSETFROM:-0400
TZOFFSETTO:-0500
TZNAME:EST
DTSTART:20181104T060000
END:STANDARD
END:VTIMEZONE
BEGIN:VEVENT
DTSTART;TZID=America/New_York:20180425T120000
DTEND;TZID=America/New_York:20180425T130000
DTSTAMP:20260420T025417
CREATED:20180419T133349Z
LAST-MODIFIED:20180419T133402Z
UID:8688-1524657600-1524661200@wbtai.com
SUMMARY:Books Sandwiched In
DESCRIPTION:“Code Girls” by Liza Mundy\, will be discussed during Books Sandwiched In\, Wednesday\, April 25\, 12:10pm\, at the Richmond Memorial Library\, 19 Ross Street\, Batavia. Bring your lunch.
URL:https://wbtai.com/calendars/books-sandwiched-in-2/
LOCATION:Richmond Memorial Library\, 19 Ross St.\, Batavia NY
END:VEVENT
BEGIN:VEVENT
DTSTART;TZID=America/New_York:20180425T190000
DTEND;TZID=America/New_York:20180425T210000
DTSTAMP:20260420T025417
CREATED:20180418T150018Z
LAST-MODIFIED:20180418T150030Z
UID:8648-1524682800-1524690000@wbtai.com
SUMMARY:How to Find Our Family History
DESCRIPTION:Stafford Historical Society presents a workshop on “How to Find Our Family History”\, Wednesday\, April 25\, 7pm\, in the Stafford Town Hall\, Rte. 237.
URL:https://wbtai.com/calendars/how-to-find-our-family-history/
END:VEVENT
BEGIN:VEVENT
DTSTART;TZID=America/New_York:20180426T130000
DTEND;TZID=America/New_York:20180426T143000
DTSTAMP:20260420T025417
CREATED:20180410T203701Z
LAST-MODIFIED:20180410T203717Z
UID:8432-1524747600-1524753000@wbtai.com
SUMMARY:Lunch in the Dark
DESCRIPTION:Experience lunch in a darkened environment in order to better understand eating and socializing with vision loss. Independent Living of the Genesee Region will host on Thursday\, April 26\, noon to 1:30pm at the NYS School for the Blind Gymnasium\, 2A Richmond Avenue\, Batavia. RSVP to Donna Becker at 585-815-8501 ext. 411.
URL:https://wbtai.com/calendars/lunch-in-the-dark/
END:VEVENT
BEGIN:VEVENT
DTSTART;TZID=America/New_York:20180426T193000
DTEND;TZID=America/New_York:20180429T220000
DTSTAMP:20260420T025417
CREATED:20180412T131038Z
LAST-MODIFIED:20180426T134943Z
UID:8487-1524771000-1525039200@wbtai.com
SUMMARY:GCC 50th Anniversary Celebration
DESCRIPTION:Genesee Community College 50th Anniversary of Theatre will be performed on Thursday thru Saturday\, April 26th to 28th at 7:30pm and on Sunday\, April 29th at 2pm. Tickets available at the door.
URL:https://wbtai.com/calendars/gcc-50th-anniversary-celebration/
END:VEVENT
BEGIN:VEVENT
DTSTART;TZID=America/New_York:20180427T083000
DTEND;TZID=America/New_York:20180427T093000
DTSTAMP:20260420T025417
CREATED:20180410T161552Z
LAST-MODIFIED:20180426T134210Z
UID:8376-1524817800-1524821400@wbtai.com
SUMMARY:BID Annual Meeting
DESCRIPTION:Batavia Business Improvement District annual meeting and awards breakfast will be held Friday\, April 27\, 8:30am\, at the Generations Center\, 15 Center Street\, Batavia. Reservations are required. Contact Beth Kemp\, at 344-0900.
URL:https://wbtai.com/calendars/bid-annual-meeting/
END:VEVENT
BEGIN:VEVENT
DTSTART;TZID=America/New_York:20180427T183000
DTEND;TZID=America/New_York:20180427T200000
DTSTAMP:20260420T025417
CREATED:20180410T173905Z
LAST-MODIFIED:20180426T134604Z
UID:8391-1524853800-1524859200@wbtai.com
SUMMARY:Healing Service
DESCRIPTION:Batavia First United Methodist Church\, Lewiston Road\, Batavia\, will hold a Healing Service\, Friday\, April 27\, 6:30pm.  Child care will be provided.
URL:https://wbtai.com/calendars/healing-service/
END:VEVENT
BEGIN:VEVENT
DTSTART;TZID=America/New_York:20180428T080000
DTEND;TZID=America/New_York:20180428T100000
DTSTAMP:20260420T025417
CREATED:20180410T163158Z
LAST-MODIFIED:20180426T134728Z
UID:8378-1524902400-1524909600@wbtai.com
SUMMARY:Flapjack fundraiser
DESCRIPTION:There will be a flapjack fundraiser for St. Paul Lutheran School\, Saturday\, April 28\, 8am to 10am at Applebee’s\, Batavia. Tickets MUST be purchased in advance by calling the Church office at  343-0488.
URL:https://wbtai.com/calendars/flapjack-fundraiser/
END:VEVENT
BEGIN:VEVENT
DTSTART;TZID=America/New_York:20180428T110000
DTEND;TZID=America/New_York:20180428T150000
DTSTAMP:20260420T025417
CREATED:20180410T185632Z
LAST-MODIFIED:20180426T134817Z
UID:8405-1524913200-1524927600@wbtai.com
SUMMARY:Byron Fire Dept. Open House
DESCRIPTION:Byron Fire Department Family Friendly Open House will be held Saturday\, April 28\, from 11am to 3pm at the fire hall\, Rte. 262.
URL:https://wbtai.com/calendars/byron-fire-dept-open-house/
END:VEVENT
BEGIN:VEVENT
DTSTART;TZID=America/New_York:20180428T130000
DTEND;TZID=America/New_York:20180428T160000
DTSTAMP:20260420T025417
CREATED:20180410T180557Z
LAST-MODIFIED:20180410T180608Z
UID:8395-1524920400-1524931200@wbtai.com
SUMMARY:Chicken BBQ
DESCRIPTION:Alabama Full Gospel Fellowship\, Gravel Road\, Rt. 63\, will hold a chicken bbq\, Saturday\, April 28\, Noon to sold out. Eat in\, Drive Thru\, or take out.
URL:https://wbtai.com/calendars/chicken-bbq-2/
END:VEVENT
BEGIN:VEVENT
DTSTART;TZID=America/New_York:20180428T170000
DTEND;TZID=America/New_York:20180428T193000
DTSTAMP:20260420T025417
CREATED:20180416T170701Z
LAST-MODIFIED:20180416T170714Z
UID:8590-1524934800-1524943800@wbtai.com
SUMMARY:Elba Ham Dinner
DESCRIPTION:The Elba United Methodist Church\, Chapel Street\, will hold a ham and scalloped potato dinner\, Saturday\, April 28\, 4pm to 6:30pm. Children under the age of 5 are free. Take outs available.
URL:https://wbtai.com/calendars/elba-ham-dinner/
END:VEVENT
BEGIN:VEVENT
DTSTART;TZID=America/New_York:20180428T170000
DTEND;TZID=America/New_York:20180428T200000
DTSTAMP:20260420T025417
CREATED:20180410T184834Z
LAST-MODIFIED:20180410T184846Z
UID:8401-1524934800-1524945600@wbtai.com
SUMMARY:Chicken BBQ
DESCRIPTION:The Covington Methodist Church\, 1557 Simmons Road\, North of Perry\, will hold their annual chicken bbq\, Saturday\, April 28\, 4pm to 7pm. Take outs available.
URL:https://wbtai.com/calendars/chicken-bbq-3/
END:VEVENT
BEGIN:VEVENT
DTSTART;TZID=America/New_York:20180428T190000
DTEND;TZID=America/New_York:20180428T220000
DTSTAMP:20260420T025417
CREATED:20180410T140958Z
LAST-MODIFIED:20180410T141119Z
UID:8359-1524942000-1524952800@wbtai.com
SUMMARY:ND DodgeBall
DESCRIPTION:Notre Dame High School will host a dodgeball tournament Saturday\, April 28\, 6pm to 9pm  at the school. Proceeds will benefit the Leukemia & Lymphoma Society.
URL:https://wbtai.com/calendars/nd-dodgeball/
END:VEVENT
BEGIN:VEVENT
DTSTART;TZID=America/New_York:20180428T190000
DTEND;TZID=America/New_York:20180428T220000
DTSTAMP:20260420T025417
CREATED:20180418T145643Z
LAST-MODIFIED:20180418T145656Z
UID:8645-1524942000-1524952800@wbtai.com
SUMMARY:Swing Fling
DESCRIPTION:Go Art!\, 201 East Main Street\, Batavia\, will host Swing Fling!\, Saturday\, April 28\, 7pm to 10pm. Music\, Dance\, Radio Show\, and appetizers. Genean Awards will be presented. Come back to the 1940″s. For tickets contact Go Art! at 343-9313 or go online.
URL:https://wbtai.com/calendars/swing-fling/
END:VEVENT
BEGIN:VEVENT
DTSTART;TZID=America/New_York:20180428T190000
DTEND;TZID=America/New_York:20180428T230000
DTSTAMP:20260420T025417
CREATED:20180412T141749Z
LAST-MODIFIED:20180412T142114Z
UID:8496-1524942000-1524956400@wbtai.com
SUMMARY:Bluegrass Band @ Community Fellowship in Johnson's Creek
DESCRIPTION:Bluegrass Band – Kubic’s Rubes of Rochester will play from 7 pm – 10 pm \n@ The Community Fellowship Church\, 3146 Johnson Creek Road\, corner of Rt. 104\,  Saturday\, April 28th. \n$15 at the door for music and a Meatloaf Dinner which will be served at 6pm. \n(for more information call 716-628-1275)
URL:https://wbtai.com/calendars/bluegrass-band-community-fellowship-in-johnsons-creek/
END:VEVENT
BEGIN:VEVENT
DTSTART;TZID=America/New_York:20180428T200000
DTEND;TZID=America/New_York:20180428T220000
DTSTAMP:20260420T025417
CREATED:20180412T125835Z
LAST-MODIFIED:20180412T125848Z
UID:8485-1524945600-1524952800@wbtai.com
SUMMARY:GCC Fashion Show
DESCRIPTION:Genesee Community College 37th annual Fashion Show will be held in the Richard C. Call Areana\, GCC Batavia Campus\, Saturday\, April 28\, 7pm. Tickets available at the door.
URL:https://wbtai.com/calendars/gcc-fashion-show/
END:VEVENT
BEGIN:VEVENT
DTSTART;TZID=America/New_York:20180429T080000
DTEND;TZID=America/New_York:20180429T120000
DTSTAMP:20260420T025417
CREATED:20180410T190529Z
LAST-MODIFIED:20180426T135108Z
UID:8409-1524988800-1525003200@wbtai.com
SUMMARY:Breakfast Buffet
DESCRIPTION:Varysburg Fire Dept. Auxiliary will hold a breakfast buffet\, Sunday\, April 29\, 8am to noon\, at the fire hall\, Rt. 20A\, Varysburg. All you can eat pancakes with Wyoming County Syrup\, eggs\, sausage\, ham and more!
URL:https://wbtai.com/calendars/breakfast-buffet/
END:VEVENT
BEGIN:VEVENT
DTSTART;TZID=America/New_York:20180429T180000
DTEND;TZID=America/New_York:20180429T210000
DTSTAMP:20260420T025417
CREATED:20180418T193337Z
LAST-MODIFIED:20180418T193351Z
UID:8671-1525024800-1525035600@wbtai.com
SUMMARY:Magician Convention
DESCRIPTION:On Sunday\, April 29\, the Magician’s Alliance of Western NY will hold a one day convention at the Quality Inn\, Park Road\, Batavia. This event is open to the public. Doors open at 6:10pm. For more information go online.
URL:https://wbtai.com/calendars/magician-convention/
END:VEVENT
BEGIN:VEVENT
DTSTART;TZID=America/New_York:20180430T110000
DTEND;TZID=America/New_York:20180430T200000
DTSTAMP:20260420T025417
CREATED:20180420T142109Z
LAST-MODIFIED:20180420T142123Z
UID:8718-1525086000-1525118400@wbtai.com
SUMMARY:Music for the Ages Event
DESCRIPTION:Batavia’s original Pizzeria\, Main Street\, Batavia\, is teaming up with Independent Living of the Genesee Region to support the Music for the Ages program\, Monday\, April 30\, 11am to 8pm. A portion of all purchases will be donated in support of this program that is used to awaken memory and improve quality of life for seniors affected by dementia.
URL:https://wbtai.com/calendars/music-for-the-ages-event/
END:VEVENT
BEGIN:VEVENT
DTSTART;TZID=America/New_York:20180501T120000
DTEND;TZID=America/New_York:20180501T130000
DTSTAMP:20260420T025417
CREATED:20180410T192015Z
LAST-MODIFIED:20180426T135755Z
UID:8418-1525176000-1525179600@wbtai.com
SUMMARY:NARFE Meeting
DESCRIPTION:National Active and Retired Federal Employees will hold their monthly luncheon meeting\, Tuesday\, May 1\, at T.F. Brown’s Restaurant\, Batavia\, at noon.
URL:https://wbtai.com/calendars/narfe-meeting/
END:VEVENT
BEGIN:VEVENT
DTSTART;TZID=America/New_York:20180501T121500
DTEND;TZID=America/New_York:20180501T130000
DTSTAMP:20260420T025417
CREATED:20180208T162240Z
LAST-MODIFIED:20180426T135913Z
UID:6850-1525176900-1525179600@wbtai.com
SUMMARY:Garden Talk
DESCRIPTION:The public is invited to the Genesee Master Gardeners talk on tips for growing great canna lilies on Tuesday\, May 1\, 12:15pm\, at the CCE office\, 420 East Main Street\, Batavia. Bring your lunch.
URL:https://wbtai.com/calendars/garden-talk-3/
END:VEVENT
BEGIN:VEVENT
DTSTART;TZID=America/New_York:20180503T090000
DTEND;TZID=America/New_York:20180503T190000
DTSTAMP:20260420T025417
CREATED:20180425T142350Z
LAST-MODIFIED:20180425T142402Z
UID:8811-1525338000-1525374000@wbtai.com
SUMMARY:Book Sale
DESCRIPTION:Friends of the Richmond Memorial Library\, 19 Ross Street\, Batavia\, will hold their monthly book sale\, Thursday\, May 3\, 9am to 7pm. A large selection of mysteries\, science fiction\, large print books\, biographies\, novels\, and children’s books will be available.
URL:https://wbtai.com/calendars/book-sale-3/
LOCATION:Richmond Memorial Library\, 19 Ross St.\, Batavia NY
END:VEVENT
BEGIN:VEVENT
DTSTART;TZID=America/New_York:20180503T120000
DTEND;TZID=America/New_York:20180503T150000
DTSTAMP:20260420T025417
CREATED:20180418T141111Z
LAST-MODIFIED:20180426T140215Z
UID:8637-1525348800-1525359600@wbtai.com
SUMMARY:Ceramics
DESCRIPTION:Genesee Valley Council on the Arts will host a workshop on Ceramics\, Saturday\, May 5\, noon to 3pm\,. Learn a variety of techniques to create and apply textures and patterns to your ceramics. Registration is needed by Thursday\, May 3.  Email melissa@gvartscouncil.org
URL:https://wbtai.com/calendars/ceramics/
END:VEVENT
BEGIN:VEVENT
DTSTART;TZID=America/New_York:20180503T190000
DTEND;TZID=America/New_York:20180503T210000
DTSTAMP:20260420T025417
CREATED:20180418T150550Z
LAST-MODIFIED:20180418T150602Z
UID:8652-1525374000-1525381200@wbtai.com
SUMMARY:Groveland Station
DESCRIPTION:Richmond Memorial Library\, 19 Ross Street\, Batavia\, presents the music of Groveland Station\, Thursday\, May 3\, 7pm.
URL:https://wbtai.com/calendars/groveland-station/
END:VEVENT
BEGIN:VEVENT
DTSTART;TZID=America/New_York:20180504T080000
DTEND;TZID=America/New_York:20180504T170000
DTSTAMP:20260420T025417
CREATED:20180501T140715Z
LAST-MODIFIED:20180501T140726Z
UID:8943-1525420800-1525453200@wbtai.com
SUMMARY:Chronic Disease Self Management
DESCRIPTION:Independent Living of the Genesee Region will present a free six week workshop on chronic disease self management every Friday\, 9:30am to noon\, starting May 11th to June 15th at the Genesee County Office for the Aging\, 2 Bank Street\, Batavia. For more information and registration\, contract Donna at 815-8501\, ext. 411.
URL:https://wbtai.com/calendars/chronic-disease-self-management/
END:VEVENT
BEGIN:VEVENT
DTSTART;TZID=America/New_York:20180504T200000
DTEND;TZID=America/New_York:20180504T220000
DTSTAMP:20260420T025417
CREATED:20180410T183909Z
LAST-MODIFIED:20180410T183920Z
UID:8397-1525464000-1525471200@wbtai.com
SUMMARY:Genesee Chorale Concert
DESCRIPTION:The Genesee Chorale will be in concert\, Friday\, May 4\, 7pm\, at St. James Episcopal Church\, 405 East Main Street\, Batavia and on Sunday\, May 6th\, 4pm\, at the Pavilion High School Auditorium. The Call of Humanity through music will be the theme. Tickets available at the door or any member.
URL:https://wbtai.com/calendars/genesee-chorale-concert-2/
END:VEVENT
BEGIN:VEVENT
DTSTART;TZID=America/New_York:20180505T080000
DTEND;TZID=America/New_York:20180505T110000
DTSTAMP:20260420T025417
CREATED:20180504T132401Z
LAST-MODIFIED:20180504T132413Z
UID:9028-1525507200-1525518000@wbtai.com
SUMMARY:Pancake Breakfast
DESCRIPTION:All you can eat pancake breakfast\, Saturday\, May 5\, 8am to 11am at the First Baptist Church\, 306 East Main Street\, Batavia. Tickets available at the door.
URL:https://wbtai.com/calendars/pancake-breakfast-2/
END:VEVENT
BEGIN:VEVENT
DTSTART;TZID=America/New_York:20180505T090000
DTEND;TZID=America/New_York:20180505T130000
DTSTAMP:20260420T025417
CREATED:20180224T193920Z
LAST-MODIFIED:20180224T193932Z
UID:7361-1525510800-1525525200@wbtai.com
SUMMARY:Cystic Fibrosis Margarita Run
DESCRIPTION:CF Team Natalie is looking for your support in the Cystic Fibrosis Margarita Run\, Saturday\, May 5. This 5.5K run or walk will be held in Pavilion. For more information go online or call Carrie Bartholomew at 585-356-2676.
URL:https://wbtai.com/calendars/cystic-fibrosis-margarita-run/
END:VEVENT
BEGIN:VEVENT
DTSTART;TZID=America/New_York:20180505T100000
DTEND;TZID=America/New_York:20180505T160000
DTSTAMP:20260420T025417
CREATED:20180424T154549Z
LAST-MODIFIED:20180424T154948Z
UID:8797-1525514400-1525536000@wbtai.com
SUMMARY:Spring Craft & Vendor Show
DESCRIPTION:There will be a spring craft and vendor show\, Saturday\, May 5\, 10am to 4pm in the York Town Hall.
URL:https://wbtai.com/calendars/spring-craft-vendor-show/
END:VEVENT
BEGIN:VEVENT
DTSTART;TZID=America/New_York:20180505T140000
DTEND;TZID=America/New_York:20180505T150000
DTSTAMP:20260420T025417
CREATED:20180425T184451Z
LAST-MODIFIED:20180425T184509Z
UID:8833-1525528800-1525532400@wbtai.com
SUMMARY:Challenger Dance Recital
DESCRIPTION:Challenger Dance recital will be held Saturday\, May 5\, 2pm\, at City Church\, Main Street\, Batavia.
URL:https://wbtai.com/calendars/challenger-dance-recital/
END:VEVENT
BEGIN:VEVENT
DTSTART;TZID=America/New_York:20180505T160000
DTEND;TZID=America/New_York:20180505T190000
DTSTAMP:20260420T025417
CREATED:20180418T150306Z
LAST-MODIFIED:20180418T150317Z
UID:8650-1525536000-1525546800@wbtai.com
SUMMARY:Chicken n Biscuit Dinner
DESCRIPTION:York Baptist Church\, will hold a Chicken n Biscuit Dinner\, Saturday\, May 5\, 4pm to 7pm. Drive Thru dinners only.
URL:https://wbtai.com/calendars/chicken-n-biscuit-dinner/
END:VEVENT
END:VCALENDAR