BEGIN:VCALENDAR
VERSION:2.0
PRODID:-//WBTA - ECPv6.14.0//NONSGML v1.0//EN
CALSCALE:GREGORIAN
METHOD:PUBLISH
X-WR-CALNAME:WBTA
X-ORIGINAL-URL:https://wbtai.com
X-WR-CALDESC:Events for WBTA
REFRESH-INTERVAL;VALUE=DURATION:PT1H
X-Robots-Tag:noindex
X-PUBLISHED-TTL:PT1H
BEGIN:VTIMEZONE
TZID:America/New_York
BEGIN:DAYLIGHT
TZOFFSETFROM:-0500
TZOFFSETTO:-0400
TZNAME:EDT
DTSTART:20180311T070000
END:DAYLIGHT
BEGIN:STANDARD
TZOFFSETFROM:-0400
TZOFFSETTO:-0500
TZNAME:EST
DTSTART:20181104T060000
END:STANDARD
END:VTIMEZONE
BEGIN:VEVENT
DTSTART;TZID=America/New_York:20180505T080000
DTEND;TZID=America/New_York:20180505T110000
DTSTAMP:20260420T025415
CREATED:20180504T132401Z
LAST-MODIFIED:20180504T132413Z
UID:9028-1525507200-1525518000@wbtai.com
SUMMARY:Pancake Breakfast
DESCRIPTION:All you can eat pancake breakfast\, Saturday\, May 5\, 8am to 11am at the First Baptist Church\, 306 East Main Street\, Batavia. Tickets available at the door.
URL:https://wbtai.com/calendars/pancake-breakfast-2/
END:VEVENT
BEGIN:VEVENT
DTSTART;TZID=America/New_York:20180505T090000
DTEND;TZID=America/New_York:20180505T130000
DTSTAMP:20260420T025415
CREATED:20180224T193920Z
LAST-MODIFIED:20180224T193932Z
UID:7361-1525510800-1525525200@wbtai.com
SUMMARY:Cystic Fibrosis Margarita Run
DESCRIPTION:CF Team Natalie is looking for your support in the Cystic Fibrosis Margarita Run\, Saturday\, May 5. This 5.5K run or walk will be held in Pavilion. For more information go online or call Carrie Bartholomew at 585-356-2676.
URL:https://wbtai.com/calendars/cystic-fibrosis-margarita-run/
END:VEVENT
BEGIN:VEVENT
DTSTART;TZID=America/New_York:20180505T100000
DTEND;TZID=America/New_York:20180505T160000
DTSTAMP:20260420T025415
CREATED:20180424T154549Z
LAST-MODIFIED:20180424T154948Z
UID:8797-1525514400-1525536000@wbtai.com
SUMMARY:Spring Craft & Vendor Show
DESCRIPTION:There will be a spring craft and vendor show\, Saturday\, May 5\, 10am to 4pm in the York Town Hall.
URL:https://wbtai.com/calendars/spring-craft-vendor-show/
END:VEVENT
BEGIN:VEVENT
DTSTART;TZID=America/New_York:20180505T140000
DTEND;TZID=America/New_York:20180505T150000
DTSTAMP:20260420T025415
CREATED:20180425T184451Z
LAST-MODIFIED:20180425T184509Z
UID:8833-1525528800-1525532400@wbtai.com
SUMMARY:Challenger Dance Recital
DESCRIPTION:Challenger Dance recital will be held Saturday\, May 5\, 2pm\, at City Church\, Main Street\, Batavia.
URL:https://wbtai.com/calendars/challenger-dance-recital/
END:VEVENT
BEGIN:VEVENT
DTSTART;TZID=America/New_York:20180505T160000
DTEND;TZID=America/New_York:20180505T190000
DTSTAMP:20260420T025415
CREATED:20180418T150306Z
LAST-MODIFIED:20180418T150317Z
UID:8650-1525536000-1525546800@wbtai.com
SUMMARY:Chicken n Biscuit Dinner
DESCRIPTION:York Baptist Church\, will hold a Chicken n Biscuit Dinner\, Saturday\, May 5\, 4pm to 7pm. Drive Thru dinners only.
URL:https://wbtai.com/calendars/chicken-n-biscuit-dinner/
END:VEVENT
BEGIN:VEVENT
DTSTART;TZID=America/New_York:20180505T170000
DTEND;TZID=America/New_York:20180505T220000
DTSTAMP:20260420T025415
CREATED:20180410T193610Z
LAST-MODIFIED:20180410T193622Z
UID:8426-1525539600-1525557600@wbtai.com
SUMMARY:Michael Napoleone Memorial Derby Day Gala
DESCRIPTION:The Michael Napoleone Memorial Foundation Derby Day Gala will be held at the Terry Hills Golf Course\, Clinton Street Road\, Batavia\, Saturday\, May 5\, 4pm to 9pm. For more information and tickets\, go on the website.
URL:https://wbtai.com/calendars/michael-napoleone-memorial-derby-day-gala/
END:VEVENT
BEGIN:VEVENT
DTSTART;TZID=America/New_York:20180506T093000
DTEND;TZID=America/New_York:20180506T130000
DTSTAMP:20260420T025415
CREATED:20180412T131445Z
LAST-MODIFIED:20180412T131457Z
UID:8489-1525599000-1525611600@wbtai.com
SUMMARY:TVFCU  5K & 10K Race
DESCRIPTION:Tonawanda Valley Federal Credit Union annual Junior Banking Scholarship 5K and 10K race will be held Sunday\, May 6. 10K starts at 8:45am;  5K starts at 9am. Register on line.
URL:https://wbtai.com/calendars/tvfcu-5k-10k-race/
END:VEVENT
BEGIN:VEVENT
DTSTART;TZID=America/New_York:20180506T100000
DTEND;TZID=America/New_York:20180506T130000
DTSTAMP:20260420T025415
CREATED:20180410T164856Z
LAST-MODIFIED:20180410T164908Z
UID:8381-1525600800-1525611600@wbtai.com
SUMMARY:MS Walk
DESCRIPTION:The MS Walk for Batavia will be held Sunday\, May 6. Registration opens at 9am in the Genesee County Park\, East Bethany. Walk starts at 10am. Go online to register at the Nationalmssociety.org site.
URL:https://wbtai.com/calendars/ms-walk/
END:VEVENT
BEGIN:VEVENT
DTSTART;TZID=America/New_York:20180506T120000
DTEND;TZID=America/New_York:20180506T140000
DTSTAMP:20260420T025415
CREATED:20180410T145438Z
LAST-MODIFIED:20180410T150216Z
UID:8370-1525608000-1525615200@wbtai.com
SUMMARY:Chicken & Ribs BBQ
DESCRIPTION:Genesee Cancer Assistance will hold a chicken and ribs BBQ at the Dibble Family Center\, 4110 West Main Street Road\, Batavia\, Sunday\, May 6\, starting at 11am. Drive thru available. Tickets available at the door or in advance by calling the office at 345-0417.
URL:https://wbtai.com/calendars/chicken-ribs-bbq/
END:VEVENT
BEGIN:VEVENT
DTSTART;TZID=America/New_York:20180506T170000
DTEND;TZID=America/New_York:20180506T190000
DTSTAMP:20260420T025415
CREATED:20180226T194045Z
LAST-MODIFIED:20180226T194057Z
UID:7387-1525626000-1525633200@wbtai.com
SUMMARY:Romantic Masterpieces
DESCRIPTION:The theme for the Genesee Symphony Orchestra concert on Sunday\, May 6\, will be Romantic Masterpieces. Concert will be in the Elba Central School Auditorium\, 4pm. Tickets available at the door.
URL:https://wbtai.com/calendars/romantic-masterpieces/
END:VEVENT
BEGIN:VEVENT
DTSTART;TZID=America/New_York:20180507T080000
DTEND;TZID=America/New_York:20180507T170000
DTSTAMP:20260420T025415
CREATED:20180430T192837Z
LAST-MODIFIED:20180430T194029Z
UID:8925-1525680000-1525712400@wbtai.com
SUMMARY:Gen. Co. Republican Women's Breakfast
DESCRIPTION:Genesee County Women’s Republican Club Spring Breakfast will be held Saturday\, May 19\, 9am to 11am\, at Ascension Parish Hall\, 15 Sumner Street\, Batavia. Reservations needed by Monday\, May 7th. RSVP email to Msmith1548@frontiernet.net or call Melissa at 314-4501 for more information. \n 
URL:https://wbtai.com/calendars/gen-co-republican-womens-breakfast/
END:VEVENT
BEGIN:VEVENT
DTSTART;TZID=America/New_York:20180508T183000
DTEND;TZID=America/New_York:20180508T200000
DTSTAMP:20260420T025415
CREATED:20180427T191214Z
LAST-MODIFIED:20180427T191227Z
UID:8899-1525804200-1525809600@wbtai.com
SUMMARY:Art Show
DESCRIPTION:The free opening reception for the Batavia Society of Artists Spring Art Show will be held at the Richmond Memorial Library Gallery Room\, Tuesday\, May 8th\, 6:30pm to 8pm.
URL:https://wbtai.com/calendars/art-show/
LOCATION:Richmond Memorial Library\, 19 Ross St.\, Batavia NY
END:VEVENT
BEGIN:VEVENT
DTSTART;TZID=America/New_York:20180511T190000
DTEND;TZID=America/New_York:20180511T210000
DTSTAMP:20260420T025415
CREATED:20180503T143740Z
LAST-MODIFIED:20180503T143757Z
UID:8992-1526065200-1526072400@wbtai.com
SUMMARY:An evening of words
DESCRIPTION:Speak again\, speak like rain. An evening of words\, Friday\, May 11\, 7pm to 9pm at Moon Java Cafe\, 56 Harvester Avenue\, Batavia.
URL:https://wbtai.com/calendars/an-evening-of-words/
END:VEVENT
BEGIN:VEVENT
DTSTART;TZID=America/New_York:20180511T193000
DTEND;TZID=America/New_York:20180519T220000
DTSTAMP:20260420T025415
CREATED:20180501T135745Z
LAST-MODIFIED:20180501T140017Z
UID:8938-1526067000-1526767200@wbtai.com
SUMMARY:Cabaret
DESCRIPTION:Harvester 56 Theater presents\, “Cabaret” Friday\, May 11\,  and 18 ; Saturday\, May 12 and 19\, at 7:30pm and a matinee on Sunday\, May 13 at 2pm. Tickets available at the Harvester 56 Box Office or online at Bataviaplayers.org.
URL:https://wbtai.com/calendars/cabaret/
END:VEVENT
BEGIN:VEVENT
DTSTART;TZID=America/New_York:20180512T080000
DTEND;TZID=America/New_York:20180512T170000
DTSTAMP:20260420T025415
CREATED:20180509T150404Z
LAST-MODIFIED:20180509T150442Z
UID:9135-1526112000-1526144400@wbtai.com
SUMMARY:Stamp Out Hunger
DESCRIPTION:Saturday\, May 12\, your local postal carriers will collect nonperishable food items when they delivery your mail to help Stamp our hunger. Just leave a bag of your donations near your mailbox.
URL:https://wbtai.com/calendars/stamp-out-hunger/
END:VEVENT
BEGIN:VEVENT
DTSTART;TZID=America/New_York:20180512T093000
DTEND;TZID=America/New_York:20180512T150000
DTSTAMP:20260420T025415
CREATED:20180510T180726Z
LAST-MODIFIED:20180510T180738Z
UID:9196-1526117400-1526137200@wbtai.com
SUMMARY:Doll & Teddy Bear Show
DESCRIPTION:Saturday’s Child presents their 57th Doll & Teddy Bear Show\, Saturday\, May 12\, 9:30am to 3pm at the Quality Inn\, Park Road\, Batavia. Children under age 12 are free.
URL:https://wbtai.com/calendars/doll-teddy-bear-show/
END:VEVENT
BEGIN:VEVENT
DTSTART;TZID=America/New_York:20180512T103000
DTEND;TZID=America/New_York:20180512T130000
DTSTAMP:20260420T025415
CREATED:20180410T193049Z
LAST-MODIFIED:20180410T193100Z
UID:8423-1526121000-1526130000@wbtai.com
SUMMARY:CROP Walk
DESCRIPTION:2018 Genesee County  5K CROP Walk will be held Saturday\, May 12\, starting at the Corfu United Presbyterian Church\, 63 Alleghany Road\, Corfu.  Registration is at 9:30am; walk starts at 10am. 25% of the funds raised stay in Genesee County to fight hunger.
URL:https://wbtai.com/calendars/crop-walk/
END:VEVENT
BEGIN:VEVENT
DTSTART;TZID=America/New_York:20180512T110000
DTEND;TZID=America/New_York:20180512T143000
DTSTAMP:20260420T025415
CREATED:20180509T152400Z
LAST-MODIFIED:20180509T152429Z
UID:9139-1526122800-1526135400@wbtai.com
SUMMARY:Mother's Day Tea Party
DESCRIPTION:Go Art! presents a Mother’s Day Tea Party with the Mad Hatter and the March Hare\, Saturday\, May 12\, 11am to 12:30pm OR 1 pm to 2:30pm. Open to all ages. Call Go Art! for more information.
URL:https://wbtai.com/calendars/mothers-day-tea-party/
END:VEVENT
BEGIN:VEVENT
DTSTART;TZID=America/New_York:20180512T170000
DTEND;TZID=America/New_York:20180512T183000
DTSTAMP:20260420T025415
CREATED:20180509T152719Z
LAST-MODIFIED:20180509T152732Z
UID:9141-1526144400-1526149800@wbtai.com
SUMMARY:Adult Tea Party at Go Art!
DESCRIPTION:Go Art!\, Main Street\, Batavia\, will host an Adult Tea Party with Vivian Darling\, drag queen extraordinaire\, Saturday\, May 12\, 5pm. Quests must be 21 or older and requested to wear red.  Contact Go Art! for more information and tickets.
URL:https://wbtai.com/calendars/adult-tea-party-at-go-art/
END:VEVENT
BEGIN:VEVENT
DTSTART;TZID=America/New_York:20180513T120000
DTEND;TZID=America/New_York:20180513T150000
DTSTAMP:20260420T025415
CREATED:20180416T171153Z
LAST-MODIFIED:20180416T171204Z
UID:8594-1526212800-1526223600@wbtai.com
SUMMARY:Chicken BBQ
DESCRIPTION:Crittenden VFD\, 13415 Genesee Street\, Crittenden\, will host a Mother’s Day Chicken BBQ\, 11am till sold out\, Sunday\, May 13th.. Dine in or take out.
URL:https://wbtai.com/calendars/chicken-bbq-4/
END:VEVENT
BEGIN:VEVENT
DTSTART;TZID=America/New_York:20180516T074500
DTEND;TZID=America/New_York:20180516T091500
DTSTAMP:20260420T025415
CREATED:20180105T170851Z
LAST-MODIFIED:20180514T152012Z
UID:5797-1526456700-1526462100@wbtai.com
SUMMARY:Chamber Workshop Series
DESCRIPTION:Creating a positive and fun work environment that employees will want to work in is the topic for the Genesee County Chamber of Commerce workshop to be held on Wednesday\, May 16\, 7:45am\, in their offices on Park Road\, Batavia. To register call Kelly Bermingham at 343-7440\, ext. 1026. Workshop is free to Chamber and BID members.
URL:https://wbtai.com/calendars/chamber-workshop-series-4/
LOCATION:Genesee Co. Chamber of Commerce\, 8276 Park Road\, Batavia
END:VEVENT
BEGIN:VEVENT
DTSTART;TZID=America/New_York:20180516T090000
DTEND;TZID=America/New_York:20180516T180000
DTSTAMP:20260420T025415
CREATED:20180130T203505Z
LAST-MODIFIED:20180130T203528Z
UID:6580-1526461200-1526493600@wbtai.com
SUMMARY:United Way Day of Caring
DESCRIPTION:11th annual Day of Caring\, Wednesday\, May 16th. Join a team and help organizations in our County!
URL:https://wbtai.com/calendars/united-way-day-of-caring/
END:VEVENT
BEGIN:VEVENT
DTSTART;TZID=America/New_York:20180517T160000
DTEND;TZID=America/New_York:20180517T180000
DTSTAMP:20260420T025415
CREATED:20180427T182728Z
LAST-MODIFIED:20180427T182739Z
UID:8897-1526572800-1526580000@wbtai.com
SUMMARY:chicken BBQ
DESCRIPTION:Trinity United Methodist Church\, 75 Main Street\, Attica\, will host a chicken bbq\, Thursday\, May 17\, starting at 4pm. Take Out ONLY.
URL:https://wbtai.com/calendars/chicken-bbq-6/
END:VEVENT
BEGIN:VEVENT
DTSTART;TZID=America/New_York:20180517T160000
DTEND;TZID=America/New_York:20180517T190000
DTSTAMP:20260420T025415
CREATED:20180418T142343Z
LAST-MODIFIED:20180418T142353Z
UID:8643-1526572800-1526583600@wbtai.com
SUMMARY:Free Anti Rabies Clinic
DESCRIPTION:The Genesee County Health Dept. will hold a free anti rabies immunization clinic\, Thursday\, May 17\, 4pm to 7pm at the Pembroke Highway Dept.\, corners of Rte. 5 and Rt. 77\, Pembroke. Dogs\, cats\, and ferrets\, must be accompanied by an adult who can control it. Donations accepted.
URL:https://wbtai.com/calendars/free-anti-rabies-clinic/
END:VEVENT
BEGIN:VEVENT
DTSTART;TZID=America/New_York:20180517T190000
DTEND;TZID=America/New_York:20180517T210000
DTSTAMP:20260420T025415
CREATED:20180418T141608Z
LAST-MODIFIED:20180418T141618Z
UID:8639-1526583600-1526590800@wbtai.com
SUMMARY:Mark Twain Live!
DESCRIPTION:Mike Randall portrays Mark Twain\, Thursday\, May 17\, 7pm\, at Stone Church Presbyterian\, 7549 South Lake Road\, Bergen. For tickets call 682-6147 or 494-2153.
URL:https://wbtai.com/calendars/mark-twain-live/
END:VEVENT
BEGIN:VEVENT
DTSTART;TZID=America/New_York:20180518T080000
DTEND;TZID=America/New_York:20180518T170000
DTSTAMP:20260420T025415
CREATED:20180419T184727Z
LAST-MODIFIED:20180419T184741Z
UID:8695-1526630400-1526662800@wbtai.com
SUMMARY:Dinner Dance
DESCRIPTION:Always on my mind\, music of the 40’s\, 50’s\, 60’s\, and a little bit of country\, dinner dance will be held on Thursday\, May 31\, at Ascension Parish Center\, 17 Sumner Street\, Batavia. Doors open at 4:30pm. Tickets are pre-sale only until May 18th. Event sponsored by the Office for the Aging. Call 343-1611 for tickets.
URL:https://wbtai.com/calendars/dinner-dance/
END:VEVENT
BEGIN:VEVENT
DTSTART;TZID=America/New_York:20180518T090000
DTEND;TZID=America/New_York:20180519T140000
DTSTAMP:20260420T025415
CREATED:20180509T160712Z
LAST-MODIFIED:20180509T160728Z
UID:9153-1526634000-1526738400@wbtai.com
SUMMARY:Rummage Sale
DESCRIPTION:St. Mark’s Episcopal Church\, East Main & Church Streets\, LeRoy\, will host their spring rummage sale\, Friday\, May 18\, 9am to 3pm and on Saturday\, May 19 from 10 to 2pm.
URL:https://wbtai.com/calendars/rummage-sale-4/
END:VEVENT
BEGIN:VEVENT
DTSTART;TZID=America/New_York:20180519T070000
DTEND;TZID=America/New_York:20180519T100000
DTSTAMP:20260420T025415
CREATED:20180416T171323Z
LAST-MODIFIED:20180514T152855Z
UID:8596-1526713200-1526724000@wbtai.com
SUMMARY:WBTA Auction
DESCRIPTION:Save the Date! WBTA Auction\, Saturday\, May 19\, 7am!
URL:https://wbtai.com/calendars/wbta-auction-2/
END:VEVENT
BEGIN:VEVENT
DTSTART;TZID=America/New_York:20180519T080000
DTEND;TZID=America/New_York:20180519T170000
DTSTAMP:20260420T025415
CREATED:20180423T195012Z
LAST-MODIFIED:20180423T195025Z
UID:8772-1526716800-1526749200@wbtai.com
SUMMARY:Michael Kennedy Memorial Golf
DESCRIPTION:Registration deadline for the 12th annual Michael Kennedy Memorial Golf Tournament is Saturday\, May 19th. Tournament to be played at Meadow Brook Golf Course\, June 9\, 7:30am. Contact Jason Austin for more information and registration at 716-510-6213.
URL:https://wbtai.com/calendars/michael-kennedy-memorial-golf/
END:VEVENT
BEGIN:VEVENT
DTSTART;TZID=America/New_York:20180519T080000
DTEND;TZID=America/New_York:20180519T170000
DTSTAMP:20260420T025415
CREATED:20180509T153554Z
LAST-MODIFIED:20180509T153626Z
UID:9145-1526716800-1526749200@wbtai.com
SUMMARY:Hooch Heimlich Memorial Golf Tournament
DESCRIPTION:Hooch Heimlich Memorial Golf Tournament will be held Saturday\, May 19\, at the LeRoy Country Club. Proceeds benefit LeRoy Sports Boosters. For more information contract Martha Bailey .
URL:https://wbtai.com/calendars/hooch-heimlich-memorial-golf-tournament/
END:VEVENT
END:VCALENDAR