BEGIN:VCALENDAR
VERSION:2.0
PRODID:-//WBTA - ECPv6.14.0//NONSGML v1.0//EN
CALSCALE:GREGORIAN
METHOD:PUBLISH
X-WR-CALNAME:WBTA
X-ORIGINAL-URL:https://wbtai.com
X-WR-CALDESC:Events for WBTA
REFRESH-INTERVAL;VALUE=DURATION:PT1H
X-Robots-Tag:noindex
X-PUBLISHED-TTL:PT1H
BEGIN:VTIMEZONE
TZID:America/New_York
BEGIN:DAYLIGHT
TZOFFSETFROM:-0500
TZOFFSETTO:-0400
TZNAME:EDT
DTSTART:20180311T070000
END:DAYLIGHT
BEGIN:STANDARD
TZOFFSETFROM:-0400
TZOFFSETTO:-0500
TZNAME:EST
DTSTART:20181104T060000
END:STANDARD
END:VTIMEZONE
BEGIN:VEVENT
DTSTART;TZID=America/New_York:20180525T080000
DTEND;TZID=America/New_York:20180525T170000
DTSTAMP:20260420T030417
CREATED:20180425T184933Z
LAST-MODIFIED:20180425T184946Z
UID:8835-1527235200-1527267600@wbtai.com
SUMMARY:Challenger Baseball
DESCRIPTION:Registration deadline for YMCA Challenger Baseball is Friday\, May 25. Boys and girls ages 5 to 21 with developmental and other disabilities may sign up. Volunteers are also needed to help coach the athletes. Volunteers must be 14 years of age or older. Games will be played on Sundays\, June 3 through July 1. For more information contact the YMCA at 344-1664.
URL:https://wbtai.com/calendars/challenger-baseball/
END:VEVENT
BEGIN:VEVENT
DTSTART;TZID=America/New_York:20180527T110000
DTEND;TZID=America/New_York:20180527T140000
DTSTAMP:20260420T030417
CREATED:20180521T182859Z
LAST-MODIFIED:20180521T182930Z
UID:9416-1527418800-1527429600@wbtai.com
SUMMARY:Chicken BBQ
DESCRIPTION:Evergreen Lawn Cemetery\, Akron\, will host a drive thru chicken bbq\, Sunday\, May 27th\, by the maintenance buildings. Call 716-542-2559 for pre sale tickets.
URL:https://wbtai.com/calendars/chicken-bbq-10/
END:VEVENT
BEGIN:VEVENT
DTSTART;TZID=America/New_York:20180527T130000
DTEND;TZID=America/New_York:20180527T170000
DTSTAMP:20260420T030417
CREATED:20180509T145737Z
LAST-MODIFIED:20180509T145750Z
UID:9131-1527426000-1527440400@wbtai.com
SUMMARY:Godfrey's Pond Open House
DESCRIPTION:Genesee County Fish and Game Association will host an open house at Godfrey’s Pond\, Griswold Road\, Sunday\, May 27\, 1pm to 5pm.
URL:https://wbtai.com/calendars/godfreys-pond-open-house/
END:VEVENT
BEGIN:VEVENT
DTSTART;TZID=America/New_York:20180528T093000
DTEND;TZID=America/New_York:20180528T110000
DTSTAMP:20260420T030417
CREATED:20180517T142721Z
LAST-MODIFIED:20180517T142735Z
UID:9304-1527499800-1527505200@wbtai.com
SUMMARY:Memorial Day Parade
DESCRIPTION:The Batavia Memorial Day Parade begins at 9:45am\, Monday\, May 28\, from the East Towne Plaza and continues down Main Street to Alva Place.
URL:https://wbtai.com/calendars/memorial-day-parade/
END:VEVENT
BEGIN:VEVENT
DTSTART;TZID=America/New_York:20180528T100000
DTEND;TZID=America/New_York:20180528T140000
DTSTAMP:20260420T030417
CREATED:20180521T150253Z
LAST-MODIFIED:20180521T150308Z
UID:9403-1527501600-1527516000@wbtai.com
SUMMARY:Benefit
DESCRIPTION:There will be a benefit for the family that lost their house to a fire on Mother’s Day\, Monday\, May 28\, from 10am to 2pm\, in the Byron Town Park.
URL:https://wbtai.com/calendars/benefit/
END:VEVENT
BEGIN:VEVENT
DTSTART;TZID=America/New_York:20180529T120000
DTEND;TZID=America/New_York:20180529T130000
DTSTAMP:20260420T030417
CREATED:20180521T150522Z
LAST-MODIFIED:20180521T150537Z
UID:9405-1527595200-1527598800@wbtai.com
SUMMARY:NAFRE Meeting
DESCRIPTION:National Active and Retired Federal Employees will hold their monthly luncheon meeting at T. F. Brown’s\, Batavia\, at noon\, on Tuesday\, May 29th. ( more information\, call 591-1878)
URL:https://wbtai.com/calendars/nafre-meeting/
END:VEVENT
BEGIN:VEVENT
DTSTART;TZID=America/New_York:20180530T180000
DTEND;TZID=America/New_York:20180530T200000
DTSTAMP:20260420T030417
CREATED:20180510T132004Z
LAST-MODIFIED:20180510T132018Z
UID:9178-1527703200-1527710400@wbtai.com
SUMMARY:Teen Challenge
DESCRIPTION:Alabama Full Gospel Fellowship\, South Gravel Road\, Medina\, will host a free dinner to discuss a faith based  residential recovery program for substance abusers in 6th grade to College age Wednesday\, May 30th\, 6pm.  For more information on Teen Challenge call 798-4849.
URL:https://wbtai.com/calendars/teen-challenge/
END:VEVENT
BEGIN:VEVENT
DTSTART;TZID=America/New_York:20180531T163000
DTEND;TZID=America/New_York:20180531T210000
DTSTAMP:20260420T030417
CREATED:20180517T182950Z
LAST-MODIFIED:20180517T183005Z
UID:9320-1527784200-1527800400@wbtai.com
SUMMARY:Dinner Dance
DESCRIPTION:Always on my Mind\, Dinner Dance\, will be held Thursday\, May 31\, at Ascension Parish Center\, 17 Sumner Street\, Batavia. Tickets are pre sale only. More information call 343-1611.
URL:https://wbtai.com/calendars/dinner-dance-2/
END:VEVENT
BEGIN:VEVENT
DTSTART;TZID=America/New_York:20180601T090000
DTEND;TZID=America/New_York:20180602T140000
DTSTAMP:20260420T030417
CREATED:20180517T143320Z
LAST-MODIFIED:20180517T143332Z
UID:9308-1527843600-1527948000@wbtai.com
SUMMARY:Church Yard Sale
DESCRIPTION:St. Maximilian Kolbe Parish\, Church Street\, East Pembroke\, will hold a church yard sale\, Friday\, June 1 and Saturday\, June 2\, 9am to 2pm.
URL:https://wbtai.com/calendars/church-yard-sale/
END:VEVENT
BEGIN:VEVENT
DTSTART;TZID=America/New_York:20180603T080000
DTEND;TZID=America/New_York:20180603T110000
DTSTAMP:20260420T030417
CREATED:20180508T165419Z
LAST-MODIFIED:20180508T165434Z
UID:9103-1528012800-1528023600@wbtai.com
SUMMARY:Legion breakfast
DESCRIPTION:American Legion Post 576\, 53 West Main Street\, LeRoy\, will host a breakfast Sunday\, June 3\, starting at 8am.
URL:https://wbtai.com/calendars/legion-breakfast/
END:VEVENT
BEGIN:VEVENT
DTSTART;TZID=America/New_York:20180603T090000
DTEND;TZID=America/New_York:20180603T170000
DTSTAMP:20260420T030417
CREATED:20180208T150132Z
LAST-MODIFIED:20180514T153015Z
UID:6815-1528016400-1528045200@wbtai.com
SUMMARY:Arc Golf Tournament
DESCRIPTION:Arc Genesee Orleans 39th annual Hickory Ridge\, Holley\, Golf Tournament will be held Sunday\, June 3\, in Scramble Format. Tee off time 9am. Call 585-589-5516\, ext. 228 for more information and registration.
URL:https://wbtai.com/calendars/arc-golf-tournament/
END:VEVENT
BEGIN:VEVENT
DTSTART;TZID=America/New_York:20180603T120000
DTEND;TZID=America/New_York:20180603T140000
DTSTAMP:20260420T030417
CREATED:20180509T144753Z
LAST-MODIFIED:20180509T144809Z
UID:9124-1528027200-1528034400@wbtai.com
SUMMARY:Chicken BBQ
DESCRIPTION:Sacred Heart of Jesus\, Bennington Center\, will hold a chicken bbq\, Sunday\, June 3\, noon until sold out at the Bennington Fire Hall\, Rt. 354. Eat in or take out.
URL:https://wbtai.com/calendars/chicken-bbq-7/
END:VEVENT
BEGIN:VEVENT
DTSTART;TZID=America/New_York:20180603T140000
DTEND;TZID=America/New_York:20180603T170000
DTSTAMP:20260420T030417
CREATED:20180521T145024Z
LAST-MODIFIED:20180521T145039Z
UID:9397-1528034400-1528045200@wbtai.com
SUMMARY:Notre Dame Graduation
DESCRIPTION:Notre Dame Class of 2018 graduation ceremony\, Sunday\, June 3\, 2pm\, at Genesee Community College\, Forum\, Batavia Campus.
URL:https://wbtai.com/calendars/notre-dame-graduation/
END:VEVENT
BEGIN:VEVENT
DTSTART;TZID=America/New_York:20180605T080000
DTEND;TZID=America/New_York:20180605T170000
DTSTAMP:20260420T030417
CREATED:20180601T192700Z
LAST-MODIFIED:20180601T192714Z
UID:9646-1528185600-1528218000@wbtai.com
SUMMARY:Batavia Christian Women's Connection
DESCRIPTION:Reservations are requested by Tuesday\, June 5th for the Tuesday\, June 12th meeting of the Batavia Christian Women’s Connection. Meeting to be held at Terry Hills Restaurant at 11:30am. All Ladies are welcome. Call Audrey at 591-1044.
URL:https://wbtai.com/calendars/batavia-christian-womens-connection-2/
END:VEVENT
BEGIN:VEVENT
DTSTART;TZID=America/New_York:20180605T130000
DTEND;TZID=America/New_York:20180605T140000
DTSTAMP:20260420T030417
CREATED:20180208T162833Z
LAST-MODIFIED:20180208T162844Z
UID:6852-1528203600-1528207200@wbtai.com
SUMMARY:Garden Talk
DESCRIPTION:Genesee Master Gardeners will host a garden talk about a new invasive pest\, jumping worms\, on Tuesday\, June 5\, 12:15\, at the CCE office\, 420 East Main Street.  Bring your lunch.
URL:https://wbtai.com/calendars/garden-talk-4/
END:VEVENT
BEGIN:VEVENT
DTSTART;TZID=America/New_York:20180605T170000
DTEND;TZID=America/New_York:20180605T220000
DTSTAMP:20260420T030417
CREATED:20180605T150041Z
LAST-MODIFIED:20180605T150058Z
UID:9793-1528218000-1528236000@wbtai.com
SUMMARY:Rockin' the Downs
DESCRIPTION:Blue Oyster Cult will Rock the Downs\, Friday\, July 6\, at Batavia Downs Gaming & Hotel\, Park Road\, Batavia. Doors open 4pm; concert starts at 5pm. For more information and tickets go online.
URL:https://wbtai.com/calendars/rockin-the-downs-3/
END:VEVENT
BEGIN:VEVENT
DTSTART;TZID=America/New_York:20180606T080000
DTEND;TZID=America/New_York:20180606T090000
DTSTAMP:20260420T030417
CREATED:20180508T163608Z
LAST-MODIFIED:20180508T163624Z
UID:9101-1528272000-1528275600@wbtai.com
SUMMARY:Energy Conference
DESCRIPTION:Genesee County Chamber of Commerce invites area businesses to a free energy conference\, Wednesday\, June 6\, 8am\, at the Quality Inn\, Park Road\, Batavia. For more information and registration go to the chamber website.
URL:https://wbtai.com/calendars/energy-conference/
END:VEVENT
BEGIN:VEVENT
DTSTART;TZID=America/New_York:20180606T093000
DTEND;TZID=America/New_York:20180606T120000
DTSTAMP:20260420T030417
CREATED:20180517T142237Z
LAST-MODIFIED:20180517T142251Z
UID:9302-1528277400-1528286400@wbtai.com
SUMMARY:Law Enforcement Torch Run
DESCRIPTION:Batavia Law Enforcement Torch Run will start at the Arc of Genesee Orleans in Elba and finish at the Arc in Batavia\, Wednesday\, June 6\, starting at 9:30am. If you are not a runner you can make a donation of $ 20 and receive a 2018 Torch Run Shirt.  For more information call Luke Folts at 358-0589.
URL:https://wbtai.com/calendars/law-enforcement-torch-run/
END:VEVENT
BEGIN:VEVENT
DTSTART;TZID=America/New_York:20180607T090000
DTEND;TZID=America/New_York:20180607T190000
DTSTAMP:20260420T030417
CREATED:20180601T191729Z
LAST-MODIFIED:20180601T191742Z
UID:9644-1528362000-1528398000@wbtai.com
SUMMARY:Book Sale
DESCRIPTION:Friends of the Richmond Memorial Library\, 19 Ross Street\, Batavia\, will host their monthly book sale\, Thursday\, June 7\, 9am to 7pm.   A large selection of mysteries\, science fiction\, large prints\, cookbooks\, biographies\, novels and children’s books will be available.
URL:https://wbtai.com/calendars/book-sale-4/
END:VEVENT
BEGIN:VEVENT
DTSTART;TZID=America/New_York:20180608T090000
DTEND;TZID=America/New_York:20180608T160000
DTSTAMP:20260420T030417
CREATED:20180604T125348Z
LAST-MODIFIED:20180604T125359Z
UID:9699-1528448400-1528473600@wbtai.com
SUMMARY:Downtown Public Market
DESCRIPTION:The Downtown Batavia Public Market opens for the season on Friday\, June 8th\, on Bank and Alva Place in Downtown Batavia. Market open from 9am to 4pm\, Tuesday\, Thursday\, and Friday\, June thru October.
URL:https://wbtai.com/calendars/downtown-public-market/
END:VEVENT
BEGIN:VEVENT
DTSTART;TZID=America/New_York:20180608T193000
DTEND;TZID=America/New_York:20180610T220000
DTSTAMP:20260420T030417
CREATED:20180601T201751Z
LAST-MODIFIED:20180601T201802Z
UID:9648-1528486200-1528668000@wbtai.com
SUMMARY:The Women
DESCRIPTION:Harvester 56 Theater presents\, ” The Women” directed by Peggy Marone\, Friday\, June 8 and Saturday\, June 9\, at 7:30pm and on Sunday\, June 10 at 2pm. Tickets available on line or at the door.
URL:https://wbtai.com/calendars/the-women/
LOCATION:Batavia Players 56 Harvester Ave.\, Batavia\, NY
END:VEVENT
BEGIN:VEVENT
DTSTART;TZID=America/New_York:20180609T080000
DTEND;TZID=America/New_York:20180609T120000
DTSTAMP:20260420T030417
CREATED:20180523T190104Z
LAST-MODIFIED:20180523T190622Z
UID:9491-1528531200-1528545600@wbtai.com
SUMMARY:All Babies Cherished 5K
DESCRIPTION:All Babies Cherished 4th annual 5K race and walk will be held Saturday\, June 9\, with registration starting at 8am; race start 9am at Northgate Free Methodist Church\, South Campus\, 350 Bank Street\, Batavia.
URL:https://wbtai.com/calendars/all-babies-cherished-5k/
END:VEVENT
BEGIN:VEVENT
DTSTART;TZID=America/New_York:20180609T090000
DTEND;TZID=America/New_York:20180609T150000
DTSTAMP:20260420T030417
CREATED:20180517T155308Z
LAST-MODIFIED:20180517T155325Z
UID:9310-1528534800-1528556400@wbtai.com
SUMMARY:Community Yard Sale
DESCRIPTION:The Salvation Army\, 529 East Main Street\, Batavia\, will host a Community Yard Sale\, Saturday\, June 9\, 9am to 3pm. Come\, sell or shop. For more information contact Susan Myers.
URL:https://wbtai.com/calendars/community-yard-sale/
END:VEVENT
BEGIN:VEVENT
DTSTART;TZID=America/New_York:20180609T100000
DTEND;TZID=America/New_York:20180609T110000
DTSTAMP:20260420T030417
CREATED:20180517T143051Z
LAST-MODIFIED:20180517T143104Z
UID:9306-1528538400-1528542000@wbtai.com
SUMMARY:Aglow International
DESCRIPTION:Aglow International of Batavia will meet Saturday\, June 9\, 10am\, at Northgate Free Methodist Church\, Bank Street Road\, Batavia. (343-6433 for more information)
URL:https://wbtai.com/calendars/aglow-international/
END:VEVENT
BEGIN:VEVENT
DTSTART;TZID=America/New_York:20180609T110000
DTEND;TZID=America/New_York:20180609T130000
DTSTAMP:20260420T030417
CREATED:20180517T155534Z
LAST-MODIFIED:20180517T155547Z
UID:9312-1528542000-1528549200@wbtai.com
SUMMARY:Chicken BBQ
DESCRIPTION:The Salvation Army \, 529 East Main Street\, Batavia\, will host a chicken bbq in conjunction with their community yard Sale\, Saturday\, June 9\, starting at 11am until sold out.
URL:https://wbtai.com/calendars/chicken-bbq-9/
END:VEVENT
BEGIN:VEVENT
DTSTART;TZID=America/New_York:20180609T150000
DTEND;TZID=America/New_York:20180609T190000
DTSTAMP:20260420T030417
CREATED:20180605T141827Z
LAST-MODIFIED:20180605T141852Z
UID:9777-1528556400-1528570800@wbtai.com
SUMMARY:Batavia Bourbon & Whiskey Fest
DESCRIPTION:The Batavia Bourbon and Whiskey Fest will be held at Batavia Downs Gaming & Hotel\, Saturday\, June 9th\, 3pm to 7pm. Tickets and a list of distilleries available on BataviaConcerts.com. A portion of all proceeds benefits the Thurman Thomas Family Foundation.
URL:https://wbtai.com/calendars/batavia-bourbon-whiskey-fest/
END:VEVENT
BEGIN:VEVENT
DTSTART;TZID=America/New_York:20180609T170000
DTEND;TZID=America/New_York:20180609T190000
DTSTAMP:20260420T030417
CREATED:20180517T181356Z
LAST-MODIFIED:20180517T181408Z
UID:9316-1528563600-1528570800@wbtai.com
SUMMARY:Free Mobile Food Pantry
DESCRIPTION:First Presbyterian Church\, 23 North Main Street\, Elba\, will hold a free mobile food pantry\, Wednesday\, June 6\, 5pm to 7pm. There is no income verification; ID not necessary; but must be 18 to pick up food. Provide your own bags\, cart\, vehicle to transport items home.
URL:https://wbtai.com/calendars/free-mobile-food-pantry/
END:VEVENT
BEGIN:VEVENT
DTSTART;TZID=America/New_York:20180609T180000
DTEND;TZID=America/New_York:20180609T220000
DTSTAMP:20260420T030417
CREATED:20180424T173431Z
LAST-MODIFIED:20180424T173443Z
UID:8799-1528567200-1528581600@wbtai.com
SUMMARY:UMMC Spring Gala
DESCRIPTION:United Memorial Medical Center Foundation spring Gala\, will be held Saturday\, June 9\, starting at 6pm\, in the Richard C. Call Arena\, GCC Batavia Campus. For tickets and more information\, call 922-1215.
URL:https://wbtai.com/calendars/ummc-spring-gala/
END:VEVENT
BEGIN:VEVENT
DTSTART;TZID=America/New_York:20180609T190000
DTEND;TZID=America/New_York:20180610T000000
DTSTAMP:20260420T030417
CREATED:20180224T202536Z
LAST-MODIFIED:20180224T202700Z
UID:7363-1528570800-1528588800@wbtai.com
SUMMARY:UMMC Foundation Gala
DESCRIPTION:United Memorial Medical Center Foundation annual Gala will be held at the Richard C. Call Arena on the GCC Batavia Campus\, Saturday\, June 9\, 6pm. Call 585-344-5300 for tickets and more information.
URL:https://wbtai.com/calendars/ummc-foundation-gala/
END:VEVENT
BEGIN:VEVENT
DTSTART;TZID=America/New_York:20180610T120000
DTEND;TZID=America/New_York:20180610T170000
DTSTAMP:20260420T030417
CREATED:20180509T150015Z
LAST-MODIFIED:20180605T185800Z
UID:9133-1528632000-1528650000@wbtai.com
SUMMARY:Godfrey's Pond Open House
DESCRIPTION:Genesee County Fish & Game Association will hold an open house at Godfrey’s Pond\, Griswold Road\, Sunday\, June 10th\, noon to 5pm.
URL:https://wbtai.com/calendars/godfreys-pond-open-house-chicken-bbq/
END:VEVENT
END:VCALENDAR