BEGIN:VCALENDAR
VERSION:2.0
PRODID:-//WBTA - ECPv6.14.0//NONSGML v1.0//EN
CALSCALE:GREGORIAN
METHOD:PUBLISH
X-WR-CALNAME:WBTA
X-ORIGINAL-URL:https://wbtai.com
X-WR-CALDESC:Events for WBTA
REFRESH-INTERVAL;VALUE=DURATION:PT1H
X-Robots-Tag:noindex
X-PUBLISHED-TTL:PT1H
BEGIN:VTIMEZONE
TZID:America/New_York
BEGIN:DAYLIGHT
TZOFFSETFROM:-0500
TZOFFSETTO:-0400
TZNAME:EDT
DTSTART:20220313T070000
END:DAYLIGHT
BEGIN:STANDARD
TZOFFSETFROM:-0400
TZOFFSETTO:-0500
TZNAME:EST
DTSTART:20221106T060000
END:STANDARD
END:VTIMEZONE
BEGIN:VEVENT
DTSTART;TZID=America/New_York:20220922T180000
DTEND;TZID=America/New_York:20220922T220000
DTSTAMP:20260421T194952
CREATED:20220915T171558Z
LAST-MODIFIED:20220915T171604Z
UID:31767-1663869600-1663884000@wbtai.com
SUMMARY:Reel Discussions
DESCRIPTION:Richmond Memorial Library\, 19 Ross Street\, Batavia\, will host reel discussions\, Thursday\, September 22\, starting at 6pm. Come view the movie\, ” Death on the Nile” and join the discussion afterwards. (Call 343-9550 for more information)
URL:https://wbtai.com/calendars/reel-discussions-36/
END:VEVENT
BEGIN:VEVENT
DTSTART;TZID=America/New_York:20220922T183000
DTEND;TZID=America/New_York:20220922T200000
DTSTAMP:20260421T194952
CREATED:20220808T181902Z
LAST-MODIFIED:20220808T182505Z
UID:31297-1663871400-1663876800@wbtai.com
SUMMARY:Validating End of Life Experiences
DESCRIPTION:The public is invited to register to attend a free seminar on Validating End of Life Experiences by Dr. Christopher Kerr\, of Hospice and Palliative Care Buffalo\, Thursday\, September 22\, 6:30pm at the Batavia First Presbyterian Church\, 300 East Main Street.  as there is limited seating.
URL:https://wbtai.com/calendars/validating-end-of-life-experiences/
END:VEVENT
BEGIN:VEVENT
DTSTART;TZID=America/New_York:20220923T190000
DTEND;TZID=America/New_York:20220923T220000
DTSTAMP:20260421T194952
CREATED:20220915T172558Z
LAST-MODIFIED:20220915T172610Z
UID:31773-1663959600-1663970400@wbtai.com
SUMMARY:LeRoy at OAE  Football
DESCRIPTION:Listen to WBTA live or streaming at wbtai.com for coverage of the LeRoy at Oakfield Alabama Elba High School Football\, Friday\, September 23\, 7pm.
URL:https://wbtai.com/calendars/leroy-at-oae-football/
END:VEVENT
BEGIN:VEVENT
DTSTART;TZID=America/New_York:20220924T100000
DTEND;TZID=America/New_York:20220925T150000
DTSTAMP:20260421T194952
CREATED:20220919T193605Z
LAST-MODIFIED:20220919T193612Z
UID:31832-1664013600-1664118000@wbtai.com
SUMMARY:Maryland Horse Haven Sale
DESCRIPTION:Maryland\, A haven for horses\, will hold a garage sale Saturday\, September 24\, and Sunday\, September 25th\, 10 to 3\, at 8132 West Bergen Road\, LeRoy.
URL:https://wbtai.com/calendars/maryland-horse-haven-sale/
END:VEVENT
BEGIN:VEVENT
DTSTART;TZID=America/New_York:20220924T120000
DTEND;TZID=America/New_York:20220924T190000
DTSTAMP:20260421T194952
CREATED:20220817T194837Z
LAST-MODIFIED:20220817T194843Z
UID:31401-1664020800-1664046000@wbtai.com
SUMMARY:St. Paul Golf Tournament
DESCRIPTION:Everyone is invited to register for the St. Paul Lutheran School Golf Tournament to be held Saturday\, September 24\, at Batavia Country Club. Check in at noon\, with a shotgun start of 1:30pm. Scramble format. Call Becca Hojnacki for more information and registration. (716-517-6640)
URL:https://wbtai.com/calendars/st-paul-golf-tournament/
END:VEVENT
BEGIN:VEVENT
DTSTART;TZID=America/New_York:20220924T150000
DTEND;TZID=America/New_York:20220924T180000
DTSTAMP:20260421T194952
CREATED:20220915T182726Z
LAST-MODIFIED:20220915T182732Z
UID:31795-1664031600-1664042400@wbtai.com
SUMMARY:Chicken & Biscuit Dinner
DESCRIPTION:York Baptist Church\, Main Street\, York\, will host a drive thru only chicken and biscuit dinner\, Saturday\, September 24\, 3pm to 6pm. Free for children five and under.
URL:https://wbtai.com/calendars/chicken-biscuit-dinner-6/
END:VEVENT
BEGIN:VEVENT
DTSTART;TZID=America/New_York:20220924T160000
DTEND;TZID=America/New_York:20220924T183000
DTSTAMP:20260421T194952
CREATED:20220915T182004Z
LAST-MODIFIED:20220915T182031Z
UID:31791-1664035200-1664044200@wbtai.com
SUMMARY:Prime Rib Dinner
DESCRIPTION:Elba United Methodist Church\, Chapel Street\, will host a prime rib dinner\, Saturday\, September 24\, 4pm to 6:30pm\, at the church. Free for children less than six years old. Eat in or take out. For reservations\, call 757-2224.
URL:https://wbtai.com/calendars/prime-rib-dinner-7/
END:VEVENT
BEGIN:VEVENT
DTSTART;TZID=America/New_York:20220925T100000
DTEND;TZID=America/New_York:20220925T110000
DTSTAMP:20260421T194952
CREATED:20220907T172129Z
LAST-MODIFIED:20220907T172129Z
UID:31646-1664100000-1664103600@wbtai.com
SUMMARY:Blessing of the animals
DESCRIPTION:Morganville United Church of Christ\, Stafford\, welcomes people to bring their animals or a picture of their animals to their blessing of the animals service Sunday\, September 25\, 10am.
URL:https://wbtai.com/calendars/blessing-of-the-animals/
END:VEVENT
BEGIN:VEVENT
DTSTART;TZID=America/New_York:20220929T180000
DTEND;TZID=America/New_York:20220929T210000
DTSTAMP:20260421T194952
CREATED:20220915T172843Z
LAST-MODIFIED:20220915T172901Z
UID:31775-1664474400-1664485200@wbtai.com
SUMMARY:OAE at York Pavilion Football
DESCRIPTION:Listen to WBTA or WBTAi.com for live coverage of the Oakfield Alabama Elba High School Football game as they take on York Pavilion\, 6pm\, Thursday\, September 29.
URL:https://wbtai.com/calendars/oae-at-york-pavilion-football/
END:VEVENT
BEGIN:VEVENT
DTSTART;TZID=America/New_York:20220930T190000
DTEND;TZID=America/New_York:20220930T200000
DTSTAMP:20260421T194952
CREATED:20220907T191334Z
LAST-MODIFIED:20220907T191354Z
UID:31664-1664564400-1664568000@wbtai.com
SUMMARY:HLOM West Side Ghosts
DESCRIPTION:Holland Land Office Museum will host Connie Boyd as she shares sinister and weird documented stories of Batavia’s West Side\, Friday\, September 30\, 7pm. Call 343-4727 for reservations.
URL:https://wbtai.com/calendars/hlom-west-side-ghosts/
END:VEVENT
BEGIN:VEVENT
DTSTART;TZID=America/New_York:20220930T190000
DTEND;TZID=America/New_York:20220930T220000
DTSTAMP:20260421T194952
CREATED:20220915T173118Z
LAST-MODIFIED:20220915T173127Z
UID:31777-1664564400-1664575200@wbtai.com
SUMMARY:Batavia High School Football
DESCRIPTION:Batavia takes on Pal-Mac Friday\, September 30\, 7pm\, at VanDetta Stadium. Listen live as WBTA broadcasts the game.
URL:https://wbtai.com/calendars/batavia-high-school-football-3/
END:VEVENT
BEGIN:VEVENT
DTSTART;TZID=America/New_York:20221001T090000
DTEND;TZID=America/New_York:20221001T140000
DTSTAMP:20260421T194952
CREATED:20220914T140628Z
LAST-MODIFIED:20220914T140634Z
UID:31733-1664614800-1664632800@wbtai.com
SUMMARY:Terrific Treasures Yard Sale
DESCRIPTION:Batavia First United Methodist Church\, Lewiston Road\, will host a terrific treasures yard sale\, Saturday\, October 1\, 9am to 2pm. No clothing. Bag sale starts at 1pm.
URL:https://wbtai.com/calendars/terrific-treasures-yard-sale/
END:VEVENT
BEGIN:VEVENT
DTSTART;TZID=America/New_York:20221001T100000
DTEND;TZID=America/New_York:20221001T120000
DTSTAMP:20260421T194952
CREATED:20220808T181406Z
LAST-MODIFIED:20220808T181420Z
UID:31295-1664618400-1664625600@wbtai.com
SUMMARY:Alzheimer's Walk
DESCRIPTION:Genesee and Wyoming Counties Walk to end Alzheimer’s will be held Saturday\, October 1\, 10am\, Dwyer Stadium. Register online.
URL:https://wbtai.com/calendars/alzheimers-walk/
END:VEVENT
BEGIN:VEVENT
DTSTART;TZID=America/New_York:20221001T120000
DTEND;TZID=America/New_York:20221001T180000
DTSTAMP:20260421T194952
CREATED:20220907T183932Z
LAST-MODIFIED:20220907T183950Z
UID:31654-1664625600-1664647200@wbtai.com
SUMMARY:Clam Chowder Sale
DESCRIPTION:The Corfu United Presbyterian Church\, 63 Alleghany Street\, will host a clam chowder and fund raiser\, Saturday\, October 1\, noon until 6pm. Eat in by the bowl or take out by the quart.
URL:https://wbtai.com/calendars/clam-chowder-sale-4/
END:VEVENT
BEGIN:VEVENT
DTSTART;TZID=America/New_York:20221001T130000
DTEND;TZID=America/New_York:20221001T150000
DTSTAMP:20260421T194952
CREATED:20220915T173350Z
LAST-MODIFIED:20220915T173401Z
UID:31779-1664629200-1664636400@wbtai.com
SUMMARY:Alexander at Notre Dame High School Football
DESCRIPTION:Listen to WBTA as we broadcast live the Alexander at Notre Dame High School Football game\, Saturday\, October 1\, 1pm.
URL:https://wbtai.com/calendars/alexander-at-notre-dame-high-school-football/
END:VEVENT
BEGIN:VEVENT
DTSTART;TZID=America/New_York:20221001T160000
DTEND;TZID=America/New_York:20221001T200000
DTSTAMP:20260421T194952
CREATED:20220830T173024Z
LAST-MODIFIED:20220830T173039Z
UID:31562-1664640000-1664654400@wbtai.com
SUMMARY:Wine Walk
DESCRIPTION:Batavia Business Improvement District will host the Wine Walk in downtown Batavia\, Saturday\, October 1\, 4pm to 8pm. Dead Celebrity is this year’s theme. Contact Shannon at the BID for more information and tickets.
URL:https://wbtai.com/calendars/wine-walk-4/
END:VEVENT
BEGIN:VEVENT
DTSTART;TZID=America/New_York:20221001T170000
DTEND;TZID=America/New_York:20221001T220000
DTSTAMP:20260421T194953
CREATED:20220830T172648Z
LAST-MODIFIED:20220830T172654Z
UID:31560-1664643600-1664661600@wbtai.com
SUMMARY:Oktoberfest
DESCRIPTION:Ascension Parish\, Sumner Street\, Batavia\, will host Oktoberfest\, Saturday\, October 1\, 5pm to 10pm. Tickets pre-sale ONLY. Live entertainment\, food\, drink.
URL:https://wbtai.com/calendars/oktoberfest/
END:VEVENT
BEGIN:VEVENT
DTSTART;TZID=America/New_York:20221002T080000
DTEND;TZID=America/New_York:20221002T120000
DTSTAMP:20260421T194953
CREATED:20220907T185902Z
LAST-MODIFIED:20220907T185909Z
UID:31658-1664697600-1664712000@wbtai.com
SUMMARY:Run for the ACORNS
DESCRIPTION:Register on line for the 5k or 10K run for the ACORNS to be held Sunday\, October 2\, at the Genesee County Park and Forest. Run check in starts at 8am. Race kicks off at 9am.
URL:https://wbtai.com/calendars/run-for-the-acorns/
END:VEVENT
BEGIN:VEVENT
DTSTART;TZID=America/New_York:20221007T190000
DTEND;TZID=America/New_York:20221007T200000
DTSTAMP:20260421T194953
CREATED:20220907T191643Z
LAST-MODIFIED:20220907T191649Z
UID:31666-1665169200-1665172800@wbtai.com
SUMMARY:West Side Ghost Walks
DESCRIPTION:Holland Land Office Museum will host West Side Batavia Ghost Walks with Connie\, on  Fridays\, in October\, (October 7\, 14\, 21\, and 28) at 7pm. Call 343-4727 for reservations.
URL:https://wbtai.com/calendars/west-side-ghost-walks-2/
END:VEVENT
BEGIN:VEVENT
DTSTART;TZID=America/New_York:20221007T193000
DTEND;TZID=America/New_York:20221007T220000
DTSTAMP:20260421T194953
CREATED:20220915T173617Z
LAST-MODIFIED:20220915T173628Z
UID:31781-1665171000-1665180000@wbtai.com
SUMMARY:Vertus at LeRoy High School Football
DESCRIPTION:Listen to WBTA live or on the stream at WBTAi.com as LeRoy takes on Vertus in High School Football match up\, Friday\, October 7\, 7:30pm.
URL:https://wbtai.com/calendars/vertus-at-leroy-high-school-football/
END:VEVENT
BEGIN:VEVENT
DTSTART;TZID=America/New_York:20221008T080000
DTEND;TZID=America/New_York:20221008T110000
DTSTAMP:20260421T194953
CREATED:20220907T171621Z
LAST-MODIFIED:20220907T171653Z
UID:31644-1665216000-1665226800@wbtai.com
SUMMARY:WBTA Really BIG Radio Auction
DESCRIPTION:WBTA Really BIG Radio Auction returns Saturday\, October 8\, 8am! Keep checking out the website for items going up for bid and get ready for Halloween and welcome fall!
URL:https://wbtai.com/calendars/wbta-really-big-radio-auction-3/
END:VEVENT
BEGIN:VEVENT
DTSTART;TZID=America/New_York:20221009T160000
DTEND;TZID=America/New_York:20221009T180000
DTSTAMP:20260421T194953
CREATED:20220707T144957Z
LAST-MODIFIED:20220707T145006Z
UID:30850-1665331200-1665338400@wbtai.com
SUMMARY:Genesee Symphony Orchestra
DESCRIPTION:Genesee Symphony Orchestra opens the new concert season\, Sunday\, October 9\, 4pm\, in the Stuart Steiner Theatre at GCC\, Batavia Campus. Music from Dvorak and Ginastera will be featured. Tickets available at the box office.
URL:https://wbtai.com/calendars/genesee-symphony-orchestra-2/
END:VEVENT
BEGIN:VEVENT
DTSTART;TZID=America/New_York:20221011T100000
DTEND;TZID=America/New_York:20221011T130000
DTSTAMP:20260421T194953
CREATED:20220922T151907Z
LAST-MODIFIED:20220922T151928Z
UID:31874-1665482400-1665493200@wbtai.com
SUMMARY:Civil Service Job Fair
DESCRIPTION:Genesee County Career Center will host a civil service job fair\, Tuesday\, October 11\, 10am to 1pm at 587 East Main Street\, Batavia.
URL:https://wbtai.com/calendars/civil-service-job-fair/
END:VEVENT
BEGIN:VEVENT
DTSTART;TZID=America/New_York:20221011T190000
DTEND;TZID=America/New_York:20221011T200000
DTSTAMP:20260421T194953
CREATED:20220929T150513Z
LAST-MODIFIED:20220929T150518Z
UID:31955-1665514800-1665518400@wbtai.com
SUMMARY:Batavia Artists
DESCRIPTION:Batavia Society of Artists will host Julie Lambert\, Tuesday\, October 11\, 7pm\, at Go Art\, in a demonstration on how she creates handmade paper.
URL:https://wbtai.com/calendars/batavia-artists-3/
END:VEVENT
BEGIN:VEVENT
DTSTART;TZID=America/New_York:20221013T160000
DTEND;TZID=America/New_York:20221013T180000
DTSTAMP:20260421T194953
CREATED:20220908T195128Z
LAST-MODIFIED:20220908T195135Z
UID:31686-1665676800-1665684000@wbtai.com
SUMMARY:Anti Rabies Clinic
DESCRIPTION:Genesee County Health Dept. will host a free drive thru anti rabies immunization clinic Thursday\, October 13\, 4pm to 6pm\, at the Genesee County Fairgrounds\, Batavia. There is a limit of 4 pets per car and each dog\, cat\, or ferret must be at lest 3 month old. An adult who can control the animal must be present.
URL:https://wbtai.com/calendars/anti-rabies-clinic-13/
END:VEVENT
BEGIN:VEVENT
DTSTART;TZID=America/New_York:20221014T190000
DTEND;TZID=America/New_York:20221014T200000
DTSTAMP:20260421T194953
CREATED:20220907T191923Z
LAST-MODIFIED:20220907T192040Z
UID:31668-1665774000-1665777600@wbtai.com
SUMMARY:West Side Ghost Walks
DESCRIPTION:Holland Land Office Museum will host Connie Boyd as she walks you through Batavia’s West Side with tales of murders\, hangings\, robbery\, and eerie happenings\, Fridays in October\, 7pm. Call 343-4727 for reservations.
URL:https://wbtai.com/calendars/west-side-ghost-walks-3/
END:VEVENT
BEGIN:VEVENT
DTSTART;TZID=America/New_York:20221014T193000
DTEND;TZID=America/New_York:20221014T210000
DTSTAMP:20260421T194953
CREATED:20220915T173833Z
LAST-MODIFIED:20220915T173850Z
UID:31783-1665775800-1665781200@wbtai.com
SUMMARY:Batavia High School Football
DESCRIPTION:WBTA will carry live the Batavia High School away football game\, Friday\, October 14\, 7:30pm.
URL:https://wbtai.com/calendars/batavia-high-school-football-4/
END:VEVENT
BEGIN:VEVENT
DTSTART;TZID=America/New_York:20221015T083000
DTEND;TZID=America/New_York:20221015T120000
DTSTAMP:20260421T194953
CREATED:20220809T144324Z
LAST-MODIFIED:20220809T144514Z
UID:31304-1665822600-1665835200@wbtai.com
SUMMARY:Run until their voices are heard
DESCRIPTION:YWCA will host run until their voices are heard 5K for Domestic Violence Awareness\, Saturday\, October 15. Registration opens at 8:30am rain or shine. Race starts at 9am from the YWCA\, 301 North Street\, Batavia. Register online.
URL:https://wbtai.com/calendars/run-until-their-voices-are-heard/
END:VEVENT
BEGIN:VEVENT
DTSTART;TZID=America/New_York:20221015T130000
DTEND;TZID=America/New_York:20221015T150000
DTSTAMP:20260421T194953
CREATED:20220915T174109Z
LAST-MODIFIED:20220915T174138Z
UID:31785-1665838800-1665846000@wbtai.com
SUMMARY:OAE Football
DESCRIPTION:Oakfield Alabama Elba high school football plays at home Saturday\, October 15\, and WBTA will broadcast the game live and stream on WBTAi.com\, starting at 1pm.
URL:https://wbtai.com/calendars/oae-football-2/
END:VEVENT
BEGIN:VEVENT
DTSTART;TZID=America/New_York:20221015T160000
DTEND;TZID=America/New_York:20221015T180000
DTSTAMP:20260421T194953
CREATED:20220929T155246Z
LAST-MODIFIED:20220929T155252Z
UID:31966-1665849600-1665856800@wbtai.com
SUMMARY:Ham Dinner\, Bazaar\, & Bake Sale
DESCRIPTION:Covington United Methodist Church\, 1557 Simmons Road\, will hold a ham dinner\, bazaar\, and bake sale\, Saturday\, October 15\, starting at 4pm. take outs available.
URL:https://wbtai.com/calendars/ham-dinner-bazaar-bake-sale/
END:VEVENT
END:VCALENDAR