BEGIN:VCALENDAR
VERSION:2.0
PRODID:-//WBTA - ECPv6.14.0//NONSGML v1.0//EN
CALSCALE:GREGORIAN
METHOD:PUBLISH
X-ORIGINAL-URL:https://wbtai.com
X-WR-CALDESC:Events for WBTA
REFRESH-INTERVAL;VALUE=DURATION:PT1H
X-Robots-Tag:noindex
X-PUBLISHED-TTL:PT1H
BEGIN:VTIMEZONE
TZID:America/New_York
BEGIN:DAYLIGHT
TZOFFSETFROM:-0500
TZOFFSETTO:-0400
TZNAME:EDT
DTSTART:20240310T070000
END:DAYLIGHT
BEGIN:STANDARD
TZOFFSETFROM:-0400
TZOFFSETTO:-0500
TZNAME:EST
DTSTART:20241103T060000
END:STANDARD
END:VTIMEZONE
BEGIN:VEVENT
DTSTART;TZID=America/New_York:20240719T180000
DTEND;TZID=America/New_York:20240719T180000
DTSTAMP:20260420T041132
CREATED:20240710T130627Z
LAST-MODIFIED:20240710T130627Z
UID:43067-1721412000-1721412000@wbtai.com
SUMMARY:ALA Grand Opening
DESCRIPTION:July 19th\, at 6:00pm is the grand opening for ALA Stevens Sensory Station and The Anne Rupert Memorial Children’s Room at the Stevens Memorial Community Library with a handprint ribbon cutting.  All are welcome to join.
URL:https://wbtai.com/calendars/ala-grand-opening/
END:VEVENT
BEGIN:VEVENT
DTSTART;TZID=America/New_York:20240719T190000
DTEND;TZID=America/New_York:20240719T210000
DTSTAMP:20260420T041132
CREATED:20240703T151126Z
LAST-MODIFIED:20240703T151126Z
UID:43024-1721415600-1721422800@wbtai.com
SUMMARY:Downtown Batavia Concert Series in Jackson Square
DESCRIPTION:Downtown Batavia Concert Series in Jackson Square presents a Free Concert July 19th with the SkyCats from 7-9pm
URL:https://wbtai.com/calendars/downtown-batavia-concert-series-in-jackson-square/
END:VEVENT
BEGIN:VEVENT
DTSTART;TZID=America/New_York:20240720T180000
DTEND;TZID=America/New_York:20240720T210000
DTSTAMP:20260420T041132
CREATED:20240703T144557Z
LAST-MODIFIED:20240703T144557Z
UID:43011-1721498400-1721509200@wbtai.com
SUMMARY:Summer Sounds and Grooves Concert Series
DESCRIPTION:Summer Sounds and Grooves Concert Series in Jackson Square welcomes the Doyle Brothers July 20th from 6pm-9pm.
URL:https://wbtai.com/calendars/summer-sounds-and-grooves-concert-series/
END:VEVENT
BEGIN:VEVENT
DTSTART;TZID=America/New_York:20240725T080000
DTEND;TZID=America/New_York:20240725T080000
DTSTAMP:20260420T041132
CREATED:20240702T141223Z
LAST-MODIFIED:20240702T141223Z
UID:42993-1721894400-1721894400@wbtai.com
SUMMARY:Golfing for Gateway Home Comfort Care
DESCRIPTION:Golfing for Gateway Home Comfort Care\n7th Annual Golf Tournament   July 25th 2024\, registration starts at 8am\nFormat: 18 Hole Scramble:    $100 per golfer or $400 per team\nEntry deadline:     July 15th or until sold out (only 22 teams) \nLocation:   Quiet Times Golf Course  2220 Stedman Rd.  Attica\, NY 14011\nAll proceeds to benefit:  Gateway Home\, 91 Main St\, Attica\, NY 14011\, Questions? Call Sue at (585) 739-7482
URL:https://wbtai.com/calendars/golfing-for-gateway-home-comfort-care/
END:VEVENT
BEGIN:VEVENT
DTSTART;TZID=America/New_York:20240725T183000
DTEND;TZID=America/New_York:20240725T210000
DTSTAMP:20260420T041132
CREATED:20240620T143350Z
LAST-MODIFIED:20240620T143350Z
UID:42946-1721932200-1721941200@wbtai.com
SUMMARY:Bobby is Back!
DESCRIPTION:The Elba Betterment Committee is so looking forward to local musician Bobby and the Pedestrians back to the Village Park for our summer concert series.  Thursday\, July 25.  The music starts at 6:30.  Starting at 5:30 you can enjoy food and beverages from Islands Hawaiian Grill\, Agatina’s Italian Restaurant\, Lizzies Ice Cream Truck and Circle B Winery.
URL:https://wbtai.com/calendars/bobby-is-back/
END:VEVENT
BEGIN:VEVENT
DTSTART;TZID=America/New_York:20240726T190000
DTEND;TZID=America/New_York:20240726T210000
DTSTAMP:20260420T041132
CREATED:20240703T151231Z
LAST-MODIFIED:20240703T151231Z
UID:43026-1722020400-1722027600@wbtai.com
SUMMARY:Downtown Batavia Concert Series in Jackson Square
DESCRIPTION:Downtown Batavia Concert Series in Jackson Square presents a Free Concert July 26th with the CreekBend Band from 7-9pm
URL:https://wbtai.com/calendars/downtown-batavia-concert-series-in-jackson-square-2/
END:VEVENT
BEGIN:VEVENT
DTSTART;TZID=America/New_York:20240728T110000
DTEND;TZID=America/New_York:20240728T160000
DTSTAMP:20260420T041132
CREATED:20240702T141616Z
LAST-MODIFIED:20240702T141616Z
UID:42995-1722164400-1722182400@wbtai.com
SUMMARY:Junkyard Reunion
DESCRIPTION:All antiques and classic cars of any kind are welcome\, No Fees just Fun at the Vincent Almeter Memorial Park\, Route 98\, Varysburg\, NY on Sunday\, July 28\, 2024 from 11am-4pm to benefit Gateway Home.
URL:https://wbtai.com/calendars/junkyard-reunion/
END:VEVENT
BEGIN:VEVENT
DTSTART;TZID=America/New_York:20240801T173000
DTEND;TZID=America/New_York:20240801T210000
DTSTAMP:20260420T041132
CREATED:20240620T143717Z
LAST-MODIFIED:20240620T143717Z
UID:42951-1722533400-1722546000@wbtai.com
SUMMARY:Batavia Swing Band
DESCRIPTION:Join The Elba Betterment Committee on August 1 – is the Batavia Swing Band.  A professional 17 piece jazz/swing band\, they will be bringing us everything from standard jazz and swing tunes to more modern and contemporary sounds.  The fun begins with food and beverages from Agatina’s Italian Restaurant\, More Than A Mouthful\,  Ice Cream and Chill and Circle B Winery starting at 5:30 with the music starting at 6:30.
URL:https://wbtai.com/calendars/batavia-swing-band/
END:VEVENT
BEGIN:VEVENT
DTSTART;TZID=America/New_York:20240802T090000
DTEND;TZID=America/New_York:20240802T150000
DTSTAMP:20260420T041132
CREATED:20240502T164805Z
LAST-MODIFIED:20240502T164805Z
UID:42772-1722589200-1722610800@wbtai.com
SUMMARY:Kids Day Out
DESCRIPTION:Kids Days Out – Sponsored by the New York State Grange Camp Program is for Children aged 7 – 17 years (5 – 6 years old if parent attends with child).  $20.00 per child\, Friday August 2\, 2024\, 9 AM – 3 PM at the Corfu Grange 73 Allegany Road Corfu\, NY 14036.  Attendees will enjoy a day of fun by participating in games\, crafts\, community service activity\, leadership activity\, and rocketry. A kid friendly Iunch will be served. Parents are welcome to stay the day as well (Lunch will be $5.oo per adult).  Registrations must be received by July 1.  No late registrations will be considered.  For more information and/or a registration form\, pIease contact Don Koepf 716-994-2036.
URL:https://wbtai.com/calendars/kids-day-out/
END:VEVENT
BEGIN:VEVENT
DTSTART;TZID=America/New_York:20240802T190000
DTEND;TZID=America/New_York:20240802T210000
DTSTAMP:20260420T041132
CREATED:20240703T151400Z
LAST-MODIFIED:20240703T151400Z
UID:43028-1722625200-1722632400@wbtai.com
SUMMARY:Downtown Batavia Concert Series in Jackson Square
DESCRIPTION:Downtown Batavia Concert Series in Jackson Square presents a Free Concert August 2nd with Don Newcomb from 7-9pm
URL:https://wbtai.com/calendars/downtown-batavia-concert-series-in-jackson-square-3/
END:VEVENT
BEGIN:VEVENT
DTSTART;TZID=America/New_York:20240803T180000
DTEND;TZID=America/New_York:20240803T210000
DTSTAMP:20260420T041132
CREATED:20240703T144931Z
LAST-MODIFIED:20240703T144931Z
UID:43013-1722708000-1722718800@wbtai.com
SUMMARY:Summer Sounds and Grooves Concert Series
DESCRIPTION:Summer Sounds and Grooves Concert Series in Jackson Square presents Strictly Hip on August 3rd from 6pm-9pm.
URL:https://wbtai.com/calendars/summer-sounds-and-grooves-concert-series-2/
END:VEVENT
BEGIN:VEVENT
DTSTART;TZID=America/New_York:20240803T183000
DTEND;TZID=America/New_York:20240803T203000
DTSTAMP:20260420T041132
CREATED:20240712T165613Z
LAST-MODIFIED:20240712T165613Z
UID:43085-1722709800-1722717000@wbtai.com
SUMMARY:Music in the Park
DESCRIPTION:Genesee County Parks\, Recreation and Forestry\, Presented by the Genesee County ACORNS presents Music in the Park\, Saturday\, August 3rd from 6:30pm-8:30pm at the DeWitt Recreation Area\, Pavaillion 2.
URL:https://wbtai.com/calendars/music-in-the-park-3/
END:VEVENT
BEGIN:VEVENT
DTSTART;TZID=America/New_York:20240805T090000
DTEND;TZID=America/New_York:20240808T110000
DTSTAMP:20260420T041132
CREATED:20240712T164856Z
LAST-MODIFIED:20240712T164856Z
UID:43083-1722848400-1723114800@wbtai.com
SUMMARY:Summer Camp at Batavia First Presbyterian Church
DESCRIPTION:Summer Camp \nVBS at Batavia First Presbyterian Church \nAugust 5-8th \n9-11amCampers Ages: Preschool-5th grade \nRegister at www.fpcbatavia.org
URL:https://wbtai.com/calendars/summer-camp-at-batavia-first-presbyterian-church/
END:VEVENT
BEGIN:VEVENT
DTSTART;TZID=America/New_York:20240808T120000
DTEND;TZID=America/New_York:20240808T130000
DTSTAMP:20260420T041132
CREATED:20240711T170032Z
LAST-MODIFIED:20240711T170032Z
UID:43071-1723118400-1723122000@wbtai.com
SUMMARY:Free Garden Talk Series
DESCRIPTION:Join the Genesee County Master Gardeners for their monthly Garden Talk programs on August 8 with “What are Weeds Good For?” Master Gardener Kate to learn some of the fascinating aspects of the weeds we find in our landscapes. \nGarden Talk programs start at Noon and can be 30 to 60 minutes long\, depending on the topic.  This free series is open to all\, but registration is required.  You can attend in person at the CCE office (420 East Main Street\, Batavia) or via Zoom.  To register for a Zoom link\, visit our Cornell Cooperative Extension of Genesee County website at http://genesee.cce.cornell.edu/events.
URL:https://wbtai.com/calendars/free-garden-talk-series-5/
END:VEVENT
BEGIN:VEVENT
DTSTART;TZID=America/New_York:20240808T173000
DTEND;TZID=America/New_York:20240808T210000
DTSTAMP:20260420T041132
CREATED:20240620T144046Z
LAST-MODIFIED:20240620T144046Z
UID:42953-1723138200-1723150800@wbtai.com
SUMMARY:The Elba Betterment Committee
DESCRIPTION:The Elba Betterment Committee will be presenting our fifth and final concert of our summer series in a setting that only Elba can create.  July 8 \,  The Elba Village Park\, Genesee Ted and our annual kids bash with Torrey Farms and Good Tymes Party rentals. The fun begins at 5:30 with music at 6:30.  There will be bounce houses and games\, and whatever fun the Torreys are planning.   The Elba Betterment Committee will be presenting our fifth and final concert of our summer series in a setting that only Elba can create.  July 8 \,  The Elba Village Park\, Genesee Ted and our annual kids bash with Torrey Farms and Good Tymes Party rentals. The fun begins at 5:30 with music at 6:30.  There will be bounce houses and games\, and whatever fun the Torreys are planning.
URL:https://wbtai.com/calendars/the-elba-betterment-committee/
END:VEVENT
BEGIN:VEVENT
DTSTART;TZID=America/New_York:20240809T190000
DTEND;TZID=America/New_York:20240809T210000
DTSTAMP:20260420T041132
CREATED:20240703T151502Z
LAST-MODIFIED:20240703T151502Z
UID:43030-1723230000-1723237200@wbtai.com
SUMMARY:Downtown Batavia Concert Series in Jackson Square
DESCRIPTION:Downtown Batavia Concert Series in Jackson Square presents a Free Concert August 9th with the Free Beer from 7-9pm
URL:https://wbtai.com/calendars/downtown-batavia-concert-series-in-jackson-square-4/
END:VEVENT
BEGIN:VEVENT
DTSTART;TZID=America/New_York:20240810T090000
DTEND;TZID=America/New_York:20240811T160000
DTSTAMP:20260420T041132
CREATED:20240510T170207Z
LAST-MODIFIED:20240510T170207Z
UID:42856-1723280400-1723392000@wbtai.com
SUMMARY:Purple Pony Treasure Sale
DESCRIPTION:Join in this years Treasure Sale\, Sponsored by Batavia Downs\, on August 10th and the 11th from 9am to 4pm at 8321 Lake Street Road\, LeRoy\, NY 14482.  Donations will be accepted at the barn after July 1\, 2024.  For information please go to purplepony.org.
URL:https://wbtai.com/calendars/purple-pony-treasure-sale/
END:VEVENT
BEGIN:VEVENT
DTSTART;TZID=America/New_York:20240810T090000
DTEND;TZID=America/New_York:20240811T160000
DTSTAMP:20260420T041132
CREATED:20240627T150356Z
LAST-MODIFIED:20240627T150356Z
UID:42976-1723280400-1723392000@wbtai.com
SUMMARY:Purple Pony Therapeutic Horsemanship
DESCRIPTION:There will be a Treasure Sale\, Saturday and Sunday\, August 10th and 11th from 9am to 4pm at 8321 Lake Street Road (Route 19)\, LeRoy NY 14482.  This event will be an indoor sale with all proceeds benefiting Purple Pony Therapeutic Horsemanship.  Go to purplepony.org/ for more details.
URL:https://wbtai.com/calendars/purple-pony-therapeutic-horsemanship/
END:VEVENT
BEGIN:VEVENT
DTSTART;TZID=America/New_York:20240810T100000
DTEND;TZID=America/New_York:20240810T150000
DTSTAMP:20260420T041132
CREATED:20240710T130102Z
LAST-MODIFIED:20240710T130102Z
UID:43065-1723284000-1723302000@wbtai.com
SUMMARY:Hogs For Paws
DESCRIPTION:On Saturday\, August 10th from 10am-3pm is the annual Hogs for Paws event at Stan’s Harley Davison.  Items such as dog/cat food\, small blankets and beds\, non-clumping kitty litter\, cleaning supplies and monetary donations are accepted and go twards the Volunteers for Animals and Spaying and Neutering animals prior to adoption.
URL:https://wbtai.com/calendars/hogs-for-paws-4/
END:VEVENT
BEGIN:VEVENT
DTSTART;TZID=America/New_York:20240810T160000
DTEND;TZID=America/New_York:20240810T210000
DTSTAMP:20260420T041132
CREATED:20240703T145233Z
LAST-MODIFIED:20240703T145233Z
UID:43016-1723305600-1723323600@wbtai.com
SUMMARY:Summer Sounds and Grooves Concert Series
DESCRIPTION:Summer Sounds and Grooves Concert Series in Jackson Square presents a Bloc Party with the Ohms band and Jumbo Shrimp.  The Party Starts at 4pm and goes until 9pm.
URL:https://wbtai.com/calendars/summer-sounds-and-grooves-concert-series-3/
END:VEVENT
BEGIN:VEVENT
DTSTART;TZID=America/New_York:20240811T120000
DTEND;TZID=America/New_York:20240811T160000
DTSTAMP:20260420T041132
CREATED:20240729T164224Z
LAST-MODIFIED:20240729T164224Z
UID:43140-1723377600-1723392000@wbtai.com
SUMMARY:Cornhole Tournament and Basket Raffle Fundraiser
DESCRIPTION:Cornhole Tournament and Basket Raffle Fundraiser to Benefit Cherry Hill Farm Sanctuary on August 11th\, 12-4pm\, at Lancaster Elk Lodge3 #1478 33 Legion Pkwy\, Lancaster\, NY 14086.  The cost is $25 per person\, free for spectators and basket raffle.  Register or for information call or text 716-901-3445.
URL:https://wbtai.com/calendars/cornhole-tournament-and-basket-raffle-fundraiser/
END:VEVENT
BEGIN:VEVENT
DTSTART;TZID=America/New_York:20240816T190000
DTEND;TZID=America/New_York:20240816T210000
DTSTAMP:20260420T041132
CREATED:20240703T151612Z
LAST-MODIFIED:20240703T151612Z
UID:43032-1723834800-1723842000@wbtai.com
SUMMARY:Downtown Batavia Concert Series
DESCRIPTION:Downtown Batavia Concert Series in Jackson Square presents a Free Concert August 16th with the Ohms Band from 7-9pm
URL:https://wbtai.com/calendars/downtown-batavia-concert-series/
END:VEVENT
BEGIN:VEVENT
DTSTART;TZID=America/New_York:20240817T080000
DTEND;TZID=America/New_York:20240818T170000
DTSTAMP:20260420T041132
CREATED:20240808T150510Z
LAST-MODIFIED:20240808T150510Z
UID:43178-1723881600-1724000400@wbtai.com
SUMMARY:Fiddlers' Fair and Making Music Weekend at the GCVM
DESCRIPTION:Come for a weekend of nonstop entertainment at Genesee Country Village and Museum\, August 17th and 18th for the Fiddlers Fair and Making Music Weekend.  Have some food and drinks and surround yourself in live performances around the Museum grounds.  Information and Tickets available at GCV.org
URL:https://wbtai.com/calendars/fiddlers-fair-and-making-music-weekend-at-the-gcvm/
END:VEVENT
BEGIN:VEVENT
DTSTART;TZID=America/New_York:20240817T180000
DTEND;TZID=America/New_York:20240817T210000
DTSTAMP:20260420T041132
CREATED:20240703T150024Z
LAST-MODIFIED:20240703T150049Z
UID:43018-1723917600-1723928400@wbtai.com
SUMMARY:Summer Sounds and Grooves Concert Series
DESCRIPTION:Summer Sounds and Grooves Concert Series in Jackson Square presents the SongBirds on August 17th from 6pm-9pm.
URL:https://wbtai.com/calendars/summer-sounds-and-grooves-concert-series-4/
END:VEVENT
BEGIN:VEVENT
DTSTART;TZID=America/New_York:20240823T190000
DTEND;TZID=America/New_York:20240823T210000
DTSTAMP:20260420T041132
CREATED:20240703T151726Z
LAST-MODIFIED:20240703T151726Z
UID:43034-1724439600-1724446800@wbtai.com
SUMMARY:Downtown Batavia Concert Series
DESCRIPTION:Downtown Batavia Concert Series in Jackson Square presents a Free Concert August 23rd with the Old Hippies from 7-9pm
URL:https://wbtai.com/calendars/downtown-batavia-concert-series-2/
END:VEVENT
BEGIN:VEVENT
DTSTART;TZID=America/New_York:20240827T170000
DTEND;TZID=America/New_York:20240827T180000
DTSTAMP:20260420T041132
CREATED:20240801T134818Z
LAST-MODIFIED:20240801T134818Z
UID:43153-1724778000-1724781600@wbtai.com
SUMMARY:Firearm Safety for Suicide Prevention
DESCRIPTION:Firearm Safety for Suicide Prevention will be August 27th from 5:00-6:00\, at Glenn Loomis American\, Legion Post 332\, Alexander Rd. Batavia\, NY 14020.  This event is open to the public and free to attend.  Learn about firearms\, safe storage\, and how to have a conversation.  Email sara.andrew@va.gov to register by August 26\, or for more information.
URL:https://wbtai.com/calendars/firearm-safety-for-suicide-prevention/
END:VEVENT
BEGIN:VEVENT
DTSTART;TZID=America/New_York:20240829T100000
DTEND;TZID=America/New_York:20240829T160000
DTSTAMP:20260420T041132
CREATED:20240815T140951Z
LAST-MODIFIED:20240815T140951Z
UID:43202-1724925600-1724947200@wbtai.com
SUMMARY:Cancer Services Program Cultural Event
DESCRIPTION:Cancer Services Program Cultural Event on August 29th\, 10am-4pm at the Dept. of Health 3837 W. Main St. Rd. Batavia.  Guest Speakers will include Representing Indigenous\, African-American\, and Latino Culters.  RSVP to Wendy Armstrong at 585-344-8194.
URL:https://wbtai.com/calendars/cancer-services-program-cultural-event/
END:VEVENT
BEGIN:VEVENT
DTSTART;TZID=America/New_York:20240830T190000
DTEND;TZID=America/New_York:20240830T210000
DTSTAMP:20260420T041132
CREATED:20240703T151841Z
LAST-MODIFIED:20240703T151841Z
UID:43036-1725044400-1725051600@wbtai.com
SUMMARY:Downtown Batavia Concert Series
DESCRIPTION:Downtown Batavia Concert Series in Jackson Square presents a Free Concert August 30th with the Bluesway Band from 7-9pm
URL:https://wbtai.com/calendars/downtown-batavia-concert-series-3/
END:VEVENT
BEGIN:VEVENT
DTSTART;TZID=America/New_York:20240831T090000
DTEND;TZID=America/New_York:20240902T220000
DTSTAMP:20260420T041132
CREATED:20240828T163823Z
LAST-MODIFIED:20240828T163823Z
UID:43250-1725094800-1725314400@wbtai.com
SUMMARY:Oakfield Labor Daze
DESCRIPTION:Come out to the Village of Oakfield at the Triangle Park August 31st thru Sept. 2\, from 9:00am to 10:00pm. \nThere will be a variety of food vendors\, Music and events to enjoy. \nParade is Monday at 10am\, Fireworks to follow live music Sunday night.
URL:https://wbtai.com/calendars/oakfield-labor-daze-5/
END:VEVENT
BEGIN:VEVENT
DTSTART;TZID=America/New_York:20240831T140000
DTEND;TZID=America/New_York:20240901T233000
DTSTAMP:20260420T041132
CREATED:20240813T170856Z
LAST-MODIFIED:20240813T170856Z
UID:43198-1725112800-1725233400@wbtai.com
SUMMARY:Wings over Batavia Air Show
DESCRIPTION:The Wings over Batavia Air Show returns to New York August 31st – September 1st at the Batavia Airport. \nWhat:  The 2024 Wings over Batavia Air Show (www.wingsoverbatavia.com) \nWhen:  August 31 – September 1\, gates open at 2 p.m.\, performances run to 9 p.m. \nWhere:  Batavia Airport\, 4701 E. Saile Dr\, Batavia\, NY 14020
URL:https://wbtai.com/calendars/wings-over-batavia-air-show-2/
END:VEVENT
END:VCALENDAR